Workbook

Sheet Site Info
A1: AHTF Application: Site Info
A2: Project Name: | H2: Project County:
A3: Project Tenant Population:
A5: Property Address | B5: Municipality | C5: Zip Code | D5: Block | E5: Lot | F5: # Units | G5: Construction Type | H5: Building Type | I5: Residential Square Footage | J5: Gross Square Footage | K5: Census Tract | L5: QCT or DDA | M5: Urban Aid Muni | N5: Approved Plan
E16: Total | F16: =SUM(F6:F15) -> 0 | I16: =SUM(I6:I15) -> 0 | J16: =SUM(J6:J15) -> 0

Sheet Construction Summary
A1: AHTF Application: Construction Summary
A2: ='Site Info'!B2 -> 0
A3: 1. Are architectural drawings required for the proposed work?
A4: 2. Is this Cost Estimate based on final approved architectural drawings?
A5: 3. Is this Cost Estimate based on a Preliminary or Final Estimate?
A6: 4. What is the level of construction work to be undertaken? A. Moderate Rehabilitation – replacement of interior finishes/components i.e. flooring, cabinets, etc. that does not impact any other component or system of the existing building. B. Substantial Rehabilitation – replacement of interior finishes/components that involves the removal of any constructed finish i.e. gypsum wall board, subflooring, etc. or repair/replacement of two or more major systems. C. Gut Rehabilitation – renovation that includes the total removal/replacement of all interior (nonstructural) systems, equipment, components, or features. D. New Construction
A7: 5. Will the project be rehabilitated or newly constructed and certified Energy Star?
A9: 6. What is the typical square footage for each unit based on bedroom size? If units vary in size, enter in the average square footage for each unit type. Ex. If Layout A for 1 Bedroom is 700 SF, Layout B for 1 Bedroom is 800 SF the average is 750 SF. Please enter a numerical value only.
A10: SRO
A11: Studio
A12: 1 Bedroom | B12: 1 Bedroom
A13: 2 Bedroom | B13: 2 Bedroom
A14: 3 Bedroom | B14: 3 Bedroom
A16: 7. What is the building's gross square footage?
A17: 8. If the project is mixed use, enter the square footage of non-residential commercial, retail, office spaces (do not include residential leasing/property management office).
A18: 9. What is the construction cost attributed to non-residential commercial, retail, office spaces?
A19: 10. What is the construction cost of the entire project? (Must Match with Total Construction on Development Budget)
A21: Utilities Questionnaire: Please select from the dropdown menu the source of fuel sources for each utility and if the tenant is responsible for payment of the utility.
A22: Utility | B22: Fuel Source | C22: Tenant Paid
A23: Heat
A24: Hot Water
A25: Cooking
A26: Other Electricity | B26: Electric
A27: Central Air Conditioning
A28: Water/Sewer | B28: Water/Sewer
A30: Developer Comments:

Sheet Development Budget
A1: AHTF Application: Development Budget
A2: ='Site Info'!B2 -> 0
A3: ACQUISITION | B3: AHTF | C3: Other Sources | D3: Total
A4: Land | B4: 0 | C4: 0 | D4: =SUM(B4:C4) -> 0
A5: Structures | B5: 0 | C5: 0 | D5: =SUM(B5:C5) -> 0
A6: Total Acquisition | B6: =SUM(B4:B5) -> 0 | C6: =SUM(C4:C5) -> 0 | D6: =SUM(D4:D5) -> 0
A8: CONSTRUCTION | B8: AHTF | C8: Other Sources | D8: Total
A9: Building Permits | B9: 0 | C9: 0 | D9: =SUM(B9:C9) -> 0
A10: Water Supply Connection Fees & Permits | B10: 0 | C10: 0 | D10: =SUM(B10:C10) -> 0
A11: Sewer Connection Fees & Permits | B11: 0 | C11: 0 | D11: =SUM(B11:C11) -> 0
A12: Performance Bond | B12: 0 | C12: 0 | D12: =SUM(B12:C12) -> 0
A13: Demolition | B13: 0 | C13: 0 | D13: =SUM(B13:C13) -> 0
A14: Environmental Remediation | B14: 0 | C14: 0 | D14: =SUM(B14:C14) -> 0
A15: Site Work | B15: 0 | C15: 0 | D15: =SUM(B15:C15) -> 0
A16: Construction Material & Labor Cost | B16: 0 | C16: 0 | D16: =SUM(B16:C16) -> 0
A17: Electric Service Connection Fees | B17: 0 | C17: 0 | D17: =SUM(B17:C17) -> 0
A18: Gas Service Connection Fees | B18: 0 | C18: 0 | D18: =SUM(B18:C18) -> 0
A19: Other (Specify on Additional Costs Tab) | B19: ='Additional Costs'!B9 -> 0 | C19: ='Additional Costs'!C9 -> 0 | D19: =SUM(B19:C19) -> 0
A20: Subtotal | B20: =SUM(B9:B19) -> 0 | C20: =SUM(C9:C19) -> 0 | D20: =SUM(D9:D19) -> 0
A21: Contractor General Requirements | B21: 0 | C21: 0 | D21: =SUM(B21:C21) -> 0
A22: Contractor Overhead | B22: 0 | C22: 0 | D22: =SUM(B22:C22) -> 0
A23: Contractor Profit | B23: 0 | C23: 0 | D23: =SUM(B23:C23) -> 0
A24: Construction Contingency | B24: 0 | C24: 0 | D24: =SUM(B24:C24) -> 0
A25: Total Construction | B25: =SUM(B20:B24) -> 0 | C25: =SUM(C20:C24) -> 0 | D25: =SUM(D20:D24) -> 0
A27: PROFESSIONAL SERVICES | B27: AHTF | C27: Other Sources | D27: Total
A28: Accountant | B28: 0 | C28: 0 | D28: =SUM(B28:C28) -> 0
A29: Appraisal | B29: 0 | C29: 0 | D29: =SUM(B29:C29) -> 0
A30: Architect | B30: 0 | C30: 0 | D30: =SUM(B30:C30) -> 0
A31: Attorney | B31: 0 | C31: 0 | D31: =SUM(B31:C31) -> 0
A32: Construction Cost Certification | B32: 0 | C32: 0 | D32: =SUM(B32:C32) -> 0
A33: Energy Star Consultant | B33: 0 | C33: 0 | D33: =SUM(B33:C33) -> 0
A34: Engineer | B34: 0 | C34: 0 | D34: =SUM(B34:C34) -> 0
A35: Environmental Consultant | B35: 0 | C35: 0 | D35: =SUM(B35:C35) -> 0
A36: Market Study (3rd Party) | B36: 0 | C36: 0 | D36: =SUM(B36:C36) -> 0
A37: NJ Housing Affordability Service (HAS) Fee | B37: 0 | C37: 0 | D37: =SUM(B37:C37) -> 0
A38: Marketing & Advertising | B38: 0 | C38: 0 | D38: =SUM(B38:C38) -> 0
A39: Planning & Zoning Fees | B39: 0 | C39: 0 | D39: =SUM(B39:C39) -> 0
... A43: Surveyor | B43: 0 | C43: 0 | D43: =SUM(B43:C43) -> 0
A44: Other (Specify on Additional Costs Tab) | B44: ='Additional Costs'!B17 -> 0 | C44: ='Additional Costs'!C17 -> 0 | D44: =SUM(B44:C44) -> 0
A45: Subtotal | B45: =SUM(B28:B44) -> 0 | C45: =SUM(C28:C44) -> 0 | D45: =SUM(D28:D44) -> 0
...

Sheet Additional Costs
A1: AHTF Application: Additional Costs
A2: ='Site Info'!B2 -> 0
A3: CONSTRUCTION | B3: AHTF | C3: Other Sources | D3: Total
B4: 0 | C4: 0 | D4: =SUM(B4:C4) -> 0
B5: 0 | C5: 0 | D5: =SUM(B5:C5) -> 0
B6: 0 | C6: 0 | D6: =SUM(B6:C6) -> 0
B7: 0 | C7: 0 | D7: =SUM(B7:C7) -> 0
B8: 0 | C8: 0 | D8: =SUM(B8:C8) -> 0
A9: Total | B9: =SUM(B4:B8) -> 0 | C9: =SUM(C4:C8) -> 0 | D9: =SUM(D4:D8) -> 0
A11: PROFESSIONAL SERVICES | B11: AHTF | C11: Other Sources | D11: Total
B12: 0 | C12: 0 | D12: =SUM(B12:C12) -> 0
B13: 0 | C13: 0 | D13: =SUM(B13:C13) -> 0
B14: 0 | C14: 0 | D14: =SUM(B14:C14) -> 0
B15: 0 | C15: 0 | D15: =SUM(B15:C15) -> 0
B16: 0 | C16: 0 | D16: =SUM(B16:C16) -> 0
A17: Total | B17: =SUM(B12:B16) -> 0 | C17: =SUM(C12:C16) -> 0 | D17: =SUM(D12:D16) -> 0
A19: CARRYING & FINANCING | B19: AHTF | C19: Other Sources | D19: Total
B20: 0 | C20: 0 | D20: =SUM(B20:C20) -> 0
B21: 0 | C21: 0 | D21: =SUM(B21:C21) -> 0
B22: 0 | C22: 0 | D22: =SUM(B22:C22) -> 0
B23: 0 | C23: 0 | D23: =SUM(B23:C23) -> 0
B24: 0 | C24: 0 | D24: =SUM(B24:C24) -> 0
A25: Total | B25: =SUM(B20:B24) -> 0 | C25: =SUM(C20:C24) -> 0 | D25: =SUM(D20:D24) -> 0
A27: WORKING CAPITAL | B27: AHTF | C27: Other Sources | D27: Total
B28: 0 | C28: 0 | D28: =SUM(B28:C28) -> 0
B29: 0 | C29: 0 | D29: =SUM(B29:C29) -> 0
B30: 0 | C30: 0 | D30: =SUM(B30:C30) -> 0
B31: 0 | C31: 0 | D31: =SUM(B31:C31) -> 0
B32: 0 | C32: 0 | D32: =SUM(B32:C32) -> 0
A33: Total | B33: =SUM(B28:B32) -> 0 | C33: =SUM(C28:C32) -> 0 | D33: =SUM(D28:D32) -> 0

Sheet Funding Sources
A1: AHTF Application: Funding Sources | I1: #VALUE!
A2: ='Site Info'!B2 -> 0
A3: Funding Source Type | B3: Funding Source Name | D3: Construction Funds | E3: Committed Construction Funds | F3: Construction Funds Commitment Status | G3: Permanent Funds | H3: Committed Permanent Funds | I3: Permanent Funds Commitment Status
A4: AHTF | B4: AHTF
B16: Total | D16: =SUM(D4:D15) -> 0 | E16: =SUM(E4:E15) -> 0 | G16: =SUM(G4:G15) -> 0 | H16: =SUM(H4:H15) -> 0
D17: Percentage Committed | E17: =IFERROR(E16/D16,0) -> 0 | G17: Percentage Committed | H17: =IFERROR(H16/G16,0) -> 0
A18: Tax Credit Projects Only
A19: Estimated LIHTC Allocation:
A20: Does the Project have its allocation?
A22: AHTF Maximum Subsidy
A23: Fund Category | B23: Units | C23: Maximum Subsidy
A24: Affordable Housing Trust Fund | B24: 25 | C24: 3000000

Sheet Debt Service
A1: AHTF Application: Debt Service
A2: ='Site Info'!B2 -> 0
A3: Funding Source Type | B3: Funding Source Name | C3: Permanent Amount | D3: Lender & Funder Fees | E3: Term Length (Months) | F3: Interest Rate % or Cash Flow % | G3: Amoritized Monthly Debt Service | H3: Actual Monthly Debt Service | I3: Terms of Repayment | J3: Notes for Debt Service | M3: 1 | N3: 2 | O3: 3 | P3: 4 | Q3: 5 | R3: 6 | S3: 7 | T3: 8 | U3: 9 | V3: 10 | W3: 11 | X3: 12 | Y3: Year 1 | Z3: 13 | AA3: 14 | AB3: 15 | AC3: 16 | AD3: 17 | AE3: 18 | AF3: 19 | AG3: 20 | AH3: 21 | AI3: 22 | AJ3: 23 | AK3: 24 | AL3: Year 2 | AM3: 25 | AN3: 26 | AO3: 27 | AP3: 28 | AQ3: 29 | AR3: 30 | AS3: 31 | AT3: 32 | AU3: 33 | AV3: 34 | AW3: 35 | AX3: 36 | AY3: Year 3 | AZ3: 37 | BA3: 38 | BB3: 39 | BC3: 40 | BD3: 41 | BE3: 42 | BF3: 43 | BG3: 44 | BH3: 45 | BI3: 46 | BJ3: 47 | BK3: 48 | BL3: Year 4 | BM3: 49 | BN3: 50 | BO3: 51 | BP3: 52 | BQ3: 53 | BR3: 54 | BS3: 55 | BT3: 56 | BU3: 57 | BV3: 58 | BW3: 59 | BX3: 60 | BY3: Year 5 | BZ3: 61 | CA3: 62 | CB3: 63 | CC3: 64 | CD3: 65 | CE3: 66 | CF3: 67 | CG3: 68 | CH3: 69 | CI3: 70 | CJ3: 71 | CK3: 72 | CL3: Year 6 | CM3: 73 | CN3: 74 | CO3: 75 | CP3: 76 | CQ3: 77 | CR3: 78 | CS3: 79 | CT3: 80 | CU3: 81 | CV3: 82 | CW3: 83 | CX3: 84 | CY3: Year 7 | CZ3: 85 | DA3: 86 | DB3: 87 | DC3: 88 | DD3: 89 | DE3: 90 | DF3: 91 | DG3: 92 | DH3: 93 | DI3: 94 | DJ3: 95 | DK3: 96 | DL3: Year 8 | DM3: 97 | DN3: 98 | DO3: 99 | DP3: 100 | DQ3: 101 | DR3: 102 | DS3: 103 | DT3: 104 | DU3: 105 | DV3: 106 | DW3: 107 | DX3: 108 | DY3: Year 9 | DZ3: 109 | EA3: 110 | EB3: 111 | EC3: 112 | ED3: 113 | EE3: 114 | EF3: 115 | EG3: 116 | EH3: 117 | EI3: 118 | EJ3: 119 | EK3: 120 | EL3: Year 10 | EM3: 121 | EN3: 122 | EO3: 123 | EP3: 124 | EQ3: 125 | ER3: 126 | ES3: 127 | ET3: 128 | EU3: 129 | EV3: 130 | EW3: 131 | EX3: 132 | EY3: Year 11 | EZ3: 133 | FA3: 134 | FB3: 135 | FC3: 136 | FD3: 137 | FE3: 138 | FF3: 139 | FG3: 140 | FH3: 141 | FI3: 142 | FJ3: 143 | FK3: 144 | FL3: Year 12 | FM3: 145 | FN3: 146 | FO3: 147 | FP3: 148 | FQ3: 149 | FR3: 150 | FS3: 151 | FT3: 152 | FU3: 153 | FV3: 154 | FW3: 155 | FX3: 156 | FY3: Year 13 | FZ3: 157 | GA3: 158 | GB3: 159 | GC3: 160 | GD3: 161 | GE3: 162 | GF3: 163 | GG3: 164 | GH3: 165 | GI3: 166 | GJ3: 167 | GK3: 168 | GL3: Year 14 | GM3: 169 | GN3: 170 | GO3: 171 | GP3: 172 | GQ3: 173 | GR3: 174 | GS3: 175 | GT3: 176 | GU3: 177 | GV3: 178 | GW3: 179 | GX3: 180 | GY3: Year 15 | GZ3: 181 | HA3: 182 | HB3: 183 | HC3: 184 | HD3: 185 | HE3: 186 | HF3: 187 | HG3: 188 | HH3: 189 | HI3: 190 | HJ3: 191 | HK3: 192 | HL3: Year 16 | HM3: 193 | HN3: 194 | HO3: 195 | HP3: 196 | HQ3: 197 | HR3: 198 | HS3: 199 | HT3: 200 | HU3: 201 | HV3: 202 | HW3: 203 | HX3: 204 | HY3: Year 17 | HZ3: 205 | IA3: 206 | IB3: 207 | IC3: 208 | ID3: 209 | IE3: 210 | IF3: 211 | IG3: 212 | IH3: 213 | II3: 214 | IJ3: 215 | IK3: 216 | IL3: Year 18 | IM3: 217 | IN3: 218 | IO3: 219 | IP3: 220 | IQ3: 221 | IR3: 222 | IS3: 223 | IT3: 224 | IU3: 225 | IV3: 226 | IW3: 227 | IX3: 228 | IY3: Year 19 | IZ3: 229 | JA3: 230 | JB3: 231 | JC3: 232 | JD3: 233 | JE3: 234 | JF3: 235 | JG3: 236 | JH3: 237 | JI3: 238 | JJ3: 239 | JK3: 240 | JL3: Year 20 | JM3: 241 | JN3: 242 | JO3: 243 | JP3: 244 | JQ3: 245 | JR3: 246 | JS3: 247 | JT3: 248 | JU3: 249 | JV3: 250 | JW3: 251 | JX3: 252 | JY3: Year 21 | JZ3: 253 | KA3: 254 | KB3: 255 | KC3: 256 | KD3: 257 | KE3: 258 | KF3: 259 | KG3: 260 | KH3: 261 | KI3: 262 | KJ3: 263 | KK3: 264 | KL3: Year 22 | KM3: 265 | KN3: 266 | KO3: 267 | KP3: 268 | KQ3: 269 | KR3: 270 | KS3: 271 | KT3: 272 | KU3: 273 | KV3: 274 | KW3: 275 | KX3: 276 | KY3: Year 23 | KZ3: 277 | LA3: 278 | LB3: 279 | LC3: 280 | LD3: 281 | LE3: 282 | LF3: 283 | LG3: 284 | LH3: 285 | LI3: 286 | LJ3: 287 | LK3: 288 | LL3: Year 24 | LM3: 289 | LN3: 290 | LO3: 291 | LP3: 292 | LQ3: 293 | LR3: 294 | LS3: 295 | LT3: 296 | LU3: 297 | LV3: 298 | LW3: 299 | LX3: 300 | LY3: Year 25 | LZ3: 301 | MA3: 302 | MB3: 303 | MC3: 304 | MD3: 305 | ME3: 306 | MF3: 307 | MG3: 308 | MH3: 309 | MI3: 310 | MJ3: 311 | MK3: 312 | ML3: Year 26 | MM3: 313 | MN3: 314 | MO3: 315 | MP3: 316 | MQ3: 317 | MR3: 318 | MS3: 319 | MT3: 320 | MU3: 321 | MV3: 322 | MW3: 323 | MX3: 324 | MY3: Year 27 | MZ3: 325 | NA3: 326 | NB3: 327 | NC3: 328 | ND3: 329 | NE3: 330 | NF3: 331 | NG3: 332 | NH3: 333 | NI3: 334 | NJ3: 335 | NK3: 336 | NL3: Year 28 | NM3: 337 | NN3: 338 | NO3: 339 | NP3: 340 | NQ3: 341 | NR3: 342 | NS3: 343 | NT3: 344 | NU3: 345 | NV3: 346 | NW3: 347 | NX3: 348 | NY3: Year 29 | NZ3: 349 | OA3: 350 | OB3: 351 | OC3: 352 | OD3: 353 | OE3: 354 | OF3: 355 | OG3: 356 | OH3: 357 | OI3: 358 | OJ3: 359 | OK3: 360 | OL3: Year 30
A4: ='Funding Sources'!A4 -> AHTF | B4: ='Funding Sources'!B4:C4 -> AHTF | C4: ='Funding Sources'!G4 -> 0 | D4: 0 | F4: 0.5 | G4: =IF(E4>0,IF(I4<>"Percentage of Cash Flow",PMT(F4/12,E4,-C4,0,0),0),0) -> 0 | H4: 0 | M4: =IF($I4="Percentage of Cash Flow",IF($E4>M$3-1,(('Operating Pro Forma'!$E$59-'Operating Pro Forma'!$E$62)/12)*'Debt Service'!$F4),IF($E4>M$3-1,$H4,0)) -> 0 | N4: =IF($I4="Percentage of Cash Flow",IF($E4>N$3-1,(('Operating Pro Forma'!$E$59-'Operating Pro Forma'!$E$62)/12)*'Debt Service'!$F4),IF($E4>N$3-1,$H4,0)) -> 0 | O4: =IF($I4="Percentage of Cash Flow",IF($E4>O$3-1,(('Operating Pro Forma'!$E$59-'Operating Pro Forma'!$E$62)/12)*'Debt Service'!$F4),IF($E4>O$3-1,$H4,0)) -> 0 | P4: =IF($I4="Percentage of Cash Flow",IF($E4>P$3-1,(('Operating Pro Forma'!$E$59-'Operating Pro Forma'!$E$62)/12)*'Debt Service'!$F4),IF($E4>P$3-1,$H4,0)) -> 0 | Q4: =IF($I4="Percentage of Cash Flow",IF($E4>Q$3-1,(('Operating Pro Forma'!$E$59-'Operating Pro Forma'!$E$62)/12)*'Debt Service'!$F4),IF($E4>Q$3-1,$H4,0)) -> 0 | R4: =IF($I4="Percentage of Cash Flow",IF($E4>R$3-1,(('Operating Pro Forma'!$E$59-'Operating Pro Forma'!$E$62)/12)*'Debt Service'!$F4),IF($E4>R$3-1,$H4,0)) -> 0 | S4: =IF($I4="Percentage of Cash Flow",IF($E4>S$3-1,(('Operating Pro Forma'!$E$59-'Operating Pro Forma'!$E$62)/12)*'Debt Service'!$F4),IF($E4>S$3-1,$H4,0)) -> 0 | T4: =IF($I4="Percentage of Cash Flow",IF($E4>T$3-1,(('Operating Pro Forma'!$E$59-'Operating Pro Forma'!$E$62)/12)*'Debt Service'!$F4),IF($E4>T$3-1,$H4,0)) -> 0 | ... X4: =IF($I4="Percentage of Cash Flow",IF($E4>X$3-1,(('Operating Pro Forma'!$E$59-'Operating Pro Forma'!$E$62)/12)*'Debt Service'!$F4),IF($E4>X$3-1,$H4,0)) -> 0 | Y4: =SUMIF(M4:X4,">0") -> 0 | Z4: =IF($I4="Percentage of Cash Flow",IF($E4>Z$3-1,(('Operating Pro Forma'!$F$59-'Operating Pro Forma'!$F$62)/12)*'Debt Service'!$F4),IF($E4>Z$3-1,$H4,0)) -> 0 | AA4: =IF($I4="Percentage of Cash Flow",IF($E4>AA$3-1,(('Operating Pro Forma'!$F$59-'Operating Pro Forma'!$F$62)/12)*'Debt Service'!$F4),IF($E4>AA$3-1,$H4,0)) -> 0 | AB4: =IF($I4="Percentage of Cash Flow",IF($E4>AB$3-1,(('Operating Pro Forma'!$F$59-'Operating Pro Forma'!$F$62)/12)*'Debt Service'!$F4),IF($E4>AB$3-1,$H4,0)) -> 0 | AC4: =IF($I4="Percentage of Cash Flow",IF($E4>AC$3-1,(('Operating Pro Forma'!$F$59-'Operating Pro Forma'!$F$62)/12)*'Debt Service'!$F4),IF($E4>AC$3-1,$H4,0)) -> 0 | AD4: =IF($I4="Percentage of Cash Flow",IF($E4>AD$3-1,(('Operating Pro Forma'!$F$59-'Operating Pro Forma'!$F$62)/12)*'Debt Service'!$F4),IF($E4>AD$3-1,$H4,0)) -> 0 | AE4: =IF($I4="Percentage of Cash Flow",IF($E4>AE$3-1,(('Operating Pro Forma'!$F$59-'Operating Pro Forma'!$F$62)/12)*'Debt Service'!$F4),IF($E4>AE$3-1,$H4,0)) -> 0 | AF4: =IF($I4="Percentage of Cash Flow",IF($E4>AF$3-1,(('Operating Pro Forma'!$F$59-'Operating Pro Forma'!$F$62)/12)*'Debt Service'!$F4),IF($E4>AF$3-1,$H4,0)) -> 0 | AG4: =IF($I4="Percentage of Cash Flow",IF($E4>AG$3-1,(('Operating Pro Forma'!$F$59-'Operating Pro Forma'!$F$62)/12)*'Debt Service'!$F4),IF($E4>AG$3-1,$H4,0)) -> 0 | ... AK4: =IF($I4="Percentage of Cash Flow",IF($E4>AK$3-1,(('Operating Pro Forma'!$F$59-'Operating Pro Forma'!$F$62)/12)*'Debt Service'!$F4),IF($E4>AK$3-1,$H4,0)) -> 0 | AL4: =SUMIF(Z4:AK4,">0") -> 0 | AM4: =IF($I4="Percentage of Cash Flow",IF($E4>AM$3-1,(('Operating Pro Forma'!$G$59-'Operating Pro Forma'!$G$62)/12)*'Debt Service'!$F4),IF($E4>AM$3-1,$H4,0)) -> 0 | AN4: =IF($I4="Percentage of Cash Flow",IF($E4>AN$3-1,(('Operating Pro Forma'!$G$59-'Operating Pro Forma'!$G$62)/12)*'Debt Service'!$F4),IF($E4>AN$3-1,$H4,0)) -> 0 | AO4: =IF($I4="Percentage of Cash Flow",IF($E4>AO$3-1,(('Operating Pro Forma'!$G$59-'Operating Pro Forma'!$G$62)/12)*'Debt Service'!$F4),IF($E4>AO$3-1,$H4,0)) -> 0 | AP4: =IF($I4="Percentage of Cash Flow",IF($E4>AP$3-1,(('Operating Pro Forma'!$G$59-'Operating Pro Forma'!$G$62)/12)*'Debt Service'!$F4),IF($E4>AP$3-1,$H4,0)) -> 0 | AQ4: =IF($I4="Percentage of Cash Flow",IF($E4>AQ$3-1,(('Operating Pro Forma'!$G$59-'Operating Pro Forma'!$G$62)/12)*'Debt Service'!$F4),IF($E4>AQ$3-1,$H4,0)) -> 0 | AR4: =IF($I4="Percentage of Cash Flow",IF($E4>AR$3-1,(('Operating Pro Forma'!$G$59-'Operating Pro Forma'!$G$62)/12)*'Debt Service'!$F4),IF($E4>AR$3-1,$H4,0)) -> 0 | AS4: =IF($I4="Percentage of Cash Flow",IF($E4>AS$3-1,(('Operating Pro Forma'!$G$59-'Operating Pro Forma'!$G$62)/12)*'Debt Service'!$F4),IF($E4>AS$3-1,$H4,0)) -> 0 | AT4: =IF($I4="Percentage of Cash Flow",IF($E4>AT$3-1,(('Operating Pro Forma'!$G$59-'Operating Pro Forma'!$G$62)/12)*'Debt Service'!$F4),IF($E4>AT$3-1,$H4,0)) -> 0 | ... AX4: =IF($I4="Percentage of Cash Flow",IF($E4>AX$3-1,(('Operating Pro Forma'!$G$59-'Operating Pro Forma'!$G$62)/12)*'Debt Service'!$F4),IF($E4>AX$3-1,$H4,0)) -> 0 | AY4: =SUMIF(AM4:AX4,">0") -> 0 | AZ4: =IF($I4="Percentage of Cash Flow",IF($E4>AZ$3-1,(('Operating Pro Forma'!$H$59-'Operating Pro Forma'!$H$62)/12)*'Debt Service'!$F4),IF($E4>AZ$3-1,$H4,0)) -> 0 | BA4: =IF($I4="Percentage of Cash Flow",IF($E4>BA$3-1,(('Operating Pro Forma'!$H$59-'Operating Pro Forma'!$H$62)/12)*'Debt Service'!$F4),IF($E4>BA$3-1,$H4,0)) -> 0 | BB4: =IF($I4="Percentage of Cash Flow",IF($E4>BB$3-1,(('Operating Pro Forma'!$H$59-'Operating Pro Forma'!$H$62)/12)*'Debt Service'!$F4),IF($E4>BB$3-1,$H4,0)) -> 0 | BC4: =IF($I4="Percentage of Cash Flow",IF($E4>BC$3-1,(('Operating Pro Forma'!$H$59-'Operating Pro Forma'!$H$62)/12)*'Debt Service'!$F4),IF($E4>BC$3-1,$H4,0)) -> 0 | BD4: =IF($I4="Percentage of Cash Flow",IF($E4>BD$3-1,(('Operating Pro Forma'!$H$59-'Operating Pro Forma'!$H$62)/12)*'Debt Service'!$F4),IF($E4>BD$3-1,$H4,0)) -> 0 | BE4: =IF($I4="Percentage of Cash Flow",IF($E4>BE$3-1,(('Operating Pro Forma'!$H$59-'Operating Pro Forma'!$H$62)/12)*'Debt Service'!$F4),IF($E4>BE$3-1,$H4,0)) -> 0 | BF4: =IF($I4="Percentage of Cash Flow",IF($E4>BF$3-1,(('Operating Pro Forma'!$H$59-'Operating Pro Forma'!$H$62)/12)*'Debt Service'!$F4),IF($E4>BF$3-1,$H4,0)) -> 0 | BG4: =IF($I4="Percentage of Cash Flow",IF($E4>BG$3-1,(('Operating Pro Forma'!$H$59-'Operating Pro Forma'!$H$62)/12)*'Debt Service'!$F4),IF($E4>BG$3-1,$H4,0)) -> 0 | ... BK4: =IF($I4="Percentage of Cash Flow",IF($E4>BK$3-1,(('Operating Pro Forma'!$H$59-'Operating Pro Forma'!$H$62)/12)*'Debt Service'!$F4),IF($E4>BK$3-1,$H4,0)) -> 0 | BL4: =SUMIF(AZ4:BK4,">0") -> 0 | BM4: =IF($I4="Percentage of Cash Flow",IF($E4>BM$3-1,(('Operating Pro Forma'!$I$59-'Operating Pro Forma'!$I$62)/12)*'Debt Service'!$F4),IF($E4>BM$3-1,$H4,0)) -> 0 | BN4: =IF($I4="Percentage of Cash Flow",IF($E4>BN$3-1,(('Operating Pro Forma'!$I$59-'Operating Pro Forma'!$I$62)/12)*'Debt Service'!$F4),IF($E4>BN$3-1,$H4,0)) -> 0 | BO4: =IF($I4="Percentage of Cash Flow",IF($E4>BO$3-1,(('Operating Pro Forma'!$I$59-'Operating Pro Forma'!$I$62)/12)*'Debt Service'!$F4),IF($E4>BO$3-1,$H4,0)) -> 0 | BP4: =IF($I4="Percentage of Cash Flow",IF($E4>BP$3-1,(('Operating Pro Forma'!$I$59-'Operating Pro Forma'!$I$62)/12)*'Debt Service'!$F4),IF($E4>BP$3-1,$H4,0)) -> 0 | BQ4: =IF($I4="Percentage of Cash Flow",IF($E4>BQ$3-1,(('Operating Pro Forma'!$I$59-'Operating Pro Forma'!$I$62)/12)*'Debt Service'!$F4),IF($E4>BQ$3-1,$H4,0)) -> 0 | BR4: =IF($I4="Percentage of Cash Flow",IF($E4>BR$3-1,(('Operating Pro Forma'!$I$59-'Operating Pro Forma'!$I$62)/12)*'Debt Service'!$F4),IF($E4>BR$3-1,$H4,0)) -> 0 | BS4: =IF($I4="Percentage of Cash Flow",IF($E4>BS$3-1,(('Operating Pro Forma'!$I$59-'Operating Pro Forma'!$I$62)/12)*'Debt Service'!$F4),IF($E4>BS$3-1,$H4,0)) -> 0 | BT4: =IF($I4="Percentage of Cash Flow",IF($E4>BT$3-1,(('Operating Pro Forma'!$I$59-'Operating Pro Forma'!$I$62)/12)*'Debt Service'!$F4),IF($E4>BT$3-1,$H4,0)) -> 0 | ... BX4: =IF($I4="Percentage of Cash Flow",IF($E4>BX$3-1,(('Operating Pro Forma'!$I$59-'Operating Pro Forma'!$I$62)/12)*'Debt Service'!$F4),IF($E4>BX$3-1,$H4,0)) -> 0 | BY4: =SUMIF(BM4:BX4,">0") -> 0 | BZ4: =IF($I4="Percentage of Cash Flow",IF($E4>BZ$3-1,(('Operating Pro Forma'!$J$59-'Operating Pro Forma'!$J$62)/12)*'Debt Service'!$F4),IF($E4>BZ$3-1,$H4,0)) -> 0 | CA4: =IF($I4="Percentage of Cash Flow",IF($E4>CA$3-1,(('Operating Pro Forma'!$J$59-'Operating Pro Forma'!$J$62)/12)*'Debt Service'!$F4),IF($E4>CA$3-1,$H4,0)) -> 0 | CB4: =IF($I4="Percentage of Cash Flow",IF($E4>CB$3-1,(('Operating Pro Forma'!$J$59-'Operating Pro Forma'!$J$62)/12)*'Debt Service'!$F4),IF($E4>CB$3-1,$H4,0)) -> 0 | CC4: =IF($I4="Percentage of Cash Flow",IF($E4>CC$3-1,(('Operating Pro Forma'!$J$59-'Operating Pro Forma'!$J$62)/12)*'Debt Service'!$F4),IF($E4>CC$3-1,$H4,0)) -> 0 | CD4: =IF($I4="Percentage of Cash Flow",IF($E4>CD$3-1,(('Operating Pro Forma'!$J$59-'Operating Pro Forma'!$J$62)/12)*'Debt Service'!$F4),IF($E4>CD$3-1,$H4,0)) -> 0 | CE4: =IF($I4="Percentage of Cash Flow",IF($E4>CE$3-1,(('Operating Pro Forma'!$J$59-'Operating Pro Forma'!$J$62)/12)*'Debt Service'!$F4),IF($E4>CE$3-1,$H4,0)) -> 0 | CF4: =IF($I4="Percentage of Cash Flow",IF($E4>CF$3-1,(('Operating Pro Forma'!$J$59-'Operating Pro Forma'!$J$62)/12)*'Debt Service'!$F4),IF($E4>CF$3-1,$H4,0)) -> 0 | CG4: =IF($I4="Percentage of Cash Flow",IF($E4>CG$3-1,(('Operating Pro Forma'!$J$59-'Operating Pro Forma'!$J$62)/12)*'Debt Service'!$F4),IF($E4>CG$3-1,$H4,0)) -> 0 | ... CK4: =IF($I4="Percentage of Cash Flow",IF($E4>CK$3-1,(('Operating Pro Forma'!$J$59-'Operating Pro Forma'!$J$62)/12)*'Debt Service'!$F4),IF($E4>CK$3-1,$H4,0)) -> 0 | CL4: =SUMIF(BZ4:CK4,">0") -> 0 | CM4: =IF($I4="Percentage of Cash Flow",IF($E4>CM$3-1,(('Operating Pro Forma'!$K$59-'Operating Pro Forma'!$K$62)/12)*'Debt Service'!$F4),IF($E4>CM$3-1,$H4,0)) -> 0 | CN4: =IF($I4="Percentage of Cash Flow",IF($E4>CN$3-1,(('Operating Pro Forma'!$K$59-'Operating Pro Forma'!$K$62)/12)*'Debt Service'!$F4),IF($E4>CN$3-1,$H4,0)) -> 0 | CO4: =IF($I4="Percentage of Cash Flow",IF($E4>CO$3-1,(('Operating Pro Forma'!$K$59-'Operating Pro Forma'!$K$62)/12)*'Debt Service'!$F4),IF($E4>CO$3-1,$H4,0)) -> 0 | CP4: =IF($I4="Percentage of Cash Flow",IF($E4>CP$3-1,(('Operating Pro Forma'!$K$59-'Operating Pro Forma'!$K$62)/12)*'Debt Service'!$F4),IF($E4>CP$3-1,$H4,0)) -> 0 | CQ4: =IF($I4="Percentage of Cash Flow",IF($E4>CQ$3-1,(('Operating Pro Forma'!$K$59-'Operating Pro Forma'!$K$62)/12)*'Debt Service'!$F4),IF($E4>CQ$3-1,$H4,0)) -> 0 | CR4: =IF($I4="Percentage of Cash Flow",IF($E4>CR$3-1,(('Operating Pro Forma'!$K$59-'Operating Pro Forma'!$K$62)/12)*'Debt Service'!$F4),IF($E4>CR$3-1,$H4,0)) -> 0 | CS4: =IF($I4="Percentage of Cash Flow",IF($E4>CS$3-1,(('Operating Pro Forma'!$K$59-'Operating Pro Forma'!$K$62)/12)*'Debt Service'!$F4),IF($E4>CS$3-1,$H4,0)) -> 0 | CT4: =IF($I4="Percentage of Cash Flow",IF($E4>CT$3-1,(('Operating Pro Forma'!$K$59-'Operating Pro Forma'!$K$62)/12)*'Debt Service'!$F4),IF($E4>CT$3-1,$H4,0)) -> 0 | ... CX4: =IF($I4="Percentage of Cash Flow",IF($E4>CX$3-1,(('Operating Pro Forma'!$K$59-'Operating Pro Forma'!$K$62)/12)*'Debt Service'!$F4),IF($E4>CX$3-1,$H4,0)) -> 0 | CY4: =SUMIF(CM4:CX4,">0") -> 0 | CZ4: =IF($I4="Percentage of Cash Flow",IF($E4>CZ$3-1,(('Operating Pro Forma'!$L$59-'Operating Pro Forma'!$L$62)/12)*'Debt Service'!$F4),IF($E4>CZ$3-1,$H4,0)) -> 0 | DA4: =IF($I4="Percentage of Cash Flow",IF($E4>DA$3-1,(('Operating Pro Forma'!$L$59-'Operating Pro Forma'!$L$62)/12)*'Debt Service'!$F4),IF($E4>DA$3-1,$H4,0)) -> 0 | DB4: =IF($I4="Percentage of Cash Flow",IF($E4>DB$3-1,(('Operating Pro Forma'!$L$59-'Operating Pro Forma'!$L$62)/12)*'Debt Service'!$F4),IF($E4>DB$3-1,$H4,0)) -> 0 | DC4: =IF($I4="Percentage of Cash Flow",IF($E4>DC$3-1,(('Operating Pro Forma'!$L$59-'Operating Pro Forma'!$L$62)/12)*'Debt Service'!$F4),IF($E4>DC$3-1,$H4,0)) -> 0 | DD4: =IF($I4="Percentage of Cash Flow",IF($E4>DD$3-1,(('Operating Pro Forma'!$L$59-'Operating Pro Forma'!$L$62)/12)*'Debt Service'!$F4),IF($E4>DD$3-1,$H4,0)) -> 0 | DE4: =IF($I4="Percentage of Cash Flow",IF($E4>DE$3-1,(('Operating Pro Forma'!$L$59-'Operating Pro Forma'!$L$62)/12)*'Debt Service'!$F4),IF($E4>DE$3-1,$H4,0)) -> 0 | DF4: =IF($I4="Percentage of Cash Flow",IF($E4>DF$3-1,(('Operating Pro Forma'!$L$59-'Operating Pro Forma'!$L$62)/12)*'Debt Service'!$F4),IF($E4>DF$3-1,$H4,0)) -> 0 | DG4: =IF($I4="Percentage of Cash Flow",IF($E4>DG$3-1,(('Operating Pro Forma'!$L$59-'Operating Pro Forma'!$L$62)/12)*'Debt Service'!$F4),IF($E4>DG$3-1,$H4,0)) -> 0 | ... DK4: =IF($I4="Percentage of Cash Flow",IF($E4>DK$3-1,(('Operating Pro Forma'!$L$59-'Operating Pro Forma'!$L$62)/12)*'Debt Service'!$F4),IF($E4>DK$3-1,$H4,0)) -> 0 | DL4: =SUMIF(CZ4:DK4,">0") -> 0 | DM4: =IF($I4="Percentage of Cash Flow",IF($E4>DM$3-1,(('Operating Pro Forma'!$M$59-'Operating Pro Forma'!$M$62)/12)*'Debt Service'!$F4),IF($E4>DM$3-1,$H4,0)) -> 0 | DN4: =IF($I4="Percentage of Cash Flow",IF($E4>DN$3-1,(('Operating Pro Forma'!$M$59-'Operating Pro Forma'!$M$62)/12)*'Debt Service'!$F4),IF($E4>DN$3-1,$H4,0)) -> 0 | DO4: =IF($I4="Percentage of Cash Flow",IF($E4>DO$3-1,(('Operating Pro Forma'!$M$59-'Operating Pro Forma'!$M$62)/12)*'Debt Service'!$F4),IF($E4>DO$3-1,$H4,0)) -> 0 | DP4: =IF($I4="Percentage of Cash Flow",IF($E4>DP$3-1,(('Operating Pro Forma'!$M$59-'Operating Pro Forma'!$M$62)/12)*'Debt Service'!$F4),IF($E4>DP$3-1,$H4,0)) -> 0 | DQ4: =IF($I4="Percentage of Cash Flow",IF($E4>DQ$3-1,(('Operating Pro Forma'!$M$59-'Operating Pro Forma'!$M$62)/12)*'Debt Service'!$F4),IF($E4>DQ$3-1,$H4,0)) -> 0 | DR4: =IF($I4="Percentage of Cash Flow",IF($E4>DR$3-1,(('Operating Pro Forma'!$M$59-'Operating Pro Forma'!$M$62)/12)*'Debt Service'!$F4),IF($E4>DR$3-1,$H4,0)) -> 0 | DS4: =IF($I4="Percentage of Cash Flow",IF($E4>DS$3-1,(('Operating Pro Forma'!$M$59-'Operating Pro Forma'!$M$62)/12)*'Debt Service'!$F4),IF($E4>DS$3-1,$H4,0)) -> 0 | DT4: =IF($I4="Percentage of Cash Flow",IF($E4>DT$3-1,(('Operating Pro Forma'!$M$59-'Operating Pro Forma'!$M$62)/12)*'Debt Service'!$F4),IF($E4>DT$3-1,$H4,0)) -> 0 | ... DX4: =IF($I4="Percentage of Cash Flow",IF($E4>DX$3-1,(('Operating Pro Forma'!$M$59-'Operating Pro Forma'!$M$62)/12)*'Debt Service'!$F4),IF($E4>DX$3-1,$H4,0)) -> 0 | DY4: =SUMIF(DM4:DX4,">0") -> 0 | DZ4: =IF($I4="Percentage of Cash Flow",IF($E4>DZ$3-1,(('Operating Pro Forma'!$N$59-'Operating Pro Forma'!$N$62)/12)*'Debt Service'!$F4),IF($E4>DZ$3-1,$H4,0)) -> 0 | EA4: =IF($I4="Percentage of Cash Flow",IF($E4>EA$3-1,(('Operating Pro Forma'!$N$59-'Operating Pro Forma'!$N$62)/12)*'Debt Service'!$F4),IF($E4>EA$3-1,$H4,0)) -> 0 | EB4: =IF($I4="Percentage of Cash Flow",IF($E4>EB$3-1,(('Operating Pro Forma'!$N$59-'Operating Pro Forma'!$N$62)/12)*'Debt Service'!$F4),IF($E4>EB$3-1,$H4,0)) -> 0 | EC4: =IF($I4="Percentage of Cash Flow",IF($E4>EC$3-1,(('Operating Pro Forma'!$N$59-'Operating Pro Forma'!$N$62)/12)*'Debt Service'!$F4),IF($E4>EC$3-1,$H4,0)) -> 0 | ED4: =IF($I4="Percentage of Cash Flow",IF($E4>ED$3-1,(('Operating Pro Forma'!$N$59-'Operating Pro Forma'!$N$62)/12)*'Debt Service'!$F4),IF($E4>ED$3-1,$H4,0)) -> 0 | EE4: =IF($I4="Percentage of Cash Flow",IF($E4>EE$3-1,(('Operating Pro Forma'!$N$59-'Operating Pro Forma'!$N$62)/12)*'Debt Service'!$F4),IF($E4>EE$3-1,$H4,0)) -> 0 | EF4: =IF($I4="Percentage of Cash Flow",IF($E4>EF$3-1,(('Operating Pro Forma'!$N$59-'Operating Pro Forma'!$N$62)/12)*'Debt Service'!$F4),IF($E4>EF$3-1,$H4,0)) -> 0 | EG4: =IF($I4="Percentage of Cash Flow",IF($E4>EG$3-1,(('Operating Pro Forma'!$N$59-'Operating Pro Forma'!$N$62)/12)*'Debt Service'!$F4),IF($E4>EG$3-1,$H4,0)) -> 0 | ... EK4: =IF($I4="Percentage of Cash Flow",IF($E4>EK$3-1,(('Operating Pro Forma'!$N$59-'Operating Pro Forma'!$N$62)/12)*'Debt Service'!$F4),IF($E4>EK$3-1,$H4,0)) -> 0 | EL4: =SUMIF(DZ4:EK4,">0") -> 0 | EM4: =IF($I4="Percentage of Cash Flow",IF($E4>EM$3-1,(('Operating Pro Forma'!$O$59-'Operating Pro Forma'!$O$62)/12)*'Debt Service'!$F4),IF($E4>EM$3-1,$H4,0)) -> 0 | EN4: =IF($I4="Percentage of Cash Flow",IF($E4>EN$3-1,(('Operating Pro Forma'!$O$59-'Operating Pro Forma'!$O$62)/12)*'Debt Service'!$F4),IF($E4>EN$3-1,$H4,0)) -> 0 | EO4: =IF($I4="Percentage of Cash Flow",IF($E4>EO$3-1,(('Operating Pro Forma'!$O$59-'Operating Pro Forma'!$O$62)/12)*'Debt Service'!$F4),IF($E4>EO$3-1,$H4,0)) -> 0 | EP4: =IF($I4="Percentage of Cash Flow",IF($E4>EP$3-1,(('Operating Pro Forma'!$O$59-'Operating Pro Forma'!$O$62)/12)*'Debt Service'!$F4),IF($E4>EP$3-1,$H4,0)) -> 0 | EQ4: =IF($I4="Percentage of Cash Flow",IF($E4>EQ$3-1,(('Operating Pro Forma'!$O$59-'Operating Pro Forma'!$O$62)/12)*'Debt Service'!$F4),IF($E4>EQ$3-1,$H4,0)) -> 0 | ER4: =IF($I4="Percentage of Cash Flow",IF($E4>ER$3-1,(('Operating Pro Forma'!$O$59-'Operating Pro Forma'!$O$62)/12)*'Debt Service'!$F4),IF($E4>ER$3-1,$H4,0)) -> 0 | ES4: =IF($I4="Percentage of Cash Flow",IF($E4>ES$3-1,(('Operating Pro Forma'!$O$59-'Operating Pro Forma'!$O$62)/12)*'Debt Service'!$F4),IF($E4>ES$3-1,$H4,0)) -> 0 | ET4: =IF($I4="Percentage of Cash Flow",IF($E4>ET$3-1,(('Operating Pro Forma'!$O$59-'Operating Pro Forma'!$O$62)/12)*'Debt Service'!$F4),IF($E4>ET$3-1,$H4,0)) -> 0 | ... EX4: =IF($I4="Percentage of Cash Flow",IF($E4>EX$3-1,(('Operating Pro Forma'!$O$59-'Operating Pro Forma'!$O$62)/12)*'Debt Service'!$F4),IF($E4>EX$3-1,$H4,0)) -> 0 | EY4: =SUMIF(EM4:EX4,">0") -> 0 | EZ4: =IF($I4="Percentage of Cash Flow",IF($E4>EZ$3-1,(('Operating Pro Forma'!$P$59-'Operating Pro Forma'!$P$62)/12)*'Debt Service'!$F4),IF($E4>EZ$3-1,$H4,0)) -> 0 | FA4: =IF($I4="Percentage of Cash Flow",IF($E4>FA$3-1,(('Operating Pro Forma'!$P$59-'Operating Pro Forma'!$P$62)/12)*'Debt Service'!$F4),IF($E4>FA$3-1,$H4,0)) -> 0 | FB4: =IF($I4="Percentage of Cash Flow",IF($E4>FB$3-1,(('Operating Pro Forma'!$P$59-'Operating Pro Forma'!$P$62)/12)*'Debt Service'!$F4),IF($E4>FB$3-1,$H4,0)) -> 0 | FC4: =IF($I4="Percentage of Cash Flow",IF($E4>FC$3-1,(('Operating Pro Forma'!$P$59-'Operating Pro Forma'!$P$62)/12)*'Debt Service'!$F4),IF($E4>FC$3-1,$H4,0)) -> 0 | FD4: =IF($I4="Percentage of Cash Flow",IF($E4>FD$3-1,(('Operating Pro Forma'!$P$59-'Operating Pro Forma'!$P$62)/12)*'Debt Service'!$F4),IF($E4>FD$3-1,$H4,0)) -> 0 | FE4: =IF($I4="Percentage of Cash Flow",IF($E4>FE$3-1,(('Operating Pro Forma'!$P$59-'Operating Pro Forma'!$P$62)/12)*'Debt Service'!$F4),IF($E4>FE$3-1,$H4,0)) -> 0 | FF4: =IF($I4="Percentage of Cash Flow",IF($E4>FF$3-1,(('Operating Pro Forma'!$P$59-'Operating Pro Forma'!$P$62)/12)*'Debt Service'!$F4),IF($E4>FF$3-1,$H4,0)) -> 0 | FG4: =IF($I4="Percentage of Cash Flow",IF($E4>FG$3-1,(('Operating Pro Forma'!$P$59-'Operating Pro Forma'!$P$62)/12)*'Debt Service'!$F4),IF($E4>FG$3-1,$H4,0)) -> 0 | ... FK4: =IF($I4="Percentage of Cash Flow",IF($E4>FK$3-1,(('Operating Pro Forma'!$P$59-'Operating Pro Forma'!$P$62)/12)*'Debt Service'!$F4),IF($E4>FK$3-1,$H4,0)) -> 0 | FL4: =SUMIF(EZ4:FK4,">0") -> 0 | FM4: =IF($I4="Percentage of Cash Flow",IF($E4>FM$3-1,(('Operating Pro Forma'!$Q$59-'Operating Pro Forma'!$Q$62)/12)*'Debt Service'!$F4),IF($E4>FM$3-1,$H4,0)) -> 0 | FN4: =IF($I4="Percentage of Cash Flow",IF($E4>FN$3-1,(('Operating Pro Forma'!$Q$59-'Operating Pro Forma'!$Q$62)/12)*'Debt Service'!$F4),IF($E4>FN$3-1,$H4,0)) -> 0 | FO4: =IF($I4="Percentage of Cash Flow",IF($E4>FO$3-1,(('Operating Pro Forma'!$Q$59-'Operating Pro Forma'!$Q$62)/12)*'Debt Service'!$F4),IF($E4>FO$3-1,$H4,0)) -> 0 | FP4: =IF($I4="Percentage of Cash Flow",IF($E4>FP$3-1,(('Operating Pro Forma'!$Q$59-'Operating Pro Forma'!$Q$62)/12)*'Debt Service'!$F4),IF($E4>FP$3-1,$H4,0)) -> 0 | FQ4: =IF($I4="Percentage of Cash Flow",IF($E4>FQ$3-1,(('Operating Pro Forma'!$Q$59-'Operating Pro Forma'!$Q$62)/12)*'Debt Service'!$F4),IF($E4>FQ$3-1,$H4,0)) -> 0 | FR4: =IF($I4="Percentage of Cash Flow",IF($E4>FR$3-1,(('Operating Pro Forma'!$Q$59-'Operating Pro Forma'!$Q$62)/12)*'Debt Service'!$F4),IF($E4>FR$3-1,$H4,0)) -> 0 | FS4: =IF($I4="Percentage of Cash Flow",IF($E4>FS$3-1,(('Operating Pro Forma'!$Q$59-'Operating Pro Forma'!$Q$62)/12)*'Debt Service'!$F4),IF($E4>FS$3-1,$H4,0)) -> 0 | FT4: =IF($I4="Percentage of Cash Flow",IF($E4>FT$3-1,(('Operating Pro Forma'!$Q$59-'Operating Pro Forma'!$Q$62)/12)*'Debt Service'!$F4),IF($E4>FT$3-1,$H4,0)) -> 0 | ... FX4: =IF($I4="Percentage of Cash Flow",IF($E4>FX$3-1,(('Operating Pro Forma'!$Q$59-'Operating Pro Forma'!$Q$62)/12)*'Debt Service'!$F4),IF($E4>FX$3-1,$H4,0)) -> 0 | FY4: =SUMIF(FM4:FX4,">0") -> 0 | FZ4: =IF($I4="Percentage of Cash Flow",IF($E4>FZ$3-1,(('Operating Pro Forma'!$R$59-'Operating Pro Forma'!$R$62)/12)*'Debt Service'!$F4),IF($E4>FZ$3-1,$H4,0)) -> 0 | GA4: =IF($I4="Percentage of Cash Flow",IF($E4>GA$3-1,(('Operating Pro Forma'!$R$59-'Operating Pro Forma'!$R$62)/12)*'Debt Service'!$F4),IF($E4>GA$3-1,$H4,0)) -> 0 | GB4: =IF($I4="Percentage of Cash Flow",IF($E4>GB$3-1,(('Operating Pro Forma'!$R$59-'Operating Pro Forma'!$R$62)/12)*'Debt Service'!$F4),IF($E4>GB$3-1,$H4,0)) -> 0 | GC4: =IF($I4="Percentage of Cash Flow",IF($E4>GC$3-1,(('Operating Pro Forma'!$R$59-'Operating Pro Forma'!$R$62)/12)*'Debt Service'!$F4),IF($E4>GC$3-1,$H4,0)) -> 0 | GD4: =IF($I4="Percentage of Cash Flow",IF($E4>GD$3-1,(('Operating Pro Forma'!$R$59-'Operating Pro Forma'!$R$62)/12)*'Debt Service'!$F4),IF($E4>GD$3-1,$H4,0)) -> 0 | GE4: =IF($I4="Percentage of Cash Flow",IF($E4>GE$3-1,(('Operating Pro Forma'!$R$59-'Operating Pro Forma'!$R$62)/12)*'Debt Service'!$F4),IF($E4>GE$3-1,$H4,0)) -> 0 | GF4: =IF($I4="Percentage of Cash Flow",IF($E4>GF$3-1,(('Operating Pro Forma'!$R$59-'Operating Pro Forma'!$R$62)/12)*'Debt Service'!$F4),IF($E4>GF$3-1,$H4,0)) -> 0 | GG4: =IF($I4="Percentage of Cash Flow",IF($E4>GG$3-1,(('Operating Pro Forma'!$R$59-'Operating Pro Forma'!$R$62)/12)*'Debt Service'!$F4),IF($E4>GG$3-1,$H4,0)) -> 0 | ... GK4: =IF($I4="Percentage of Cash Flow",IF($E4>GK$3-1,(('Operating Pro Forma'!$R$59-'Operating Pro Forma'!$R$62)/12)*'Debt Service'!$F4),IF($E4>GK$3-1,$H4,0)) -> 0 | GL4: =SUMIF(FZ4:GK4,">0") -> 0 | GM4: =IF($I4="Percentage of Cash Flow",IF($E4>GM$3-1,(('Operating Pro Forma'!$S$59-'Operating Pro Forma'!$S$62)/12)*'Debt Service'!$F4),IF($E4>GM$3-1,$H4,0)) -> 0 | GN4: =IF($I4="Percentage of Cash Flow",IF($E4>GN$3-1,(('Operating Pro Forma'!$S$59-'Operating Pro Forma'!$S$62)/12)*'Debt Service'!$F4),IF($E4>GN$3-1,$H4,0)) -> 0 | GO4: =IF($I4="Percentage of Cash Flow",IF($E4>GO$3-1,(('Operating Pro Forma'!$S$59-'Operating Pro Forma'!$S$62)/12)*'Debt Service'!$F4),IF($E4>GO$3-1,$H4,0)) -> 0 | GP4: =IF($I4="Percentage of Cash Flow",IF($E4>GP$3-1,(('Operating Pro Forma'!$S$59-'Operating Pro Forma'!$S$62)/12)*'Debt Service'!$F4),IF($E4>GP$3-1,$H4,0)) -> 0 | GQ4: =IF($I4="Percentage of Cash Flow",IF($E4>GQ$3-1,(('Operating Pro Forma'!$S$59-'Operating Pro Forma'!$S$62)/12)*'Debt Service'!$F4),IF($E4>GQ$3-1,$H4,0)) -> 0 | GR4: =IF($I4="Percentage of Cash Flow",IF($E4>GR$3-1,(('Operating Pro Forma'!$S$59-'Operating Pro Forma'!$S$62)/12)*'Debt Service'!$F4),IF($E4>GR$3-1,$H4,0)) -> 0 | GS4: =IF($I4="Percentage of Cash Flow",IF($E4>GS$3-1,(('Operating Pro Forma'!$S$59-'Operating Pro Forma'!$S$62)/12)*'Debt Service'!$F4),IF($E4>GS$3-1,$H4,0)) -> 0 | GT4: =IF($I4="Percentage of Cash Flow",IF($E4>GT$3-1,(('Operating Pro Forma'!$S$59-'Operating Pro Forma'!$S$62)/12)*'Debt Service'!$F4),IF($E4>GT$3-1,$H4,0)) -> 0 | ... GX4: =IF($I4="Percentage of Cash Flow",IF($E4>GX$3-1,(('Operating Pro Forma'!$S$59-'Operating Pro Forma'!$S$62)/12)*'Debt Service'!$F4),IF($E4>GX$3-1,$H4,0)) -> 0 | GY4: =SUMIF(GM4:GX4,">0") -> 0 | GZ4: =IF($I4="Percentage of Cash Flow",IF($E4>GZ$3-1,(('Operating Pro Forma'!$T$59-'Operating Pro Forma'!$T$62)/12)*'Debt Service'!$F4),IF($E4>GZ$3-1,$H4,0)) -> 0 | HA4: =IF($I4="Percentage of Cash Flow",IF($E4>HA$3-1,(('Operating Pro Forma'!$T$59-'Operating Pro Forma'!$T$62)/12)*'Debt Service'!$F4),IF($E4>HA$3-1,$H4,0)) -> 0 | HB4: =IF($I4="Percentage of Cash Flow",IF($E4>HB$3-1,(('Operating Pro Forma'!$T$59-'Operating Pro Forma'!$T$62)/12)*'Debt Service'!$F4),IF($E4>HB$3-1,$H4,0)) -> 0 | HC4: =IF($I4="Percentage of Cash Flow",IF($E4>HC$3-1,(('Operating Pro Forma'!$T$59-'Operating Pro Forma'!$T$62)/12)*'Debt Service'!$F4),IF($E4>HC$3-1,$H4,0)) -> 0 | HD4: =IF($I4="Percentage of Cash Flow",IF($E4>HD$3-1,(('Operating Pro Forma'!$T$59-'Operating Pro Forma'!$T$62)/12)*'Debt Service'!$F4),IF($E4>HD$3-1,$H4,0)) -> 0 | HE4: =IF($I4="Percentage of Cash Flow",IF($E4>HE$3-1,(('Operating Pro Forma'!$T$59-'Operating Pro Forma'!$T$62)/12)*'Debt Service'!$F4),IF($E4>HE$3-1,$H4,0)) -> 0 | HF4: =IF($I4="Percentage of Cash Flow",IF($E4>HF$3-1,(('Operating Pro Forma'!$T$59-'Operating Pro Forma'!$T$62)/12)*'Debt Service'!$F4),IF($E4>HF$3-1,$H4,0)) -> 0 | HG4: =IF($I4="Percentage of Cash Flow",IF($E4>HG$3-1,(('Operating Pro Forma'!$T$59-'Operating Pro Forma'!$T$62)/12)*'Debt Service'!$F4),IF($E4>HG$3-1,$H4,0)) -> 0 | ... HK4: =IF($I4="Percentage of Cash Flow",IF($E4>HK$3-1,(('Operating Pro Forma'!$T$59-'Operating Pro Forma'!$T$62)/12)*'Debt Service'!$F4),IF($E4>HK$3-1,$H4,0)) -> 0 | HL4: =SUMIF(GZ4:HK4,">0") -> 0 | HM4: =IF($I4="Percentage of Cash Flow",IF($E4>HM$3-1,(('Operating Pro Forma'!$U$59-'Operating Pro Forma'!$U$62)/12)*'Debt Service'!$F4),IF($E4>HM$3-1,$H4,0)) -> 0 | HN4: =IF($I4="Percentage of Cash Flow",IF($E4>HN$3-1,(('Operating Pro Forma'!$U$59-'Operating Pro Forma'!$U$62)/12)*'Debt Service'!$F4),IF($E4>HN$3-1,$H4,0)) -> 0 | HO4: =IF($I4="Percentage of Cash Flow",IF($E4>HO$3-1,(('Operating Pro Forma'!$U$59-'Operating Pro Forma'!$U$62)/12)*'Debt Service'!$F4),IF($E4>HO$3-1,$H4,0)) -> 0 | HP4: =IF($I4="Percentage of Cash Flow",IF($E4>HP$3-1,(('Operating Pro Forma'!$U$59-'Operating Pro Forma'!$U$62)/12)*'Debt Service'!$F4),IF($E4>HP$3-1,$H4,0)) -> 0 | HQ4: =IF($I4="Percentage of Cash Flow",IF($E4>HQ$3-1,(('Operating Pro Forma'!$U$59-'Operating Pro Forma'!$U$62)/12)*'Debt Service'!$F4),IF($E4>HQ$3-1,$H4,0)) -> 0 | HR4: =IF($I4="Percentage of Cash Flow",IF($E4>HR$3-1,(('Operating Pro Forma'!$U$59-'Operating Pro Forma'!$U$62)/12)*'Debt Service'!$F4),IF($E4>HR$3-1,$H4,0)) -> 0 | HS4: =IF($I4="Percentage of Cash Flow",IF($E4>HS$3-1,(('Operating Pro Forma'!$U$59-'Operating Pro Forma'!$U$62)/12)*'Debt Service'!$F4),IF($E4>HS$3-1,$H4,0)) -> 0 | HT4: =IF($I4="Percentage of Cash Flow",IF($E4>HT$3-1,(('Operating Pro Forma'!$U$59-'Operating Pro Forma'!$U$62)/12)*'Debt Service'!$F4),IF($E4>HT$3-1,$H4,0)) -> 0 | ... HX4: =IF($I4="Percentage of Cash Flow",IF($E4>HX$3-1,(('Operating Pro Forma'!$U$59-'Operating Pro Forma'!$U$62)/12)*'Debt Service'!$F4),IF($E4>HX$3-1,$H4,0)) -> 0 | HY4: =SUMIF(HM4:HX4,">0") -> 0 | HZ4: =IF($I4="Percentage of Cash Flow",IF($E4>HZ$3-1,(('Operating Pro Forma'!$V$59-'Operating Pro Forma'!$V$62)/12)*'Debt Service'!$F4),IF($E4>HZ$3-1,$H4,0)) -> 0 | IA4: =IF($I4="Percentage of Cash Flow",IF($E4>IA$3-1,(('Operating Pro Forma'!$V$59-'Operating Pro Forma'!$V$62)/12)*'Debt Service'!$F4),IF($E4>IA$3-1,$H4,0)) -> 0 | IB4: =IF($I4="Percentage of Cash Flow",IF($E4>IB$3-1,(('Operating Pro Forma'!$V$59-'Operating Pro Forma'!$V$62)/12)*'Debt Service'!$F4),IF($E4>IB$3-1,$H4,0)) -> 0 | IC4: =IF($I4="Percentage of Cash Flow",IF($E4>IC$3-1,(('Operating Pro Forma'!$V$59-'Operating Pro Forma'!$V$62)/12)*'Debt Service'!$F4),IF($E4>IC$3-1,$H4,0)) -> 0 | ID4: =IF($I4="Percentage of Cash Flow",IF($E4>ID$3-1,(('Operating Pro Forma'!$V$59-'Operating Pro Forma'!$V$62)/12)*'Debt Service'!$F4),IF($E4>ID$3-1,$H4,0)) -> 0 | IE4: =IF($I4="Percentage of Cash Flow",IF($E4>IE$3-1,(('Operating Pro Forma'!$V$59-'Operating Pro Forma'!$V$62)/12)*'Debt Service'!$F4),IF($E4>IE$3-1,$H4,0)) -> 0 | IF4: =IF($I4="Percentage of Cash Flow",IF($E4>IF$3-1,(('Operating Pro Forma'!$V$59-'Operating Pro Forma'!$V$62)/12)*'Debt Service'!$F4),IF($E4>IF$3-1,$H4,0)) -> 0 | IG4: =IF($I4="Percentage of Cash Flow",IF($E4>IG$3-1,(('Operating Pro Forma'!$V$59-'Operating Pro Forma'!$V$62)/12)*'Debt Service'!$F4),IF($E4>IG$3-1,$H4,0)) -> 0 | ... IK4: =IF($I4="Percentage of Cash Flow",IF($E4>IK$3-1,(('Operating Pro Forma'!$V$59-'Operating Pro Forma'!$V$62)/12)*'Debt Service'!$F4),IF($E4>IK$3-1,$H4,0)) -> 0 | IL4: =SUMIF(HZ4:IK4,">0") -> 0 | IM4: =IF($I4="Percentage of Cash Flow",IF($E4>IM$3-1,(('Operating Pro Forma'!$W$59-'Operating Pro Forma'!$W$62)/12)*'Debt Service'!$F$4),IF($E4>IM$3-1,$H4,0)) -> 0 | IN4: =IF($I4="Percentage of Cash Flow",IF($E4>IN$3-1,(('Operating Pro Forma'!$W$59-'Operating Pro Forma'!$W$62)/12)*'Debt Service'!$F$4),IF($E4>IN$3-1,$H4,0)) -> 0 | IO4: =IF($I4="Percentage of Cash Flow",IF($E4>IO$3-1,(('Operating Pro Forma'!$W$59-'Operating Pro Forma'!$W$62)/12)*'Debt Service'!$F$4),IF($E4>IO$3-1,$H4,0)) -> 0 | IP4: =IF($I4="Percentage of Cash Flow",IF($E4>IP$3-1,(('Operating Pro Forma'!$W$59-'Operating Pro Forma'!$W$62)/12)*'Debt Service'!$F$4),IF($E4>IP$3-1,$H4,0)) -> 0 | IQ4: =IF($I4="Percentage of Cash Flow",IF($E4>IQ$3-1,(('Operating Pro Forma'!$W$59-'Operating Pro Forma'!$W$62)/12)*'Debt Service'!$F$4),IF($E4>IQ$3-1,$H4,0)) -> 0 | IR4: =IF($I4="Percentage of Cash Flow",IF($E4>IR$3-1,(('Operating Pro Forma'!$W$59-'Operating Pro Forma'!$W$62)/12)*'Debt Service'!$F$4),IF($E4>IR$3-1,$H4,0)) -> 0 | IS4: =IF($I4="Percentage of Cash Flow",IF($E4>IS$3-1,(('Operating Pro Forma'!$W$59-'Operating Pro Forma'!$W$62)/12)*'Debt Service'!$F$4),IF($E4>IS$3-1,$H4,0)) -> 0 | IT4: =IF($I4="Percentage of Cash Flow",IF($E4>IT$3-1,(('Operating Pro Forma'!$W$59-'Operating Pro Forma'!$W$62)/12)*'Debt Service'!$F$4),IF($E4>IT$3-1,$H4,0)) -> 0 | ... IX4: =IF($I4="Percentage of Cash Flow",IF($E4>IX$3-1,(('Operating Pro Forma'!$W$59-'Operating Pro Forma'!$W$62)/12)*'Debt Service'!$F$4),IF($E4>IX$3-1,$H4,0)) -> 0 | IY4: =SUMIF(IM4:IX4,">0") -> 0 | IZ4: =IF($I4="Percentage of Cash Flow",IF($E4>IZ$3-1,(('Operating Pro Forma'!$X$59-'Operating Pro Forma'!$X$62)/12)*'Debt Service'!$F4),IF($E4>IZ$3-1,$H4,0)) -> 0 | JA4: =IF($I4="Percentage of Cash Flow",IF($E4>JA$3-1,(('Operating Pro Forma'!$X$59-'Operating Pro Forma'!$X$62)/12)*'Debt Service'!$F4),IF($E4>JA$3-1,$H4,0)) -> 0 | JB4: =IF($I4="Percentage of Cash Flow",IF($E4>JB$3-1,(('Operating Pro Forma'!$X$59-'Operating Pro Forma'!$X$62)/12)*'Debt Service'!$F4),IF($E4>JB$3-1,$H4,0)) -> 0 | JC4: =IF($I4="Percentage of Cash Flow",IF($E4>JC$3-1,(('Operating Pro Forma'!$X$59-'Operating Pro Forma'!$X$62)/12)*'Debt Service'!$F4),IF($E4>JC$3-1,$H4,0)) -> 0 | JD4: =IF($I4="Percentage of Cash Flow",IF($E4>JD$3-1,(('Operating Pro Forma'!$X$59-'Operating Pro Forma'!$X$62)/12)*'Debt Service'!$F4),IF($E4>JD$3-1,$H4,0)) -> 0 | JE4: =IF($I4="Percentage of Cash Flow",IF($E4>JE$3-1,(('Operating Pro Forma'!$X$59-'Operating Pro Forma'!$X$62)/12)*'Debt Service'!$F4),IF($E4>JE$3-1,$H4,0)) -> 0 | JF4: =IF($I4="Percentage of Cash Flow",IF($E4>JF$3-1,(('Operating Pro Forma'!$X$59-'Operating Pro Forma'!$X$62)/12)*'Debt Service'!$F4),IF($E4>JF$3-1,$H4,0)) -> 0 | JG4: =IF($I4="Percentage of Cash Flow",IF($E4>JG$3-1,(('Operating Pro Forma'!$X$59-'Operating Pro Forma'!$X$62)/12)*'Debt Service'!$F4),IF($E4>JG$3-1,$H4,0)) -> 0 | ... JK4: =IF($I4="Percentage of Cash Flow",IF($E4>JK$3-1,(('Operating Pro Forma'!$X$59-'Operating Pro Forma'!$X$62)/12)*'Debt Service'!$F4),IF($E4>JK$3-1,$H4,0)) -> 0 | JL4: =SUMIF(IZ4:JK4,">0") -> 0 | JM4: =IF($I4="Percentage of Cash Flow",IF($E4>JM$3-1,(('Operating Pro Forma'!$Y$59-'Operating Pro Forma'!$Y$62)/12)*'Debt Service'!$F4),IF($E4>JM$3-1,$H4,0)) -> 0 | JN4: =IF($I4="Percentage of Cash Flow",IF($E4>JN$3-1,(('Operating Pro Forma'!$Y$59-'Operating Pro Forma'!$Y$62)/12)*'Debt Service'!$F4),IF($E4>JN$3-1,$H4,0)) -> 0 | JO4: =IF($I4="Percentage of Cash Flow",IF($E4>JO$3-1,(('Operating Pro Forma'!$Y$59-'Operating Pro Forma'!$Y$62)/12)*'Debt Service'!$F4),IF($E4>JO$3-1,$H4,0)) -> 0 | JP4: =IF($I4="Percentage of Cash Flow",IF($E4>JP$3-1,(('Operating Pro Forma'!$Y$59-'Operating Pro Forma'!$Y$62)/12)*'Debt Service'!$F4),IF($E4>JP$3-1,$H4,0)) -> 0 | JQ4: =IF($I4="Percentage of Cash Flow",IF($E4>JQ$3-1,(('Operating Pro Forma'!$Y$59-'Operating Pro Forma'!$Y$62)/12)*'Debt Service'!$F4),IF($E4>JQ$3-1,$H4,0)) -> 0 | JR4: =IF($I4="Percentage of Cash Flow",IF($E4>JR$3-1,(('Operating Pro Forma'!$Y$59-'Operating Pro Forma'!$Y$62)/12)*'Debt Service'!$F4),IF($E4>JR$3-1,$H4,0)) -> 0 | JS4: =IF($I4="Percentage of Cash Flow",IF($E4>JS$3-1,(('Operating Pro Forma'!$Y$59-'Operating Pro Forma'!$Y$62)/12)*'Debt Service'!$F4),IF($E4>JS$3-1,$H4,0)) -> 0 | JT4: =IF($I4="Percentage of Cash Flow",IF($E4>JT$3-1,(('Operating Pro Forma'!$Y$59-'Operating Pro Forma'!$Y$62)/12)*'Debt Service'!$F4),IF($E4>JT$3-1,$H4,0)) -> 0 | ... JX4: =IF($I4="Percentage of Cash Flow",IF($E4>JX$3-1,(('Operating Pro Forma'!$Y$59-'Operating Pro Forma'!$Y$62)/12)*'Debt Service'!$F4),IF($E4>JX$3-1,$H4,0)) -> 0 | JY4: =SUMIF(JM4:JX4,">0") -> 0 | JZ4: =IF($I4="Percentage of Cash Flow",IF($E4>JZ$3-1,(('Operating Pro Forma'!$Z$59-'Operating Pro Forma'!$Z$62)/12)*'Debt Service'!$F4),IF($E4>JZ$3-1,$H4,0)) -> 0 | KA4: =IF($I4="Percentage of Cash Flow",IF($E4>KA$3-1,(('Operating Pro Forma'!$Z$59-'Operating Pro Forma'!$Z$62)/12)*'Debt Service'!$F4),IF($E4>KA$3-1,$H4,0)) -> 0 | KB4: =IF($I4="Percentage of Cash Flow",IF($E4>KB$3-1,(('Operating Pro Forma'!$Z$59-'Operating Pro Forma'!$Z$62)/12)*'Debt Service'!$F4),IF($E4>KB$3-1,$H4,0)) -> 0 | KC4: =IF($I4="Percentage of Cash Flow",IF($E4>KC$3-1,(('Operating Pro Forma'!$Z$59-'Operating Pro Forma'!$Z$62)/12)*'Debt Service'!$F4),IF($E4>KC$3-1,$H4,0)) -> 0 | KD4: =IF($I4="Percentage of Cash Flow",IF($E4>KD$3-1,(('Operating Pro Forma'!$Z$59-'Operating Pro Forma'!$Z$62)/12)*'Debt Service'!$F4),IF($E4>KD$3-1,$H4,0)) -> 0 | KE4: =IF($I4="Percentage of Cash Flow",IF($E4>KE$3-1,(('Operating Pro Forma'!$Z$59-'Operating Pro Forma'!$Z$62)/12)*'Debt Service'!$F4),IF($E4>KE$3-1,$H4,0)) -> 0 | KF4: =IF($I4="Percentage of Cash Flow",IF($E4>KF$3-1,(('Operating Pro Forma'!$Z$59-'Operating Pro Forma'!$Z$62)/12)*'Debt Service'!$F4),IF($E4>KF$3-1,$H4,0)) -> 0 | KG4: =IF($I4="Percentage of Cash Flow",IF($E4>KG$3-1,(('Operating Pro Forma'!$Z$59-'Operating Pro Forma'!$Z$62)/12)*'Debt Service'!$F4),IF($E4>KG$3-1,$H4,0)) -> 0 | ... KK4: =IF($I4="Percentage of Cash Flow",IF($E4>KK$3-1,(('Operating Pro Forma'!$Z$59-'Operating Pro Forma'!$Z$62)/12)*'Debt Service'!$F4),IF($E4>KK$3-1,$H4,0)) -> 0 | KL4: =SUMIF(JZ4:KK4,">0") -> 0 | KM4: =IF($I4="Percentage of Cash Flow",IF($E4>KM$3-1,(('Operating Pro Forma'!$AA$59-'Operating Pro Forma'!$AA$62)/12)*'Debt Service'!$F4),IF($E4>KM$3-1,$H4,0)) -> 0 | KN4: =IF($I4="Percentage of Cash Flow",IF($E4>KN$3-1,(('Operating Pro Forma'!$AA$59-'Operating Pro Forma'!$AA$62)/12)*'Debt Service'!$F4),IF($E4>KN$3-1,$H4,0)) -> 0 | KO4: =IF($I4="Percentage of Cash Flow",IF($E4>KO$3-1,(('Operating Pro Forma'!$AA$59-'Operating Pro Forma'!$AA$62)/12)*'Debt Service'!$F4),IF($E4>KO$3-1,$H4,0)) -> 0 | KP4: =IF($I4="Percentage of Cash Flow",IF($E4>KP$3-1,(('Operating Pro Forma'!$AA$59-'Operating Pro Forma'!$AA$62)/12)*'Debt Service'!$F4),IF($E4>KP$3-1,$H4,0)) -> 0 | KQ4: =IF($I4="Percentage of Cash Flow",IF($E4>KQ$3-1,(('Operating Pro Forma'!$AA$59-'Operating Pro Forma'!$AA$62)/12)*'Debt Service'!$F4),IF($E4>KQ$3-1,$H4,0)) -> 0 | KR4: =IF($I4="Percentage of Cash Flow",IF($E4>KR$3-1,(('Operating Pro Forma'!$AA$59-'Operating Pro Forma'!$AA$62)/12)*'Debt Service'!$F4),IF($E4>KR$3-1,$H4,0)) -> 0 | KS4: =IF($I4="Percentage of Cash Flow",IF($E4>KS$3-1,(('Operating Pro Forma'!$AA$59-'Operating Pro Forma'!$AA$62)/12)*'Debt Service'!$F4),IF($E4>KS$3-1,$H4,0)) -> 0 | KT4: =IF($I4="Percentage of Cash Flow",IF($E4>KT$3-1,(('Operating Pro Forma'!$AA$59-'Operating Pro Forma'!$AA$62)/12)*'Debt Service'!$F4),IF($E4>KT$3-1,$H4,0)) -> 0 | ... KX4: =IF($I4="Percentage of Cash Flow",IF($E4>KX$3-1,(('Operating Pro Forma'!$AA$59-'Operating Pro Forma'!$AA$62)/12)*'Debt Service'!$F4),IF($E4>KX$3-1,$H4,0)) -> 0 | KY4: =SUMIF(KM4:KX4,">0") -> 0 | KZ4: =IF($I4="Percentage of Cash Flow",IF($E4>KZ$3-1,(('Operating Pro Forma'!$AB$59-'Operating Pro Forma'!$AB$62)/12)*'Debt Service'!$F4),IF($E4>KZ$3-1,$H4,0)) -> 0 | LA4: =IF($I4="Percentage of Cash Flow",IF($E4>LA$3-1,(('Operating Pro Forma'!$AB$59-'Operating Pro Forma'!$AB$62)/12)*'Debt Service'!$F4),IF($E4>LA$3-1,$H4,0)) -> 0 | LB4: =IF($I4="Percentage of Cash Flow",IF($E4>LB$3-1,(('Operating Pro Forma'!$AB$59-'Operating Pro Forma'!$AB$62)/12)*'Debt Service'!$F4),IF($E4>LB$3-1,$H4,0)) -> 0 | LC4: =IF($I4="Percentage of Cash Flow",IF($E4>LC$3-1,(('Operating Pro Forma'!$AB$59-'Operating Pro Forma'!$AB$62)/12)*'Debt Service'!$F4),IF($E4>LC$3-1,$H4,0)) -> 0 | LD4: =IF($I4="Percentage of Cash Flow",IF($E4>LD$3-1,(('Operating Pro Forma'!$AB$59-'Operating Pro Forma'!$AB$62)/12)*'Debt Service'!$F4),IF($E4>LD$3-1,$H4,0)) -> 0 | LE4: =IF($I4="Percentage of Cash Flow",IF($E4>LE$3-1,(('Operating Pro Forma'!$AB$59-'Operating Pro Forma'!$AB$62)/12)*'Debt Service'!$F4),IF($E4>LE$3-1,$H4,0)) -> 0 | LF4: =IF($I4="Percentage of Cash Flow",IF($E4>LF$3-1,(('Operating Pro Forma'!$AB$59-'Operating Pro Forma'!$AB$62)/12)*'Debt Service'!$F4),IF($E4>LF$3-1,$H4,0)) -> 0 | LG4: =IF($I4="Percentage of Cash Flow",IF($E4>LG$3-1,(('Operating Pro Forma'!$AB$59-'Operating Pro Forma'!$AB$62)/12)*'Debt Service'!$F4),IF($E4>LG$3-1,$H4,0)) -> 0 | ... LK4: =IF($I4="Percentage of Cash Flow",IF($E4>LK$3-1,(('Operating Pro Forma'!$AB$59-'Operating Pro Forma'!$AB$62)/12)*'Debt Service'!$F4),IF($E4>LK$3-1,$H4,0)) -> 0 | LL4: =SUMIF(KZ4:LK4,">0") -> 0 | LM4: =IF($I4="Percentage of Cash Flow",IF($E4>LM$3-1,(('Operating Pro Forma'!$AC$59-'Operating Pro Forma'!$AC$62)/12)*'Debt Service'!$F4),IF($E4>LM$3-1,$H4,0)) -> 0 | LN4: =IF($I4="Percentage of Cash Flow",IF($E4>LN$3-1,(('Operating Pro Forma'!$AC$59-'Operating Pro Forma'!$AC$62)/12)*'Debt Service'!$F4),IF($E4>LN$3-1,$H4,0)) -> 0 | LO4: =IF($I4="Percentage of Cash Flow",IF($E4>LO$3-1,(('Operating Pro Forma'!$AC$59-'Operating Pro Forma'!$AC$62)/12)*'Debt Service'!$F4),IF($E4>LO$3-1,$H4,0)) -> 0 | LP4: =IF($I4="Percentage of Cash Flow",IF($E4>LP$3-1,(('Operating Pro Forma'!$AC$59-'Operating Pro Forma'!$AC$62)/12)*'Debt Service'!$F4),IF($E4>LP$3-1,$H4,0)) -> 0 | LQ4: =IF($I4="Percentage of Cash Flow",IF($E4>LQ$3-1,(('Operating Pro Forma'!$AC$59-'Operating Pro Forma'!$AC$62)/12)*'Debt Service'!$F4),IF($E4>LQ$3-1,$H4,0)) -> 0 | LR4: =IF($I4="Percentage of Cash Flow",IF($E4>LR$3-1,(('Operating Pro Forma'!$AC$59-'Operating Pro Forma'!$AC$62)/12)*'Debt Service'!$F4),IF($E4>LR$3-1,$H4,0)) -> 0 | LS4: =IF($I4="Percentage of Cash Flow",IF($E4>LS$3-1,(('Operating Pro Forma'!$AC$59-'Operating Pro Forma'!$AC$62)/12)*'Debt Service'!$F4),IF($E4>LS$3-1,$H4,0)) -> 0 | LT4: =IF($I4="Percentage of Cash Flow",IF($E4>LT$3-1,(('Operating Pro Forma'!$AC$59-'Operating Pro Forma'!$AC$62)/12)*'Debt Service'!$F4),IF($E4>LT$3-1,$H4,0)) -> 0 | ... LX4: =IF($I4="Percentage of Cash Flow",IF($E4>LX$3-1,(('Operating Pro Forma'!$AC$59-'Operating Pro Forma'!$AC$62)/12)*'Debt Service'!$F4),IF($E4>LX$3-1,$H4,0)) -> 0 | LY4: =SUMIF(LM4:LX4,">0") -> 0 | LZ4: =IF($I4="Percentage of Cash Flow",IF($E4>LZ$3-1,(('Operating Pro Forma'!$AD$59-'Operating Pro Forma'!$AD$62)/12)*'Debt Service'!$F4),IF($E4>LZ$3-1,$H4,0)) -> 0 | MA4: =IF($I4="Percentage of Cash Flow",IF($E4>MA$3-1,(('Operating Pro Forma'!$AD$59-'Operating Pro Forma'!$AD$62)/12)*'Debt Service'!$F4),IF($E4>MA$3-1,$H4,0)) -> 0 | MB4: =IF($I4="Percentage of Cash Flow",IF($E4>MB$3-1,(('Operating Pro Forma'!$AD$59-'Operating Pro Forma'!$AD$62)/12)*'Debt Service'!$F4),IF($E4>MB$3-1,$H4,0)) -> 0 | MC4: =IF($I4="Percentage of Cash Flow",IF($E4>MC$3-1,(('Operating Pro Forma'!$AD$59-'Operating Pro Forma'!$AD$62)/12)*'Debt Service'!$F4),IF($E4>MC$3-1,$H4,0)) -> 0 | MD4: =IF($I4="Percentage of Cash Flow",IF($E4>MD$3-1,(('Operating Pro Forma'!$AD$59-'Operating Pro Forma'!$AD$62)/12)*'Debt Service'!$F4),IF($E4>MD$3-1,$H4,0)) -> 0 | ME4: =IF($I4="Percentage of Cash Flow",IF($E4>ME$3-1,(('Operating Pro Forma'!$AD$59-'Operating Pro Forma'!$AD$62)/12)*'Debt Service'!$F4),IF($E4>ME$3-1,$H4,0)) -> 0 | MF4: =IF($I4="Percentage of Cash Flow",IF($E4>MF$3-1,(('Operating Pro Forma'!$AD$59-'Operating Pro Forma'!$AD$62)/12)*'Debt Service'!$F4),IF($E4>MF$3-1,$H4,0)) -> 0 | MG4: =IF($I4="Percentage of Cash Flow",IF($E4>MG$3-1,(('Operating Pro Forma'!$AD$59-'Operating Pro Forma'!$AD$62)/12)*'Debt Service'!$F4),IF($E4>MG$3-1,$H4,0)) -> 0 | ... MK4: =IF($I4="Percentage of Cash Flow",IF($E4>MK$3-1,(('Operating Pro Forma'!$AD$59-'Operating Pro Forma'!$AD$62)/12)*'Debt Service'!$F4),IF($E4>MK$3-1,$H4,0)) -> 0 | ML4: =SUMIF(LZ4:MK4,">0") -> 0 | MM4: =IF($I4="Percentage of Cash Flow",IF($E4>MM$3-1,(('Operating Pro Forma'!$AE$59-'Operating Pro Forma'!$AE$62)/12)*'Debt Service'!$F4),IF($E4>MM$3-1,$H4,0)) -> 0 | MN4: =IF($I4="Percentage of Cash Flow",IF($E4>MN$3-1,(('Operating Pro Forma'!$AE$59-'Operating Pro Forma'!$AE$62)/12)*'Debt Service'!$F4),IF($E4>MN$3-1,$H4,0)) -> 0 | MO4: =IF($I4="Percentage of Cash Flow",IF($E4>MO$3-1,(('Operating Pro Forma'!$AE$59-'Operating Pro Forma'!$AE$62)/12)*'Debt Service'!$F4),IF($E4>MO$3-1,$H4,0)) -> 0 | MP4: =IF($I4="Percentage of Cash Flow",IF($E4>MP$3-1,(('Operating Pro Forma'!$AE$59-'Operating Pro Forma'!$AE$62)/12)*'Debt Service'!$F4),IF($E4>MP$3-1,$H4,0)) -> 0 | MQ4: =IF($I4="Percentage of Cash Flow",IF($E4>MQ$3-1,(('Operating Pro Forma'!$AE$59-'Operating Pro Forma'!$AE$62)/12)*'Debt Service'!$F4),IF($E4>MQ$3-1,$H4,0)) -> 0 | MR4: =IF($I4="Percentage of Cash Flow",IF($E4>MR$3-1,(('Operating Pro Forma'!$AE$59-'Operating Pro Forma'!$AE$62)/12)*'Debt Service'!$F4),IF($E4>MR$3-1,$H4,0)) -> 0 | MS4: =IF($I4="Percentage of Cash Flow",IF($E4>MS$3-1,(('Operating Pro Forma'!$AE$59-'Operating Pro Forma'!$AE$62)/12)*'Debt Service'!$F4),IF($E4>MS$3-1,$H4,0)) -> 0 | MT4: =IF($I4="Percentage of Cash Flow",IF($E4>MT$3-1,(('Operating Pro Forma'!$AE$59-'Operating Pro Forma'!$AE$62)/12)*'Debt Service'!$F4),IF($E4>MT$3-1,$H4,0)) -> 0 | ... MX4: =IF($I4="Percentage of Cash Flow",IF($E4>MX$3-1,(('Operating Pro Forma'!$AE$59-'Operating Pro Forma'!$AE$62)/12)*'Debt Service'!$F4),IF($E4>MX$3-1,$H4,0)) -> 0 | MY4: =SUMIF(MM4:MX4,">0") -> 0 | MZ4: =IF($I4="Percentage of Cash Flow",IF($E4>MZ$3-1,(('Operating Pro Forma'!$AF$59-'Operating Pro Forma'!$AF$62)/12)*'Debt Service'!$F4),IF($E4>MZ$3-1,$H4,0)) -> 0 | NA4: =IF($I4="Percentage of Cash Flow",IF($E4>NA$3-1,(('Operating Pro Forma'!$AF$59-'Operating Pro Forma'!$AF$62)/12)*'Debt Service'!$F4),IF($E4>NA$3-1,$H4,0)) -> 0 | NB4: =IF($I4="Percentage of Cash Flow",IF($E4>NB$3-1,(('Operating Pro Forma'!$AF$59-'Operating Pro Forma'!$AF$62)/12)*'Debt Service'!$F4),IF($E4>NB$3-1,$H4,0)) -> 0 | NC4: =IF($I4="Percentage of Cash Flow",IF($E4>NC$3-1,(('Operating Pro Forma'!$AF$59-'Operating Pro Forma'!$AF$62)/12)*'Debt Service'!$F4),IF($E4>NC$3-1,$H4,0)) -> 0 | ND4: =IF($I4="Percentage of Cash Flow",IF($E4>ND$3-1,(('Operating Pro Forma'!$AF$59-'Operating Pro Forma'!$AF$62)/12)*'Debt Service'!$F4),IF($E4>ND$3-1,$H4,0)) -> 0 | NE4: =IF($I4="Percentage of Cash Flow",IF($E4>NE$3-1,(('Operating Pro Forma'!$AF$59-'Operating Pro Forma'!$AF$62)/12)*'Debt Service'!$F4),IF($E4>NE$3-1,$H4,0)) -> 0 | NF4: =IF($I4="Percentage of Cash Flow",IF($E4>NF$3-1,(('Operating Pro Forma'!$AF$59-'Operating Pro Forma'!$AF$62)/12)*'Debt Service'!$F4),IF($E4>NF$3-1,$H4,0)) -> 0 | NG4: =IF($I4="Percentage of Cash Flow",IF($E4>NG$3-1,(('Operating Pro Forma'!$AF$59-'Operating Pro Forma'!$AF$62)/12)*'Debt Service'!$F4),IF($E4>NG$3-1,$H4,0)) -> 0 | ... NK4: =IF($I4="Percentage of Cash Flow",IF($E4>NK$3-1,(('Operating Pro Forma'!$AF$59-'Operating Pro Forma'!$AF$62)/12)*'Debt Service'!$F4),IF($E4>NK$3-1,$H4,0)) -> 0 | NL4: =SUMIF(MZ4:NK4,">0") -> 0 | NM4: =IF($I4="Percentage of Cash Flow",IF($E4>NM$3-1,(('Operating Pro Forma'!$AG$59-'Operating Pro Forma'!$AG$62)/12)*'Debt Service'!$F4),IF($E4>NM$3-1,$H4,0)) -> 0 | NN4: =IF($I4="Percentage of Cash Flow",IF($E4>NN$3-1,(('Operating Pro Forma'!$AG$59-'Operating Pro Forma'!$AG$62)/12)*'Debt Service'!$F4),IF($E4>NN$3-1,$H4,0)) -> 0 | NO4: =IF($I4="Percentage of Cash Flow",IF($E4>NO$3-1,(('Operating Pro Forma'!$AG$59-'Operating Pro Forma'!$AG$62)/12)*'Debt Service'!$F4),IF($E4>NO$3-1,$H4,0)) -> 0 | NP4: =IF($I4="Percentage of Cash Flow",IF($E4>NP$3-1,(('Operating Pro Forma'!$AG$59-'Operating Pro Forma'!$AG$62)/12)*'Debt Service'!$F4),IF($E4>NP$3-1,$H4,0)) -> 0 | NQ4: =IF($I4="Percentage of Cash Flow",IF($E4>NQ$3-1,(('Operating Pro Forma'!$AG$59-'Operating Pro Forma'!$AG$62)/12)*'Debt Service'!$F4),IF($E4>NQ$3-1,$H4,0)) -> 0 | NR4: =IF($I4="Percentage of Cash Flow",IF($E4>NR$3-1,(('Operating Pro Forma'!$AG$59-'Operating Pro Forma'!$AG$62)/12)*'Debt Service'!$F4),IF($E4>NR$3-1,$H4,0)) -> 0 | NS4: =IF($I4="Percentage of Cash Flow",IF($E4>NS$3-1,(('Operating Pro Forma'!$AG$59-'Operating Pro Forma'!$AG$62)/12)*'Debt Service'!$F4),IF($E4>NS$3-1,$H4,0)) -> 0 | NT4: =IF($I4="Percentage of Cash Flow",IF($E4>NT$3-1,(('Operating Pro Forma'!$AG$59-'Operating Pro Forma'!$AG$62)/12)*'Debt Service'!$F4),IF($E4>NT$3-1,$H4,0)) -> 0 | ... NX4: =IF($I4="Percentage of Cash Flow",IF($E4>NX$3-1,(('Operating Pro Forma'!$AG$59-'Operating Pro Forma'!$AG$62)/12)*'Debt Service'!$F4),IF($E4>NX$3-1,$H4,0)) -> 0 | NY4: =SUMIF(NM4:NX4,">0") -> 0 | NZ4: =IF($I4="Percentage of Cash Flow",IF($E4>NZ$3-1,(('Operating Pro Forma'!$AH$59-'Operating Pro Forma'!$AH$62)/12)*'Debt Service'!$F4),IF($E4>NZ$3-1,$H4,0)) -> 0 | OA4: =IF($I4="Percentage of Cash Flow",IF($E4>OA$3-1,(('Operating Pro Forma'!$AH$59-'Operating Pro Forma'!$AH$62)/12)*'Debt Service'!$F4),IF($E4>OA$3-1,$H4,0)) -> 0 | OB4: =IF($I4="Percentage of Cash Flow",IF($E4>OB$3-1,(('Operating Pro Forma'!$AH$59-'Operating Pro Forma'!$AH$62)/12)*'Debt Service'!$F4),IF($E4>OB$3-1,$H4,0)) -> 0 | OC4: =IF($I4="Percentage of Cash Flow",IF($E4>OC$3-1,(('Operating Pro Forma'!$AH$59-'Operating Pro Forma'!$AH$62)/12)*'Debt Service'!$F4),IF($E4>OC$3-1,$H4,0)) -> 0 | OD4: =IF($I4="Percentage of Cash Flow",IF($E4>OD$3-1,(('Operating Pro Forma'!$AH$59-'Operating Pro Forma'!$AH$62)/12)*'Debt Service'!$F4),IF($E4>OD$3-1,$H4,0)) -> 0 | OE4: =IF($I4="Percentage of Cash Flow",IF($E4>OE$3-1,(('Operating Pro Forma'!$AH$59-'Operating Pro Forma'!$AH$62)/12)*'Debt Service'!$F4),IF($E4>OE$3-1,$H4,0)) -> 0 | OF4: =IF($I4="Percentage of Cash Flow",IF($E4>OF$3-1,(('Operating Pro Forma'!$AH$59-'Operating Pro Forma'!$AH$62)/12)*'Debt Service'!$F4),IF($E4>OF$3-1,$H4,0)) -> 0 | OG4: =IF($I4="Percentage of Cash Flow",IF($E4>OG$3-1,(('Operating Pro Forma'!$AH$59-'Operating Pro Forma'!$AH$62)/12)*'Debt Service'!$F4),IF($E4>OG$3-1,$H4,0)) -> 0 | ... OK4: =IF($I4="Percentage of Cash Flow",IF($E4>OK$3-1,(('Operating Pro Forma'!$AH$59-'Operating Pro Forma'!$AH$62)/12)*'Debt Service'!$F4),IF($E4>OK$3-1,$H4,0)) -> 0 | OL4: =SUMIF(NZ4:OK4,">0") -> 0
