{"text_format":"1","workbook":"xlsx","n_sheets":6,"sheets":["Muni","Summary","Self Liquidating","Local School","Regional School","Spec Borrowing Power"],"not_rendered":{"charts":0,"images":2,"macros":1,"external_links":0,"defined_names":9,"comments":0,"pivot_tables":0},"unopened":[],"bounds":{"document_bytes":16777216,"sheet_cells":100000,"rows_first":2000,"rows_last":500,"rows_between":2000,"halvings":0,"cell_chars":16384,"cell_head_chars":4096},"cells_cut":0,"cells_raw":0,"read":"whole","date_system":"1900"}

{"sheet":"Muni","index":0,"n_rows":586,"n_cols":13,"rows_kept":586,"cut":false,"hidden":true,"merged":[[0,9,0,19]]}
["ENTITY NAME","CODE","COUNTY",2022,2023,2024,"3-YEAR AVERAGE","SCHOOL ","UTILITY"]
["Aberdeen Township","1330","Monmouth",2850322221,3125890785,3454220882,{"$f":"AVERAGE(D2:F2)","v":3143477962.6666665}]
["Absecon City","0101","Atlantic",857513986,948766396,1059538473,{"$f":"AVERAGE(D3:F3)","v":955272951.66666663},null,null,null,0,null,"Black Horse Pike Regional School District"]
["Alexandria Township","1001","Hunterdon",886478833,963637307,1023378027,957831389,"Type I","Arena",null,2.5000000000000001E-2,null,"Bordentown Regional School District"]
["Allamuchy Township","2101","Warren",844022228,908686619,1004087945,918932264,"Type II","Affordable Housing",null,0.03,null,"Bridgewater-Raritan Regional School District"]
["Allendale Borough","0201","Bergen",2075748594,2210697687,2448582994,2245009758.3333335,null,"Airport",null,3.5000000000000003E-2,null,"Buena Regional School District"]
["Allenhurst Borough","1301","Monmouth",976186662,1461222836,1462314264,1299907920.6666667,null,"Beach",null,0.04,null,"Caldwell-West Caldwell Consolidated School District"]
["Allentown Borough","1302","Monmouth",199377689,247591026,290113947,245694220.66666666,null,"Electric",null,null,null,"Carlstadt-East Rutherford Regional High School"]
["Alloway Township","1701","Salem",331411333,389360960,406222772,375665021.66666669,null,"Golf Course",null,null,null,"Central Regional School District"]
["Alpha Borough","2102","Warren",242982939,275308421,315051334,277780898,null,"Harbor",null,null,null,"Chatham School District"]
["Alpine Borough","0202","Bergen",1880436604,2083185419,2091566133,2018396052,null,"Ice Rink",null,null,null,"Chester Township Consolidated School District"]
["Andover Borough","1901","Sussex",83005193,83403009,94112207,86840136.333333328,null,"Marina",null,null,null,"Clearview Regional School District"]
["Andover Township","1902","Sussex",869957194,918694059,1022235610,936962287.66666663,null,"Parking ",null,null,null,"Clinton-Glen Gardner School District"]
["Asbury Park City","1303","Monmouth",2483123847,2800143553,3212152473,2831806624.3333335,null,"Recreation",null,null,null,"Cumberland Regional High School"]
["Atlantic City","0102","Atlantic",3186835403,3448065018,3702839432,3445913284.3333335,null,"Sewer",null,null,null,"Delaware Valley Regional High School"]
["Atlantic County","0100","Atlantic",39369894998,45466690306,50966763923,45267783075.666664,null,"Solid Waste",null,null,null,"Delsea Regional School District"]
["Atlantic Highlands Borough","1304","Monmouth",1083114471,1178354088,1273730593,1178399717.3333333,null,"Stormwater",null,null,null,"East Windsor Regional School District"]
["Audubon Borough","0401","Camden",871758655,978049415,1055827842,968545304,null,"Swimming Pool",null,null,null,"Eastern Camden County Regional High School"]
["Audubon Park Borough","0402","Camden",20722795,20722795,20722795,20722795,null,"Water",null,null,null,"Flemington-Raritan Regional School District"]
["Avalon Borough","0501","Cape May",14004552620,15944352184,17323253528,15757386110.666666,null,"Water & Sewer",null,null,null,"Freehold Regional High School District"]
["Avon-by-the-Sea Borough","1305","Monmouth",1457074761,1538744186,1799980029,1598599658.6666667,null,"Other",null,null,null,"Gateway Regional School District"]
["Barnegat Light Borough","1501","Ocean",1330053342,1717464338,1979872907,1675796862.3333333,null,null,null,null,null,"Great Meadows Regional School District"]
["Barnegat Township","1533","Ocean",3476713249,4055988867,4514819713,4015840609.6666665,null,null,null,null,null,"Greater Egg Harbor Regional High School"]
["Barrington Borough","0403","Camden",645158362,739497459,816895837,733850552.66666663,null,null,null,null,null,"Hanover Park Regional High School District"]
["Bass River Township","0301","Burlington",201767045,225787922,246997741,224850902.66666666,null,null,null,null,null,"Henry Hudson Regional High School"]
["Bay Head Borough","1502","Ocean",2183708948,2457873223,2859005640,2500195937,null,null,null,null,null,"High Point Regional High School"]
["Bayonne City","0901","Hudson",9054404667,10189024075,10833452449,10025627063.666666,null,null,null,null,null,"Hopewell Valley Regional School District"]
["Beach Haven Borough","1503","Ocean",3143620523,3691558778,4064535847,3633238382.6666665,null,null,null,null,null,"Hunterdon Central Regional High School"]
["Beachwood Borough","1504","Ocean",1176326812,1337524365,1476397187,1330082788,null,null,null,null,null,"Kingsway Regional School District"]
["Bedminster Township","1801","Somerset",2619810530,2677135694,2733574308,2676840177.3333335,null,null,null,null,null,"Kittatinny Regional High School"]
["Belleville Township","0701","Essex",3767732740,4193145253,4763242036,4241373343,null,null,null,null,null,"Lakeland Regional High School"]
["Bellmawr Borough","0404","Camden",888341649,1016548427,1093710823,999533633,null,null,null,null,null,"Lenape Regional High School District"]
["Belmar Borough","1306","Monmouth",2360426956,2593724280,2920742698,2624964644.6666665,null,null,null,null,null,"Lenape Valley Regional High School"]
["Belvidere Town","2103","Warren",235502827,232850755,276130030,248161204,null,null,null,null,null,"Long Beach Island Consolidated School District"]
["Bergen County","0200","Bergen",209970578578,226848381422,244730595430,227183185143.33334,null,null,null,null,null,"Lower Cape May Regional High School"]
["Bergenfield Borough","0203","Bergen",3777567913,4090610419,4644599932,4170926088,null,null,null,null,null,"Mainland Regional High School"]
["Berkeley Heights Township","2001","Union",3694801857,3986580542,4416365516,4032582638.3333335,null,null,null,null,null,"Manalapan-Englishtown Regional School District"]
["Berkeley Township","1505","Ocean",7578702079,8530244253,9321660273,8476868868.333333,null,null,null,null,null,"Matawan-Aberdeen Regional School District"]
["Berlin Borough","0405","Camden",897129078,994312789,1106959840,999467235.66666663,null,null,null,null,null,"Monmouth Regional High School District"]
["Berlin Township","0406","Camden",787725316,883385665,999120762,890077247.66666663,null,null,null,null,null,"Montgomery Township School District"]
["Bernards Township","1802","Somerset",7719623229,8106165936,8987168496,8270985887,null,null,null,null,null,"Morris Hills Regional School District"]
["Bernardsville Borough","1803","Somerset",2373089707,2492803825,2673605337,2513166289.6666665,null,null,null,null,null,"Morris Regional School District"]
["Bethlehem Township","1002","Hunterdon",670818909,734739111,771491820,725683280,null,null,null,null,null,"New Hanover Consolidated School District"]
["Beverly City","0302","Burlington",148433721,162041012,191818704,167431145.66666666,null,null,null,null,null,"North Hunterdon Regional High School"]
["Blairstown Township","2104","Warren",857181243,961040808,1022147488,946789846.33333337,null,null,null,null,null,"North Warren Regional School District"]
["Bloomfield Township","0702","Essex",6171437304,6871381125,7676477513,6906431980.666667,null,null,null,null,null,"Northern Burlington County Regional School District"]
["Bloomingdale Borough","1601","Passaic",1061427576,1168897016,1231240675,1153855089,null,null,null,null,null,"Northern Highlands Regional High School"]
["Bloomsbury Borough","1003","Hunterdon",110197152,119859250,134959218,121671873.33333333,null,null,null,null,null,"Northern Valley Regional High School"]
["Bogota Borough","0204","Bergen",1006723497,1080136333,1259146116,1115335315.3333333,null,null,null,null,null,"Ocean Township Consolidated School District"]
["Boonton Town","1401","Morris",1427416850,1522262969,1626029994,1525236604.3333333,null,null,null,null,null,"Pascack Valley Regional High School"]
["Boonton Township","1402","Morris",1045930997,1084469393,1123625515,1084675301.6666667,null,null,null,null,null,"Passaic County Manchester Regional High School"]
["Bordentown City","0303","Burlington",424447636,476574659,532796716,477939670.33333331,null,null,null,null,null,"Passaic Valley Regional High School"]
["Bordentown Township","0304","Burlington",1733071385,2079807658,2214803718,2009227587,null,null,null,null,null,"Penns Grove-Carneys Point Regional School District"]
["Bound Brook Borough","1804","Somerset",1063530794,1168381736,1275972393,1169294974.3333333,null,null,null,null,null,"Pinelands Regional School Distrct"]
["Bradley Beach Borough","1307","Monmouth",1902491377,2119677824,2330816023,2117661741.3333333,null,null,null,null,null,"Ramapo Indian Hills Regional High School"]
["Branchburg Township","1805","Somerset",4223944552,4239021623,4700796858,4387921011,null,null,null,null,null,"Rancocas Valley Regional High School"]
["Branchville Borough","1903","Sussex",142151764,148681381,156956197,149263114,null,null,null,null,null,"Red Bank Regional High School"]
["Brick Township","1506","Ocean",14412265880,16132824304,17870579588,16138556590.666666,null,null,null,null,null,"River Dell Regional School District"]
["Bridgeton City","0601","Cumberland",605482544,697739822,767782186,690334850.66666663,null,null,null,null,null,"Rumson-Fair Haven Regional High School"]
["Bridgewater Township","1806","Somerset",11069312621,11053771638,12110063913,11411049390.666666,null,null,null,null,null,"Sandyston-Walpack Consolidated School District"]
["Brielle Borough","1308","Monmouth",2130638124,2295564906,2490323456,2305508828.6666665,null,null,null,null,null,"Scotch Plains-Fanwood Regional School District"]
["Brigantine City","0103","Atlantic",4627787141,5471013223,6290058665,5462953009.666667,null,null,null,null,null,"Shore Regional High School"]
["Brooklawn Borough","0407","Camden",151200779,160453622,185932264,165862221.66666666,null,null,null,null,null,"Somerset Hills Regional School District"]
["Buena Borough","0104","Atlantic",323368923,338398603,366000877,342589467.66666669,null,null,null,null,null,"South Hunterdon Regional School District"]
["Buena Vista Township","0105","Atlantic",687486042,789443221,893600730,790176664.33333337,null,null,null,null,null,"South Orange-Maplewood Consolidated School District"]
["Burlington City","0305","Burlington",758885355,793930242,900162584,817659393.66666663,null,null,null,null,null,"Southern Regional School District"]
["Burlington County","0300","Burlington",57127482908,63683279578,70348911191,{"$f":"AVERAGE(D67:F67)","v":63719891225.666664},null,null,null,null,null,"Spotswood-Helmetta Consolidated School District"]
["Burlington Township","0306","Burlington",3128363852,3489804622,3698860649,3439009707.6666665,null,null,null,null,null,"Sterling High School"]
["Butler Borough","1403","Morris",1192740368,1291226850,1412028759,1298665325.6666667,null,null,null,null,null,"Sussex-Wantage Regional School Distrct"]
["Byram Township","1904","Sussex",1183622861,1286876250,1442348511,1304282540.6666667,null,null,null,null,null,"Swedesboro-Woolwich Consolidated School District"]
["Caldwell Borough","0703","Essex",1343058649,1423615175,1514927142,1427200322,null,null,null,null,null,"Tinton Falls School District"]
["Califon Borough","1004","Hunterdon",171387207,180957862,199646463,183997177.33333334,null,null,null,null,null,"Toms River Regional School District"]
["Camden City","0408","Camden",2052938017,2259409836,2597514395,2303287416,null,null,null,null,null,"Upper Freehold Regional School District"]
["Camden County","0400","Camden",47431609946,53053211756,58416778243,52967199981.666664,null,null,null,null,null,"Wallkill Valley Regional High School"]
["Cape May City","0502","Cape May",4378643600,4773553004,5582839985,4911678863,null,null,null,null,null,"Warren Hills Regional School District"]
["Cape May County","0500","Cape May",76162736537,86606142936,96029950746,86266276739.666672,null,null,null,null,null,"Watchung Hills Regional High School"]
["Cape May Point Borough","0503","Cape May",699587776,789960849,903464898,797671174.33333337,null,null,null,null,null,"West Essex Regional School District"]
["Carlstadt Borough","0205","Bergen",2813928643,3275361005,3425367067,3171552238.3333335,null,null,null,null,null,"West Morris Regional High School District"]
["Carneys Point Township","1713","Salem",780458534,915131679,976934855,890841689.33333337,null,null,null,null,null,"West Windsor-Plainsboro Regional School District"]
["Carteret Borough","1201","Middlesex",3547417272,3795328475,4409759591,3917501779.3333335,null,null,null,null,null,"Westwood Regional School District"]
["Cedar Grove Township","0704","Essex",2657620616,2807894626,3018736139,2828083793.6666665,null,null,null,null,null,"Woodstown-Pilesgrove Regional School District"]
["Chatham Borough","1404","Morris",2875548452,3163864151,3437204647,3158872416.6666665]
["Chatham Township","1405","Morris",4086904522,4443871977,4792635696,4441137398.333333]
["Cherry Hill Township","0409","Camden",10624165627,12398913655,13351620736,12124900006]
["Chesilhurst Borough","0410","Camden",102275751,111521158,123622531,112473146.66666667]
["Chester Borough","1406","Morris",436300822,468024010,550234539,484853123.66666669]
["Chester Township","1407","Morris",2015694740,2149044151,2295589072,2153442654.3333335]
["Chesterfield Township","0307","Burlington",1004896673,1110530771,1242501976,1119309806.6666667]
["Cinnaminson Township","0308","Burlington",2270771213,2451410291,2806809471,2509663658.3333335]
["Clark Township","2002","Union",3351679345,3613517045,3902262009,3622486133]
["Clayton Borough","0801","Gloucester",621124408,714788369,794209275,710040684]
["Clementon Borough","0411","Camden",308976244,339999643,379722091,342899326]
["Cliffside Park Borough","0206","Bergen",3894436085,4184585494,4454710634,4177910737.6666665]
["Clifton City","1602","Passaic",12708234847,13903318841,14888942920,13833498869.333334]
["Clinton Town","1005","Hunterdon",460622796,486821483,524955541,490799940]
["Clinton Township","1006","Hunterdon",2412609080,2522802317,2669497831,2534969742.6666665]
["Closter Borough","0207","Bergen",2578912797,2889785706,3103792686,2857497063]
["Collingswood Borough","0412","Camden",1376948030,1506270157,1693660277,1525626154.6666667]
["Colts Neck Township","1309","Monmouth",3538289485,3861160004,4183856336,3861101941.6666665]
["Commercial Township","0602","Cumberland",279337832,292945969,343901889,305395230]
["Corbin City","0106","Atlantic",61468788,76293205,84721192,74161061.666666672]
["Cranbury Township","1202","Middlesex",2143541042,2361768135,2480055472,2328454883]
["Cranford Township","2003","Union",5176117447,5338289348,5796867147,5437091314]
["Cresskill Borough","0208","Bergen",2698366212,3085229805,3392125714,3058573910.3333335]
["Cumberland County","0600","Cumberland",10468902929,11375390254,12455766844,11433353342.333334]
["Deal Borough","1310","Monmouth",3856077700,4425971258,5270210985,4517419981]
["Deerfield Township","0603","Cumberland",239496648,268784679,293915062,267398796.33333334]
["Delanco Township","0309","Burlington",526998353,612147602,692733529,610626494.66666663]
["Delaware Township","1007","Hunterdon",1027924713,1091507234,1202897387,1107443111.3333333]
["Delran Township","0310","Burlington",1952619216,2140620361,2404415684,2165885087]
["Demarest Borough","0209","Bergen",1764073944,1991512536,2159431748,1971672742.6666667]
["Dennis Township","0504","Cape May",1144679944,1194542557,1394241931,1244488144]
["Denville Township","1408","Morris",3753403293,4176428147,4436329291,4122053577]
["Deptford Township","0802","Gloucester",3480005483,3839093607,4161033016,3826710702]
["Dover Town","1409","Morris",1655879588,1773345469,1903239948,1777488335]
["Downe Township","0604","Cumberland",153253163,175269641,187878098,172133634]
["Dumont Borough","0210","Bergen",2562851234,2699257789,3009698560,2757269194.3333335]
["Dunellen Borough","1203","Middlesex",847014639,898876382,1009337352,918409457.66666663]
["Eagleswood Township","1508","Ocean",288418682,313762636,354250258,318810525.33333331]
["East Amwell Township","1008","Hunterdon",857823319,929273842,989926561,925674574]
["East Brunswick Township","1204","Middlesex",8625315659,9423430713,10228404408,9425716926.666666]
["East Greenwich Township","0803","Gloucester",1545546296,1701321710,1900721084,1715863030]
["East Hanover Township","1410","Morris",3518596714,3928770212,4260656537,3902674487.6666665]
["East Newark Borough","0902","Hudson",247552218,269681642,294081922,270438594]
["East Orange City","0705","Essex",4988695994,5569702547,5516844950,5358414497]
["East Rutherford Borough","0212","Bergen",2614492164,2919057917,3012307051,2848619044]
["East Windsor Township","1101","Mercer",3571086108,4136956012,4435112691,4047718270.3333335]
["Eastampton Township","0311","Burlington",656491383,753327822,934675805,781498336.66666663]
["Eatontown Borough","1311","Monmouth",3301396672,3470507206,3286285020,3352729632.6666665]
["Edgewater Borough","0213","Bergen",4029455922,4526305849,4753649917,4436470562.666667]
["Edgewater Park Township","0312","Burlington",712203548,863425598,960738364,{"$f":"AVERAGE(D131:F131)","v":845455836.66666663}]
["Edison Township","1205","Middlesex",19261135029,20214871436,21121959282,20199321915.666668]
["Egg Harbor City","0107","Atlantic",254884561,312127975,360987357,309333297.66666669]
["Egg Harbor Township","0108","Atlantic",5081708795,5752822407,6189084492,5674538564.666667]
["Elizabeth City","2004","Union",12157693108,13381468661,15027347740,13522169836.333334]
["Elk Township","0804","Gloucester",474382607,539086768,606674727,540048034]
["Elmer Borough","1702","Salem",122526743,135096460,143104905,133576036]
["Elmwood Park Borough","0211","Bergen",2683573512,2845270836,3231520728,2920121692]
["Elsinboro Township","1703","Salem",113749458,129550006,141733570,128344344.66666667]
["Emerson Borough","0214","Bergen",1512844503,1612848348,1717422876,1614371909]
["Englewood City","0215","Bergen",5930371563,6347412816,6718299189,6332027856]
["Englewood Cliffs Borough","0216","Bergen",3895115495,3990262873,4136659844,4007346070.6666665]
["Englishtown Borough","1312","Monmouth",317035903,349323685,393889211,353416266.33333331]
["Essex County","0700","Essex",106390647088,123386100965,137206848844,122327865632.33333]
["Essex Fells Borough","0706","Essex",814155909,806530708,928995098,849893905]
["Estell Manor City","0109","Atlantic",202680573,226780903,246056925,225172800.33333334]
["Evesham Township","0313","Burlington",6487111047,7113434233,7990382787,7196976022.333333]
["Ewing Township","1102","Mercer",3814358847,4663047544,4979701568,4485702653]
["Fair Haven Borough","1313","Monmouth",2382405571,2530009229,2753215206,2555210002]
["Fair Lawn Borough","0217","Bergen",6173269385,6785784240,7251802052,6736951892.333333]
["Fairfield Township (Cumberland)","0605","Cumberland",319115935,339377288,362677659,340390294]
["Fairfield Township (Essex)","0707","Essex",3791394080,4073199516,4041014316,3968535970.6666665]
["Fairview Borough","0218","Bergen",1729461478,2005716536,2082642192,1939273402]
["Fanwood Borough","2005","Union",1455076896,1558034877,1765601025,1592904266]
["Far Hills Borough","1807","Somerset",436111448,430974809,468853872,445313376.33333331]
["Farmingdale Borough","1314","Monmouth",205477655,239025721,275584505,240029293.66666666]
["Fieldsboro Borough","0314","Burlington",61086057,71603647,71342709,68010804.333333328]
["Flemington Borough","1009","Hunterdon",495928762,531454564,564823260,530735528.66666669]
["Florence Township","0315","Burlington",1398712681,1541480120,1548771666,1496321489]
["Florham Park Borough","1411","Morris",3851290705,4518849829,5127585383,4499241972.333333]
["Folsom Borough","0110","Atlantic",200804528,223381576,252013137,225399747]
["Fort Lee Borough","0219","Bergen",7230135145,9135096063,9936766355,8767332521]
["Frankford Township","1905","Sussex",915135857,1007380475,1057691185,993402505.66666663]
["Franklin Borough","1906","Sussex",539168794,566942654,663564470,589891972.66666663]
["Franklin Lakes Borough","0220","Bergen",4857264574,5512561920,6174942566,5514923020]
["Franklin Township (Gloucester)","0805","Gloucester",1645017544,1852696189,2012378430,1836697387.6666667]
["Franklin Township (Hunterdon)","1010","Hunterdon",573010081,603970195,617699944,598226740]
["Franklin Township (Somerset)","1808","Somerset",13418238386,14340058308,15191389763,14316562152.333334]
["Franklin Township (Warren)","2105","Warren",492234006,526525203,552550273,523769827.33333331]
["Fredon Township","1907","Sussex",491630018,552959344,596796129,547128497]
["Freehold Borough","1315","Monmouth",1389546789,1450135512,1572760716,1470814339]
["Freehold Township","1316","Monmouth",8361314337,9489611917,9685268921,9178731725]
["Frelinghuysen Township","2106","Warren",331783941,361086072,373769171,355546394.66666669]
["Frenchtown Borough","1011","Hunterdon",199642878,220283498,250443931,223456769]
["Galloway Township","0111","Atlantic",3597061147,4048520318,4537166018,4060915827.6666665]
["Garfield City","0221","Bergen",3274976501,3540981030,3824931898,3546963143]
["Garwood Borough","2006","Union",857015268,915512592,1033506667,935344842.33333337]
["Gibbsboro Borough","0413","Camden",273305827,287713981,303523384,288181064]
["Glassboro Borough","0806","Gloucester",1580321467,1799968519,2085543150,1821944378.6666667]
["Glen Gardner Borough","1012","Hunterdon",193970925,208533278,235993212,212832471.66666666]
["Glen Ridge Borough","0708","Essex",2263259850,2454486652,2677425509,2465057337]
["Glen Rock Borough","0222","Bergen",2909801829,3155657099,3435721151,3167060026.3333335]
["Gloucester City","0414","Camden",652705893,724169949,844685340,740520394]
["Gloucester County","0800","Gloucester",33944924694,38066589418,42255109559,38088874557]
["Gloucester Township","0415","Camden",5641114325,6482939895,7062943710,6395665976.666667]
["Green Brook Township","1809","Somerset",1681019259,1794752284,1908132482,1794634675]
["Green Township","1908","Sussex",570685161,618050314,690878986,626538153.66666663]
["Greenwich Township (Cumberland)","0606","Cumberland",82359471,91351701,96807499,90172890.333333328]
["Greenwich Township (Gloucester)","0807","Gloucester",795892149,923351547,1044780288,921341328]
["Greenwich Township (Warren)","2107","Warren",836209827,911698568,936292004,894733466.33333337]
["Guttenberg Town","0903","Hudson",1217693978,1343018654,1338780817,1299831149.6666667]
["Hackensack City","0223","Bergen",7120307060,7568298135,8239423844,7642676346.333333]
["Hackettstown Town","2108","Warren",1144747290,1211468145,1332433557,1229549664]
["Haddon Heights Borough","0418","Camden",910106399,958490377,994479208,954358661.33333337]
["Haddon Township","0416","Camden",1715110655,1880026434,2106314868,{"$f":"AVERAGE(D195:F195)","v":1900483985.6666667}]
["Haddonfield Borough","0417","Camden",2725318967,2905040264,3103340093,2911233108]
["Hainesport Township","0316","Burlington",967999379,1109082196,1211689239,1096256938]
["Haledon Borough","1603","Passaic",845135279,914863801,984933190,914977423.33333337]
["Hamburg Borough","1909","Sussex",332920058,370948815,445803102,383223991.66666669]
["Hamilton Township (Atlantic)","0112","Atlantic",2682437039,2967046714,3297613039,2982365597.3333335]
["Hamilton Township (Mercer)","1103","Mercer",10477696786,11742782499,13553567270,11924682185]
["Hammonton Town","0113","Atlantic",1612862376,1735450321,1923877579,1757396758.6666667]
["Hampton Borough","1013","Hunterdon",127730634,140532953,141000692,136421426.33333334]
["Hampton Township","1910","Sussex",796381327,893331081,989322539,893011649]
["Hanover Township","1412","Morris",5061375099,5170066301,5126130859,5119190753]
["Harding Township","1413","Morris",2335628114,2456028908,2626101129,2472586050.3333335]
["Hardwick Township","2109","Warren",223711174,238286937,268923898,243640669.66666666]
["Hardyston Township","1911","Sussex",1320151563,1518441308,1819866064,1552819645]
["Harmony Township","2110","Warren",676232595,781330570,787662723,748408629.33333337]
["Harrington Park Borough","0224","Bergen",1187498864,1276498309,1354612057,1272869743.3333333]
["Harrison Town","0904","Hudson",1719994005,1888421138,2115485289,1907966810.6666667]
["Harrison Township","0808","Gloucester",1935756672,2164718288,2403142439,2167872466.3333335]
["Harvey Cedars Borough","1509","Ocean",1701650039,2089669293,2277472457,2022930596.3333333]
["Hasbrouck Heights Borough","0225","Bergen",2251437928,2267389568,2550875817,2356567771]
["Haworth Borough","0226","Bergen",1030004668,1112773371,1268927876,1137235305]
["Hawthorne Borough","1604","Passaic",3046865685,3303081625,3593935056,3314627455.3333335]
["Hazlet Township","1339","Monmouth",3276110212,3556931385,3803490299,3545510632]
["Helmetta Borough","1206","Middlesex",266300500,286358456,321582604,291413853.33333331]
["High Bridge Borough","1014","Hunterdon",417874514,477683797,517179425,470912578.66666669]
["Highland Park Borough","1207","Middlesex",1584606028,1903907398,2080547305,1856353577]
["Highlands Borough","1317","Monmouth",928818467,1016423398,1175135298,1040125721]
["Hightstown Borough","1104","Mercer",534602123,576643697,659530592,590258804]
["Hillsborough Township","1810","Somerset",7919752941,8700602898,9647532665,8755962834.666666]
["Hillsdale Borough","0227","Bergen",2100603918,2250707439,2474544903,2275285420]
["Hillside Township","2007","Union",2608314484,2918210255,3525784776,3017436505]
["Hi-Nella Borough","0419","Camden",44666432,52334477,60205148,52402019]
["Hoboken City","0905","Hudson",18026624469,18974088091,20234123243,19078278601]
["Ho-Ho-Kus Borough","0228","Bergen",1485128992,1608475282,1760844239,1618149504.3333333]
["Holland Township","1015","Hunterdon",803041655,885348761,980045459,889478625]
["Holmdel Township","1318","Monmouth",5049791427,5362208028,5862469285,5424822913.333333]
["Hopatcong Borough","1912","Sussex",2035541601,2277945457,2615945870,2309810976]
["Hope Township","2111","Warren",297701311,323617582,344122517,321813803.33333331]
["Hopewell Borough","1105","Mercer",372210305,396764948,435817434,401597562.33333331]
["Hopewell Township (Cumberland)","0607","Cumberland",376956672,434167020,452810512,421311401.33333331]
["Hopewell Township (Mercer)","1106","Mercer",4576404661,4840208822,5317946548,4911520010.333333]
["Howell Township","1319","Monmouth",9441290247,10631507171,11634858401,10569218606.333334]
["Hudson County","0900","Hudson",114006702257,119003664649,125180776525,119397047810.33333]
["Hunterdon County","1000","Hunterdon",25059697208,27006086439,29223049599,27096277748.666668]
["Independence Township","2112","Warren",694053471,743652590,787447831,741717964]
["Interlaken Borough","1320","Monmouth",441561784,485904486,542463470,489976580]
["Irvington Township","0709","Essex",2979884209,3518380775,4288256344,3595507109.3333335]
["Island Heights Borough","1510","Ocean",480514921,515341093,580155951,525337321.66666669]
["Jackson Township","1511","Ocean",9994548881,11648195013,12852454028,11498399307.333334]
["Jamesburg Borough","1208","Middlesex",527295555,574301671,637712137,579769787.66666663]
["Jefferson Township","1414","Morris",3092881918,3312187203,3568669991,3324579704]
["Jersey City","0906","Hudson",49317588976,50716365939,49713888513,49915947809.333336]
["Keansburg Borough","1321","Monmouth",840918218,901561950,1043390716,928623628]
["Kearny Town","0907","Hudson",5623201448,5894295408,6247705218,5921734024.666667]
["Kenilworth Borough","2008","Union",2135177411,2459328641,2559108960,2384538337.3333335]
["Keyport Borough","1322","Monmouth",1022346480,1056898246,1167318681,1082187802.3333333]
["Kingwood Township","1016","Hunterdon",741206190,785780157,860651918,795879421.66666663]
["Kinnelon Borough","1415","Morris",2250977666,2465467211,2614185171,2443543349.3333335]
["Knowlton Township","2113","Warren",387242598,434300890,475204620,432249369.33333331]
["Lacey Township","1512","Ocean",5152074026,5694850504,6217818827,5688247785.666667]
["Lafayette Township","1913","Sussex",397258259,451639069,496171986,448356438]
["Lake Como Borough","1347","Monmouth",564339644,701133606,747477109,670983453]
["Lakehurst Borough","1513","Ocean",201387006,229065485,257726632,229393041]
["Lakewood Township","1514","Ocean",15137720062,17930720731,19807315743,17625252178.666668]
["Lambertville City","1017","Hunterdon",954871366,1032423314,1104279376,{"$f":"AVERAGE(D259:F259)","v":1030524685.3333334}]
["Laurel Springs Borough","0420","Camden",137938427,156149325,176694813,156927521.66666666]
["Lavallette Borough","1515","Ocean",3154351398,3520053355,3982668412,3552357721.6666665]
["Lawnside Borough","0421","Camden",224444218,280790394,338130067,281121559.66666669]
["Lawrence Township (Cumberland)","0608","Cumberland",246493476,257566076,279020816,261026789.33333334]
["Lawrence Township (Mercer)","1107","Mercer",5484374254,5698762095,6258412397,5813849582]
["Lebanon Borough","1018","Hunterdon",291020644,321762838,335352597,316045359.66666669]
["Lebanon Township","1019","Hunterdon",1096830979,1150249618,1256439423,1167840006.6666667]
["Leonia Borough","0229","Bergen",1745191092,1963261364,2040182399,1916211618.3333333]
["Liberty Township","2114","Warren",342962209,387908523,432467425,387779385.66666669]
["Lincoln Park Borough","1416","Morris",1646722215,1777004181,2036345295,1820023897]
["Linden City","2009","Union",7767533087,8705415642,9864080128,8779009619]
["Lindenwold Borough","0422","Camden",723589629,829099474,923074949,825254684]
["Linwood City","0114","Atlantic",1056474526,1212070697,1346191626,1204912283]
["Little Egg Harbor Township","1516","Ocean",3245768387,3684666819,4108341585,3679592263.6666665]
["Little Falls Township","1605","Passaic",1949689100,2183619587,2465932359,2199747015.3333335]
["Little Ferry Borough","0230","Bergen",1527378577,1610581338,1747829341,1628596418.6666667]
["Little Silver Borough","1323","Monmouth",1979195144,2149745456,2490124732,2206355110.6666665]
["Livingston Township","0710","Essex",9566836317,10355437193,11607225832,10509833114]
["Loch Arbour Village","1324","Monmouth",205980751,206193748,266618246,226264248.33333334]
["Lodi Borough","0231","Bergen",2923920623,3319991406,3545418188,3263110072.3333335]
["Logan Township","0809","Gloucester",2002841253,2419521706,2873054269,2431805742.6666665]
["Long Beach Township","1517","Ocean",12943154803,14348225992,14928257958,14073212917.666666]
["Long Branch City","1325","Monmouth",7266915461,8274581634,9666184248,8402560447.666667]
["Long Hill Township","1430","Morris",1936262198,2026012156,2125543205,2029272519.6666667]
["Longport Borough","0115","Atlantic",2424072811,2905002256,3126886010,2818653692.3333335]
["Lopatcong Township","2115","Warren",1092211835,1164586387,1263698199,1173498807]
["Lower Alloways Creek Township","1704","Salem",318027466,350330145,428421778,365593129.66666669]
["Lower Township","0505","Cape May",5674043899,6439424494,7417933029,6510467140.666667]
["Lumberton Township","0317","Burlington",1601419708,1857661475,2036342798,1831807993.6666667]
["Lyndhurst Township","0232","Bergen",4116367423,4480526641,5086094034,4560996032.666667]
["Madison Borough","1417","Morris",4412921256,5045953885,5363781863,4940885668]
["Magnolia Borough","0423","Camden",348667893,392400709,446657071,395908557.66666669]
["Mahwah Township","0233","Bergen",7392443261,7995616512,8056800834,7814953535.666667]
["Manalapan Township","1326","Monmouth",8899367619,9473641875,10498367855,9623792449.666666]
["Manasquan Borough","1327","Monmouth",3051133074,3419683380,3724950009,3398588821]
["Manchester Township","1518","Ocean",5684986572,6560361620,7085311388,6443553193.333333]
["Mannington Township","1705","Salem",182523014,190165059,207941190,193543087.66666666]
["Mansfield Township (Burlington)","0318","Burlington",1359135577,1427069562,1476733940,1420979693]
["Mansfield Township (Warren)","2116","Warren",910853136,962266534,1015446999,962855556.33333337]
["Mantoloking Borough","1519","Ocean",2113882123,2425789110,2679243995,2406305076]
["Mantua Township","0810","Gloucester",1918370794,2089998121,2197491265,2068620060]
["Manville Borough","1811","Somerset",1104875422,1251849398,1370180308,1242301709.3333333]
["Maple Shade Township","0319","Burlington",1648113878,1934021264,2159543058,1913892733.3333333]
["Maplewood Township","0711","Essex",4984226701,5300639805,6102576870,5462481125.333333]
["Margate City","0116","Atlantic",5648623042,6774522786,7839564078,6754236635.333333]
["Marlboro Township","1328","Monmouth",9492389912,10327572109,11201792342,10340584787.666666]
["Matawan Borough","1329","Monmouth",1394376388,1467943052,1597673016,1486664152]
["Maurice River Township","0609","Cumberland",323915213,329584304,334426752,329308756.33333331]
["Maywood Borough","0234","Bergen",1873193820,1894906862,2078955592,1949018758]
["Medford Lakes Borough","0321","Burlington",611396640,676684502,743134014,677071718.66666663]
["Medford Township","0320","Burlington",4096331160,4645339259,5118078883,4619916434]
["Mendham Borough","1418","Morris",1420959847,1536565684,1600615677,1519380402.6666667]
["Mendham Township","1419","Morris",2084590216,2235807170,2508752086,2276383157.3333335]
["Mercer County","1100","Mercer",52390650162,58197916266,64157777240,58248781222.666664]
["Merchantville Borough","0424","Camden",307494839,341004085,372744179,340414367.66666669]
["Metuchen Borough","1210","Middlesex",2992709264,3088546989,3339883069,3140379774]
["Middle Township","0506","Cape May",3420424567,3860734256,4330190498,3870449773.6666665]
["Middlesex Borough","1211","Middlesex",2077941507,2324028172,2450877880,2284282519.6666665]
["Middlesex County","1200","Middlesex",134441727583,144193601653,156773766092,145136365109.33334]
["Middletown Township","1331","Monmouth",13750270540,15200679253,16930603609,15293851134]
["Midland Park Borough","0235","Bergen",1413789659,1523448242,1683259494,1540165798.3333333]
["Milford Borough","1020","Hunterdon",139224421,137237129,150766254,142409268]
["Millburn Township","0712","Essex",10780489785,12154716960,12710485956,11881897567]
["Millstone Borough","1812","Somerset",64619006,70690946,76605187,{"$f":"AVERAGE(D323:F323)","v":70638379.666666672}]
["Millstone Township","1332","Monmouth",2347221230,2611732057,3132268995,2697074094]
["Milltown Borough","1212","Middlesex",1132980617,1192310382,1232694652,1185995217]
["Millville City","0610","Cumberland",1986283613,2219982528,2444746029,2217004056.6666665]
["Mine Hill Township","1420","Morris",560524738,616842163,671950701,616439200.66666663]
["Monmouth Beach Borough","1333","Monmouth",2024270650,2243620308,2334059456,2200650138]
["Monmouth County","1300","Monmouth",165078093951,182398930719,199899074117,182458699595.66666]
["Monroe Township (Gloucester)","0811","Gloucester",3538277615,3919980362,4330193524,3929483833.6666665]
["Monroe Township (Middlesex)","1213","Middlesex",11773670615,13723329943,15162474406,13553158321.333334]
["Montague Township","1914","Sussex",437384041,464540527,530390407,477438325]
["Montclair Township","0713","Essex",9824992825,10710573269,11659067458,10731544517.333334]
["Montgomery Township","1813","Somerset",5497603203,6189267022,6742639608,6143169944.333333]
["Montvale Borough","0236","Bergen",2532396557,2742289459,2874802214,2716496076.6666665]
["Montville Township","1421","Morris",5358717409,5727921695,6301365462,5796001522]
["Moonachie Borough","0237","Bergen",1067964804,1257720184,1273177482,1199620823.3333333]
["Moorestown Township","0322","Burlington",5347392242,5906461873,6247481828,5833778647.666667]
["Morris County","1400","Morris",106640527243,115736016092,125439232437,115938591924]
["Morris Plains Borough","1423","Morris",1630596028,1796673532,1955786465,1794352008.3333333]
["Morris Township","1422","Morris",6050563204,6480606258,6883823876,6471664446]
["Morristown Town","1424","Morris",2942210914,4142265118,4975595736,4020023922.6666665]
["Mount Arlington Borough","1426","Morris",932301344,1091292301,1217343896,1080312513.6666667]
["Mount Ephraim Borough","0425","Camden",368552272,408105017,446504074,407720454.33333331]
["Mount Holly Township","0323","Burlington",775742885,891746060,993438201,886975715.33333337]
["Mount Laurel Township","0324","Burlington",7340517893,7952598774,9089754533,8127623733.333333]
["Mount Olive Township","1427","Morris",3989680267,4433092187,4757517539,4393429997.666667]
["Mountain Lakes Borough","1425","Morris",1432291858,1593272327,1804326236,1609963473.6666667]
["Mountainside Borough","2010","Union",2160396347,2415187420,2547904870,2374496212.3333335]
["Mullica Township","0117","Atlantic",612471784,659972744,771542614,681329047.33333337]
["National Park Borough","0812","Gloucester",191564127,220444323,248934409,220314286.33333334]
["Neptune City Borough","1335","Monmouth",834815487,880241906,947684987,887580793.33333337]
["Neptune Township","1334","Monmouth",5342239591,6151246298,6684805298,6059430395.666667]
["Netcong Borough","1428","Morris",330933278,347522320,387006173,355153923.66666669]
["New Brunswick City","1214","Middlesex",3991047400,4292931120,4572228648,4285402389.3333335]
["New Hanover Township","0325","Burlington",114882227,124449961,129345772,122892653.33333333]
["New Milford Borough","0238","Bergen",2474406955,2603817532,2899328522,2659184336.3333335]
["New Providence Borough","2011","Union",3356498489,3535070241,3776377330,3555982020]
["Newark City","0714","Essex",15179496273,23690475816,28414030930,22428001006.333332]
["Newfield Borough","0813","Gloucester",166719965,187889814,206307105,186972294.66666666]
["Newton Town","1915","Sussex",786408691,881096984,1019353977,895619884]
["North Arlington Borough","0239","Bergen",2467128926,2630303358,2708280968,2601904417.3333335]
["North Bergen Township","0908","Hudson",9778338869,10111142587,10547071183,10145517546.333334]
["North Brunswick Township","1215","Middlesex",6239961303,6333547230,7112424764,6561977765.666667]
["North Caldwell Borough","0715","Essex",2159840123,2330556113,2487569361,2325988532.3333335]
["North Haledon Borough","1606","Passaic",1531773610,1706450659,1855557276,1697927181.6666667]
["North Hanover Township","0326","Burlington",467507571,550673680,618956787,545712679.33333337]
["North Plainfield Borough","1814","Somerset",2224575447,2363282744,2637267269,2408375153.3333335]
["North Wildwood City","0507","Cape May",3798490805,4359284298,4863888769,4340554624]
["Northfield City","0118","Atlantic",994308440,1079823741,1260257875,1111463352]
["Northvale Borough","0240","Bergen",1076892287,1124461905,1293907737,1165087309.6666667]
["Norwood Borough","0241","Bergen",1427450948,1515017975,1743363457,1561944126.6666667]
["Nutley Township","0716","Essex",4689778849,5129597625,5555435143,5124937205.666667]
["Oakland Borough","0242","Bergen",3350320366,3317563500,3485842340,3384575402]
["Oaklyn Borough","0426","Camden",343365883,376228406,436146964,385247084.33333331]
["Ocean City","0508","Cape May",18280874535,21169343729,23121323620,20857180628]
["Ocean County","1500","Ocean",140305357835,159573283478,174565245449,158147962254]
["Ocean Gate Borough","1521","Ocean",336968643,389416695,466073748,397486362]
["Ocean Township (Monmouth)","1337","Monmouth",7870682534,8520078993,9443102492,8611288006.333334]
["Ocean Township (Ocean)","1520","Ocean",1841387026,2095332869,2307793416,2081504437]
["Oceanport Borough","1338","Monmouth",1717269327,1880987117,2075808625,1891355023]
["Ogdensburg Borough","1916","Sussex",240029147,265560498,299573602,268387749]
["Old Bridge Township","1209","Middlesex",10089726346,10812011048,12175641697,11025793030.333334]
["Old Tappan Borough","0243","Bergen",1939812472,2124750786,2363052265,2142538507.6666667]
["Oldmans Township","1706","Salem",288776955,326256303,338896755,317976671]
["Oradell Borough","0244","Bergen",2027185310,2165122968,2444756798,2212355025.3333335]
["Orange City","0717","Essex",2069622141,2253798526,2575938987,{"$f":"AVERAGE(D387:F387)","v":2299786551.3333335}]
["Oxford Township","2117","Warren",225977344,258092544,278324348,254131412]
["Palisades Park Borough","0245","Bergen",3974619484,4189837209,4462559334,4209005342.3333335]
["Palmyra Borough","0327","Burlington",631591016,717508595,798465810,715855140.33333337]
["Paramus Borough","0246","Bergen",12780494320,12652175281,13784548871,13072406157.333334]
["Park Ridge Borough","0247","Bergen",2116936445,2235385954,2374565660,2242296019.6666665]
["Parsippany-Troy Hills Township","1429","Morris",9506339416,9647024554,10286209668,9813191212.666666]
["Passaic City","1607","Passaic",4965833418,5349962230,5828610055,5381468567.666667]
["Passaic County","1600","Passaic",63220495622,71025234104,76814596886,70353442204]
["Paterson City","1608","Passaic",10218987117,11838765611,13264751769,11774168165.666666]
["Paulsboro Borough","0814","Gloucester",388796260,430939058,511607922,443781080]
["Peapack-Gladstone Borough","1815","Somerset",800081626,861801277,872192871,844691924.66666663]
["Pemberton Borough","0328","Burlington",125992719,138436321,145816306,136748448.66666666]
["Pemberton Township","0329","Burlington",1817263865,2035879793,2258172649,2037105435.6666667]
["Pennington Borough","1108","Mercer",612650035,671217086,719540301,667802474]
["Penns Grove Borough","1707","Salem",159144331,187260246,203361564,183255380.33333334]
["Pennsauken Township","0427","Camden",3300533305,3358367211,3891332459,3516744325]
["Pennsville Township","1708","Salem",1103487225,1212798673,1316335868,1210873922]
["Pequannock Township","1431","Morris",3175207262,3360772428,3661954512,3399311400.6666665]
["Perth Amboy City","1216","Middlesex",4152063962,4418182910,4772616612,4447621161.333333]
["Phillipsburg Town","2119","Warren",899030588,986194371,1111257813,998827590.66666663]
["Pilesgrove Township","1709","Salem",556371166,595792017,675643938,609269040.33333337]
["Pine Beach Borough","1522","Ocean",380858008,425423414,455124069,420468497]
["Pine Hill Borough","0428","Camden",613197536,689795338,798774396,700589090]
["Piscataway Township","1217","Middlesex",10611760999,11298706681,11887127948,11265865209.333334]
["Pitman Borough","0815","Gloucester",787083823,892778419,1006632562,895498268]
["Pittsgrove Township","1710","Salem",723271203,854731941,908501558,828834900.66666663]
["Plainfield City","2012","Union",3787962519,4045032392,4382823668,4071939526.3333335]
["Plainsboro Township","1218","Middlesex",4826280374,4997715524,5390446747,5071480881.666667]
["Pleasantville City","0119","Atlantic",910873220,1170596476,1260840790,1114103495.3333333]
["Plumsted Township","1523","Ocean",1086028306,1170199642,1266777617,1174335188.3333333]
["Pohatcong Township","2120","Warren",448502415,456016870,521373321,475297535.33333331]
["Point Pleasant Beach Borough","1525","Ocean",2744747053,3119621560,3404092565,3089487059.3333335]
["Point Pleasant Borough","1524","Ocean",4548876921,5126927441,5715025611,5130276657.666667]
["Pompton Lakes Borough","1609","Passaic",1536011616,1721713541,1922468365,1726731174]
["Port Republic City","0120","Atlantic",161263671,182715668,220855972,188278437]
["Princeton","1114","Mercer",9341543866,10086302159,10727963759,10051936594.666666]
["Prospect Park Borough","1610","Passaic",447630498,496416036,559404564,501150366]
["Quinton Township","1711","Salem",222653129,254354208,259360591,245455976]
["Rahway City","2013","Union",3524352770,3957799096,4360158418,3947436761.3333335]
["Ramsey Borough","0248","Bergen",4114942977,4397812882,4930471211,4481075690]
["Randolph Township","1432","Morris",4971315939,5238182090,5689278302,5299592110.333333]
["Raritan Borough","1816","Somerset",1606038729,1689763324,1806047103,1700616385.3333333]
["Raritan Township","1021","Hunterdon",5153325874,5699953621,6124484615,5659254703.333333]
["Readington Township","1022","Hunterdon",3755486842,4011431760,4590818957,4119245853]
["Red Bank Borough","1340","Monmouth",2840349390,3152835530,3346112973,3113099297.6666665]
["Ridgefield Borough","0249","Bergen",2300420925,2684051634,2624669030,2536380529.6666665]
["Ridgefield Park Village","0250","Bergen",1878856389,2003431271,2137300035,2006529231.6666667]
["Ridgewood Village","0251","Bergen",7749485941,8368388622,8799972993,8305949185.333333]
["Ringwood Borough","1611","Passaic",2014926505,2196532921,2356403469,2189287631.6666665]
["River Edge Borough","0252","Bergen",2113434986,2307487618,2463707769,2294876791]
["River Vale Township","0253","Bergen",2327511040,2505303630,2777365516,2536726728.6666665]
["Riverdale Borough","1433","Morris",1041202900,1028677039,1090377023,1053418987.3333334]
["Riverside Township","0330","Burlington",537281605,603648787,689294015,610074802.33333337]
["Riverton Borough","0331","Burlington",324375618,353236077,387194414,354935369.66666669]
["Robbinsville Township","1112","Mercer",3251870593,3632526548,3984966045,3623121062]
["Rochelle Park Township","0254","Bergen",1141465517,1224147606,1399724505,1255112542.6666667]
["Rockaway Borough","1434","Morris",909832050,987190684,1037449180,978157304.66666663]
["Rockaway Township","1435","Morris",5202925713,5666278351,6287813282,5719005782]
["Rockleigh Borough","0255","Bergen",234376225,229027505,211457666,224953798.66666666]
["Rocky Hill Borough","1817","Somerset",137353979,162845455,173149543,157782992.33333334]
["Roosevelt Borough","1341","Monmouth",104916237,109263120,128266940,114148765.66666667]
["Roseland Borough","0718","Essex",1864419851,1945111935,2147576589,1985702791.6666667]
["Roselle Borough","2014","Union",1921901874,2271165531,2592460752,{"$f":"AVERAGE(D450:F450)","v":2261842719}]
["Roselle Park Borough","2015","Union",1609775216,1743012428,1875021933,1742603192.3333333]
["Roxbury Township","1436","Morris",4273443174,4543566496,4971767106,4596258925.333333]
["Rumson Borough","1342","Monmouth",4768493083,5101869964,5641064938,5170475995]
["Runnemede Borough","0430","Camden",658540562,738803933,843932554,747092349.66666663]
["Rutherford Borough","0256","Bergen",3519445090,3697458446,3775617541,3664173692.3333335]
["Saddle Brook Township","0257","Bergen",3014850062,3083846565,3613615589,3237437405.3333335]
["Saddle River Borough","0258","Bergen",2521162082,2528771166,2668320791,2572751346.3333335]
["Salem City","1712","Salem",164007487,181659685,215713124,187126765.33333334]
["Salem County","1700","Salem",5744667585,6471410840,7044583694,6420220706.333333]
["Sandyston Township","1917","Sussex",319287067,325946692,371322819,338852192.66666669]
["Sayreville Borough","1219","Middlesex",5918156559,6545133891,7017551418,6493613956]
["Scotch Plains Township","2016","Union",5061659034,5478807364,5965552282,5502006226.666667]
["Sea Bright Borough","1343","Monmouth",1142031070,1349964058,1429408738,1307134622]
["Sea Girt Borough","1344","Monmouth",3105515248,3771298664,3891169171,3589327694.3333335]
["Sea Isle City","0509","Cape May",8074767121,9162207853,9965156475,9067377149.666666]
["Seaside Heights Borough","1526","Ocean",931471403,1118833088,1312513672,1120939387.6666667]
["Seaside Park Borough","1527","Ocean",1493981970,1680635355,1878639129,1684418818]
["Secaucus Town","0909","Hudson",5869292895,5732062889,7820007755,6473787846.333333]
["Shamong Township","0332","Burlington",864501832,964584111,1073708091,967598011.33333337]
["Shiloh Borough","0611","Cumberland",37880112,38491794,39111283,38494396.333333336]
["Ship Bottom Borough","1528","Ocean",2010978630,2335093537,2568807101,2304959756]
["Shrewsbury Borough","1345","Monmouth",1490635267,1567298629,1638501042,1565478312.6666667]
["Shrewsbury Township","1346","Monmouth",66127687,97708095,105341260,89725680.666666672]
["Somerdale Borough","0431","Camden",460748741,520252833,566211864,515737812.66666669]
["Somers Point City","0121","Atlantic",1452757789,1691607496,1833241069,1659202118]
["Somerset County","1800","Somerset",72831712317,76950693613,83286098306,77689501412]
["Somerville Borough","1818","Somerset",1531746679,1657602527,1821391900,1670247035.3333333]
["South Amboy City","1220","Middlesex",1177785677,1297821278,1401735519,1292447491.3333333]
["South Bound Brook Borough","1819","Somerset",433032060,487243588,521696400,480657349.33333331]
["South Brunswick","1221","Middlesex",11038755167,11397123094,12137515115,11524464458.666666]
["South Hackensack Township","0259","Bergen",835612049,1067082767,1074802395,992499070.33333337]
["South Harrison Township","0816","Gloucester",526208826,599561744,662464798,596078456]
["South Orange Village","0719","Essex",3673031384,4108238254,4544608357,4108625998.3333335]
["South Plainfield Borough","1222","Middlesex",4476818015,5000144250,5420738898,4965900387.666667]
["South River Borough","1223","Middlesex",1847517212,2008559868,2250349319,2035475466.3333333]
["South Toms River Borough","1529","Ocean",301255719,345245793,381119233,342540248.33333331]
["Southampton Township","0333","Burlington",1477544045,1625782616,1766853307,1623393322.6666667]
["Sparta Township","1918","Sussex",3921517215,4340243186,4803779338,4355179913]
["Spotswood Borough","1224","Middlesex",1026866073,1107829113,1238104463,1124266549.6666667]
["Spring Lake Borough","1348","Monmouth",6059020002,6633935811,7034617300,6575857704.333333]
["Spring Lake Heights Borough","1349","Monmouth",1663392473,1833106430,2059583715,1852027539.3333333]
["Springfield Township (Burlington)","0334","Burlington",533016547,571159200,623131424,575769057]
["Springfield Township (Union)","2017","Union",4069058734,4168151762,4263959320,4167056605.3333335]
["Stafford Township","1530","Ocean",6500351678,7257276083,8021874754,7259834171.666667]
["Stanhope Borough","1919","Sussex",389388670,429747905,474547385,431227986.66666669]
["Stillwater Township","1920","Sussex",570059532,624009930,680071975,624713812.33333337]
["Stockton Borough","1023","Hunterdon",107108349,107948595,121999370,112352104.66666667]
["Stone Harbor Borough","0510","Cape May",7469753377,8512160211,9503892308,8495268632]
["Stow Creek Township","0612","Cumberland",140963196,130282930,124107936,131784687.33333333]
["Stratford Borough","0432","Camden",521437700,603042193,678564887,601014926.66666663]
["Summit City","2018","Union",8512942632,9146400280,10135820381,9265054431]
["Surf City Borough","1531","Ocean",2639665651,3095431763,3370195905,3035097773]
["Sussex Borough","1921","Sussex",152086983,155767340,175207875,161020732.66666666]
["Sussex County","1900","Sussex",21040542687,23209515116,25946576523,23398878108.666668]
["Swedesboro Borough","0817","Gloucester",225569173,248529564,281415079,251837938.66666666]
["Tabernacle Township","0335","Burlington",911048755,1039000440,1134191551,1028080248.6666666]
["Tavistock Borough","0433","Camden",17987216,21274399,21274399,20178671.333333332]
["Teaneck Township","0260","Bergen",7160393703,7870232279,8685293803,7905306595]
["Tenafly Borough","0261","Bergen",5020987561,5341547729,5813818842,5392118044]
["Teterboro Borough","0262","Bergen",638567627,652248260,634980185,641932024]
["Tewksbury Township","1024","Hunterdon",1787195058,1908165054,2015313241,1903557784.3333333]
["Tinton Falls Borough","1336","Monmouth",4599502527,4884688378,5381582856,4955257920.333333]
["Toms River Township","1507","Ocean",21532768510,23878634654,25480158813,23630520659]
["Totowa Borough","1612","Passaic",3481152946,4052156550,4808942133,{"$f":"AVERAGE(D514:F514)","v":4114083876.3333335}]
["Trenton City","1111","Mercer",2943628535,3370920631,3669688026,3328079064]
["Tuckerton Borough","1532","Ocean",556170584,651031805,719161427,642121272]
["Union Beach Borough","1350","Monmouth",852759368,911634699,1036811959,933735342]
["Union City","0910","Hudson",5226734235,5556195223,6664873214,5815934224]
["Union County","2000","Union",92105091244,99497384403,109183224578,100261900075]
["Union Township (Hunterdon)","1025","Hunterdon",984354310,1072460206,1159267367,1072027294.3333334]
["Union Township (Union)","2019","Union",9714217757,9941899135,10589606339,10081907743.666666]
["Upper Deerfield Township","0613","Cumberland",799529192,846817316,853778835,833375114.33333337]
["Upper Freehold Township","1351","Monmouth",1658067620,1792477741,1910797848,1787114403]
["Upper Pittsgrove Township","1714","Salem",365187225,408067983,439469422,404241543.33333331]
["Upper Saddle River Borough","0263","Bergen",2996103396,3331549179,3530407509,3286020028]
["Upper Township","0511","Cape May",2568921406,2802224517,3059589904,2810245275.6666665]
["Ventnor City","0122","Atlantic",2530859879,3221654938,3836367538,3196294118.3333335]
["Vernon Township","1922","Sussex",3102733768,3461856281,3837262480,3467284176.3333335]
["Verona Township","0720","Essex",2994050019,3144211425,3418707936,3185656460]
["Victory Gardens Borough","1437","Morris",97854520,105393998,116577818,106608778.66666667]
["Vineland City","0614","Cumberland",4877835862,5253029186,5874802288,5335222445.333333]
["Voorhees Township","0434","Camden",4177960969,4522120794,4883507440,4527863067.666667]
["Waldwick Borough","0264","Bergen",1941935438,2100886250,2334605157,2125808948.3333333]
["Wall Township","1352","Monmouth",8085722368,9130053187,9969133951,9061636502]
["Wallington Borough","0265","Bergen",1394475680,1502424525,1638563714,1511821306.3333333]
["Walpack Township","1923","Sussex",2614503,2614503,5980224,3736410]
["Wanaque Borough","1613","Passaic",1628099679,1744881764,1913816015,1762265819.3333333]
["Wantage Township","1924","Sussex",1441423420,1562838054,1657393585,1553885019.6666667]
["Warren County","2100","Warren",13320024215,14494727658,15671113533,14495288468.666666]
["Warren Township","1820","Somerset",4922792553,5132803038,5439164585,5164920058.666667]
["Washington Borough (Warren)","2121","Warren",555195820,657767753,725629185,646197586]
["Washington Township (Bergen)","0266","Bergen",2092991404,2226910814,2421314513,2247072243.6666665]
["Washington Township (Burlington)","0336","Burlington",114513452,139476842,123635285,125875193]
["Washington Township (Gloucester)","0818","Gloucester",6007867625,6489082177,7170596387,6555848729.666667]
["Washington Township (Morris)","1438","Morris",3247787610,3486343391,3789898741,3508009914]
["Washington Township (Warren)","2122","Warren",903720312,975989266,1047326272,975678616.66666663]
["Watchung Borough","1821","Somerset",1984560146,2079875543,2128673445,2064369711.3333333]
["Waterford Township","0435","Camden",981614339,1074526005,1182764755,1079635033]
["Wayne Township","1614","Passaic",11762768271,13937161435,13935298460,13211742722]
["Weehawken Township","0911","Hudson",4152201161,4232634244,4760762053,4381865819.333333]
["Wenonah Borough","0819","Gloucester",261860695,299954401,322377188,294730761.33333331]
["West Amwell Township","1026","Hunterdon",640011717,681268695,679737710,667006040.66666663]
["West Caldwell Township","0721","Essex",2787372203,2949081689,3073539015,2936664302.3333335]
["West Cape May Borough","0512","Cape May",906443424,1065355506,1118879941,1030226290.3333334]
["West Deptford Township","0820","Gloucester",2802217205,3246324572,3509082269,3185874682]
["West Long Branch Borough","1353","Monmouth",2105957204,2365622941,2700568992,2390716379]
["West Milford Township","1615","Passaic",3837074979,4182032386,4635742645,4218283336.6666665]
["West New York Town","0912","Hudson",3773075336,4096734759,4610544869,4160118321.3333335]
["West Orange Township","0722","Essex",7039551266,7595325978,8484167363,7706348202.333333]
["West Wildwood Borough","0513","Cape May",324993891,405706191,457794488,396164856.66666669]
["West Windsor Township","1113","Mercer",7410224049,8381784225,9415530609,8402512961]
["Westampton Township","0337","Burlington",1377494331,1500716500,1712048540,1530086457]
["Westfield Town","2020","Union",9166366819,9901951001,10786065167,9951460995.666666]
["Westville Borough","0821","Gloucester",302066261,346534848,397595206,348732105]
["Westwood Borough","0267","Bergen",2273571277,2390940986,2661591403,2442034555.3333335]
["Weymouth Township","0123","Atlantic",201290534,230613624,267458435,233120864.33333334]
["Wharton Borough","1439","Morris",884774039,897849303,1017906064,933509802]
["White Township","2123","Warren",677965106,736052250,799766580,737927978.66666663]
["Wildwood City","0514","Cape May",2136230921,2385131255,2783918125,2435093433.6666665]
["Wildwood Crest Borough","0515","Cape May",3099392017,3549553035,3985314787,3544753279.6666665]
["Willingboro Township","0338","Burlington",2388461441,2769200087,3111219291,2756293606.3333335]
["Winfield Township","2021","Union",16550150,16550150,16550150,16550150]
["Winslow Township","0436","Camden",3470222580,3946828109,4384207188,3933752625.6666665]
["Woodbine Borough","0516","Cape May",180936634,192608997,218268460,197271363.66666666]
["Woodbridge Township","1225","Middlesex",14265060769,14896837494,16921996786,15361298349.666666]
["Woodbury City","0822","Gloucester",747476901,849009296,934974509,843820235.33333337]
["Woodbury Heights Borough","0823","Gloucester",313191500,345070938,376012872,344758436.66666669]
["Woodcliff Lake Borough","0268","Bergen",2489864721,2614786633,2765178576,{"$f":"AVERAGE(D578:F578)","v":2623276643.3333335}]
["Woodland Park Borough","1616","Passaic",2184884496,2325380101,2568617935,2359627510.6666665]
["Woodland Township","0339","Burlington",174454484,192156219,190792401,185801034.66666666]
["Woodlynne Borough","0437","Camden",85645036,94623533,125454240,101907603]
["Wood-Ridge Borough","0269","Bergen",1822769425,1980949454,2156326339,1986681739.3333333]
["Woodstown Borough","1715","Salem",313072316,340855475,382941804,345623198.33333331]
["Woolwich Township","0824","Gloucester",1686766045,1945945078,2217887786,1950199636.3333333]
["Wrightstown Borough","0340","Burlington",53644873,70778824,72076951,65500216]
["Wyckoff Township","0270","Bergen",5090672710,5340857301,5749848679,5393792896.666667]

{"sheet":"Summary","index":1,"n_rows":48,"n_cols":29,"rows_kept":48,"cut":false,"hidden":false,"merged":[[23,9,23,17],[25,9,25,10],[12,9,12,19],[27,9,27,10],[26,9,26,10],[18,9,18,11],[38,11,38,17],[40,9,40,17],[29,11,29,13],[29,9,29,10],[45,10,45,19],[30,11,30,13],[31,11,31,13],[31,9,31,10],[30,9,30,10],[47,10,47,19],[7,11,7,14],[26,11,26,13],[27,11,27,13],[28,11,28,13],[42,9,42,17],[25,11,25,13],[46,10,46,19],[19,9,19,11],[20,9,20,11],[44,8,44,19],[37,11,37,17],[28,9,28,10],[39,11,39,17],[35,9,35,17],[34,9,34,17],[9,11,9,14],[1,8,1,19],[17,15,17,17],[3,11,3,13],[0,8,0,19],[14,9,14,19],[13,9,13,19],[10,17,10,19],[2,8,2,19],[10,11,10,14],[6,13,6,14],[9,17,9,19],[8,11,8,14],[7,17,7,19],[8,17,8,19],[11,11,11,14]]}
[null,null,null,null,null,null,null,null,"State of New Jersey"]
[{"$f":"MID(CELL(\"filename\",A2),FIND(\"]\",CELL(\"filename\",A2))+1,256)","v":"Summary"},{"$f":"ROW()","v":2},{"$f":"+J4","v":"Local Unit:"},{"$f":"R7","v":0},"sds",null," ",{"$f":"T4","v":"COUNTY"},"Department of Community Affairs"]
["Summary",{"$f":"ROW()","v":3},{"$f":"+J4","v":"Local Unit:"},{"$f":"R7","v":0},"sds",null," ",{"$f":"T4","v":"COUNTY"},"Supplemental Debt Statement"]
["Summary",{"$f":"ROW()","v":4},{"$f":"+J4","v":"Local Unit:"},{"$f":"R7","v":0},"sds","muni","code",{"$f":"T4","v":"COUNTY"},null,"Local Unit:",null,"ENTITY NAME",null,null,null,{"$f":"VLOOKUP(L4,Muni!A1:C586,2,FALSE)","v":"CODE"},null,"County:",null,{"$f":"VLOOKUP(L4,Muni!A1:C586,3,FALSE)","v":"COUNTY"}]
[null,null,null,null,null,null,null,null,null,null,null,null,null,null,null,null,null," Prepared as of:"]
["Summary",{"$f":"ROW()","v":6},{"$f":"+J4","v":"Local Unit:"},{"$f":"R7","v":0},"sds"," "," "]
["Summary",{"$f":"ROW()","v":7},{"$f":"+J4","v":"Local Unit:"},{"$f":"R7","v":0},"sds","bond","ord",{"$f":"T4","v":"COUNTY"},null,null,null,null,"Budget Year Ending:","December 31",null,2025]
["Summary",{"$f":"ROW()","v":8},{"$f":"+J4","v":"Local Unit:"},{"$f":"R7","v":0},"sds","cfo","name",{"$f":"T4","v":"COUNTY"},null,null,"Name:",null,null,null,null,"Phone:",null,null,null,null,null,null,null,null,null,null,null,null,"June 30"]
["Summary",{"$f":"ROW()","v":9},{"$f":"+J4","v":"Local Unit:"},{"$f":"R7","v":0},"sds","cfo","title",{"$f":"T4","v":"COUNTY"},null,null,"Title:",null,null,null,null,"Email:",null,null,null,null,null,null,null,null,null,null,null,null,"December 31"]
[{"$f":"MID(CELL(\"filename\",A10),FIND(\"]\",CELL(\"filename\",A10))+1,256)","v":"Summary"},{"$f":"ROW()","v":10},{"$f":"+J4","v":"Local Unit:"},{"$f":"R7","v":0},"sds","cfo","add1",{"$f":"T4","v":"COUNTY"},null,null,"CFO Cert. #",null,null,null,null,"Address:"]
[{"$f":"MID(CELL(\"filename\",A11),FIND(\"]\",CELL(\"filename\",A11))+1,256)","v":"Summary"},{"$f":"ROW()","v":11},{"$f":"+J4","v":"Local Unit:"},{"$f":"R7","v":0},"sds","cfo","add2",{"$f":"T4","v":"COUNTY"}]
[{"$f":"MID(CELL(\"filename\",A12),FIND(\"]\",CELL(\"filename\",A12))+1,256)","v":"Summary"},{"$f":"ROW()","v":12},{"$f":"+J4","v":"Local Unit:"},{"$f":"R7","v":0},"sds","cfo","add3",{"$f":"T4","v":"COUNTY"}]
[{"$f":"MID(CELL(\"filename\",A13),FIND(\"]\",CELL(\"filename\",A13))+1,256)","v":"Summary"},{"$f":"ROW()","v":13},{"$f":"+J4","v":"Local Unit:"},{"$f":"R7","v":0},"sds",null,null,{"$f":"T4","v":"COUNTY"},null,{"$f":"\"\"&L8&\", Being duly sworn, deposes and says:\"","v":", Being duly sworn, deposes and says:"}]
[null,null,null,null,null,null,null,null,null,{"$f":"\"Deponent is the Chief  Officer of \"&L4&\" here and in the statement hereinafter mentioned called the local unit.\"","v":"Deponent is the Chief  Officer of ENTITY NAME here and in the statement hereinafter mentioned called the local unit."}]
[null,null,null,null,null,null,null,null,null,"The Supplemental Debt Statement annexed hereto and hereby made a part hereof is a true statement of the debt condition of the local unit as of the date therein and is computed as provided by the Local Bond Law of New Jersey."]
["Summary",{"$f":"ROW()","v":16},{"$f":"+J4","v":"Local Unit:"},{"$f":"R7","v":0},"sds",null,null,{"$f":"T4","v":"COUNTY"},null,false,null,null,null,null,null,null,null,null,null,null,null," "]
["Summary",{"$f":"ROW()","v":17},{"$f":"+J4","v":"Local Unit:"},{"$f":"R7","v":0},"sds",null,null,{"$f":"T4","v":"COUNTY"},null,null,null,null,null,"Net Debt as per",null,"Decrease",null,"Increase"]
["Summary",{"$f":"ROW()","v":18},{"$f":"+J4","v":"Local Unit:"},{"$f":"R7","v":0},"sds",null,null,{"$f":"T4","v":"COUNTY"},null,null,null,null,null,"Annual Debt Statement",null,"(Since December 31, last past)",null,null,null,"Net Debt"]
["Summary",{"$f":"ROW()","v":19},{"$f":"+J4","v":"Local Unit:"},{"$f":"R7","v":0},"sds","bond","sp",{"$f":"T4","v":"COUNTY"},null,"Bonds and Notes for School Purposes (Local and Regional)",null,null,null,0,null,0,null,0,null,{"$f":"+N19-P19+R19","v":0}]
["Summary",{"$f":"ROW()","v":20},{"$f":"+J4","v":"Local Unit:"},{"$f":"R7","v":0},"sds","bond","slp",{"$f":"T4","v":"COUNTY"},null,"Bonds and Notes for Self Liquidating Purposes",null,null,null,0,null,0,null,0,null,{"$f":"+N20-P20+R20","v":0}]
["Summary",{"$f":"ROW()","v":21},{"$f":"+J4","v":"Local Unit:"},{"$f":"R7","v":0},"sds","bond","ban",{"$f":"T4","v":"COUNTY"},null,"Other Bonds and Notes",null,null,null,null,null,null,null,null,null,{"$f":"+N21-P21+R21","v":0}]
["Summary",{"$f":"ROW()","v":22},{"$f":"+J4","v":"Local Unit:"},{"$f":"R7","v":0},"sds","bond","tot",{"$f":"T4","v":"COUNTY"},null,"Net Debt at the time of this statement is………………………………………………………….",null,null,null,null,null,null,null,null,null,{"$f":"SUM(T19:T21)","v":0}]
["Summary",{"$f":"ROW()","v":23},{"$f":"+J4","v":"Local Unit:"},{"$f":"R7","v":0},"sds",null,null,{"$f":"T4","v":"COUNTY"}]
["Summary",{"$f":"ROW()","v":24},{"$f":"+J4","v":"Local Unit:"},{"$f":"R7","v":0},"sds",null,null,{"$f":"T4","v":"COUNTY"}," ","The amounts and purposes separately itemized of the obligations about to be authorized, and any deductions which may be made on account of each such item are: (see Note \"C\" below)"]
["Summary",{"$f":"ROW()","v":25},{"$f":"+J4","v":"Local Unit:"},{"$f":"R7","v":0},"sds",null,null,{"$f":"T4","v":"COUNTY"}]
["Summary",{"$f":"ROW()","v":26},{"$f":"+J4","v":"Local Unit:"},{"$f":"R7","v":0},"sds",null,null,{"$f":"T4","v":"COUNTY"},null,"Bond Ordinance ",null,"Purpose(s)",null,null,null,"Amount",null,"Deduction",null,"Net"]
["Summary",{"$f":"ROW()","v":27},{"$f":"+J4","v":"Local Unit:"},{"$f":"R7","v":0},"sds","ibond","i1",{"$f":"T4","v":"COUNTY"},null,null,null,null,null,null,null,0,null,0,null,{"$f":"+P27-R27","v":0}]
["Summary",{"$f":"ROW()","v":28},{"$f":"+J4","v":"Local Unit:"},{"$f":"R7","v":0},"sds","ibond","i2",{"$f":"T4","v":"COUNTY"},null,null,null,null,null,null,null,0,null,0,null,0]
["Summary",{"$f":"ROW()","v":29},{"$f":"+J4","v":"Local Unit:"},{"$f":"R7","v":0},"sds","ibond","i3",{"$f":"T4","v":"COUNTY"},null,null,null,null,null,null,null,0,null,0,null,0]
["Summary",{"$f":"ROW()","v":30},{"$f":"+J4","v":"Local Unit:"},{"$f":"R7","v":0},"sds","ibond","i4",{"$f":"T4","v":"COUNTY"},null,null,null,null,null,null,null,0,null,0,null,0]
["Summary",{"$f":"ROW()","v":31},{"$f":"+J4","v":"Local Unit:"},{"$f":"R7","v":0},"sds","ibond","i5",{"$f":"T4","v":"COUNTY"},null,null,null,null,null,null,null,0,null,0,null,0]
["Summary",{"$f":"ROW()","v":32},{"$f":"+J4","v":"Local Unit:"},{"$f":"R7","v":0},"sds","ibond","i6",{"$f":"T4","v":"COUNTY"},null,null,null,null,null,null,null,0,null,0,null,0]
["Summary",{"$f":"ROW()","v":33},{"$f":"+J3","v":0},{"$f":"T6","v":0},"sds","ibond",null,{"$f":"T4","v":"COUNTY"},null,null,null,null,null,null,null,{"$f":"SUM(P27:P32)","v":0},null,{"$f":"SUM(R27:R32)","v":0},null,{"$f":"SUM(T27:T32)","v":0}]
["Summary",{"$f":"ROW()","v":34},{"$f":"+J4","v":"Local Unit:"},{"$f":"R7","v":0},"sds","ibond",null,{"$f":"T4","v":"COUNTY"}]
["Summary",{"$f":"ROW()","v":35},{"$f":"+J4","v":"Local Unit:"},{"$f":"R7","v":0},"sds","ibond","itot",{"$f":"T4","v":"COUNTY"},4,"The net debt of the local unit determined by the addition of the net debt amounts stated in items 2 and 3 above is:",null,null,null,null,null,null,null,null,null,{"$f":"+T22+T33","v":0}]
["Summary",{"$f":"ROW()","v":36},{"$f":"+J4","v":"Local Unit:"},{"$f":"R7","v":0},"sds",null,null,{"$f":"T4","v":"COUNTY"},5,"Equalized valuation basis (the average of the equalized valuations of real estate, including improvements and the assessed valuation of class II railroad property of the local unit for the last 3 preceding years) as stated in the Annual Debt Statement or the revision therof last filed."]
["Summary",{"$f":"ROW()","v":37},{"$f":"+J4","v":"Local Unit:"},{"$f":"R7","v":0},"sds",null,null,{"$f":"T4","v":"COUNTY"},null,null,"Year"]
["Summary",{"$f":"ROW()","v":38},{"$f":"+J4","v":"Local Unit:"},{"$f":"R7","v":0},"sds","Eqval",1,{"$f":"T4","v":"COUNTY"},null,"(1)",{"$f":"TEXT(N7-1096, \"yyyy\")","v":"2022"},"Equalized Valuation Real Property with Improvements plus assessed valuation of Class II RR Property",null,null,null,null,null,null,null,{"$f":"IF(L4=\"ENTITY NAME\",\"\",VLOOKUP(L4,Muni!A1:F586,4,FALSE))","v":""}]
["Summary",{"$f":"ROW()","v":39},{"$f":"+J4","v":"Local Unit:"},{"$f":"R7","v":0},"sds","Eqval",2,{"$f":"T4","v":"COUNTY"},null,"(2)",{"$f":"TEXT(N7-731, \"yyyy\")","v":"2023"},"Equalized Valuation Real Property with Improvements plus assessed valuation of Class II RR Property",null,null,null,null,null,null,null,{"$f":"IF(L4=\"ENTITY NAME\",\"\",VLOOKUP(L4,Muni!A1:F586,5,FALSE))","v":""}]
["Summary",{"$f":"ROW()","v":40},{"$f":"+J4","v":"Local Unit:"},{"$f":"R7","v":0},"sds","Eqval",3,{"$f":"T4","v":"COUNTY"},null,"(3)",{"$f":"TEXT(N7-366, \"yyyy\")","v":"2024"},"Equalized Valuation Real Property with Improvements plus assessed valuation of Class II RR Property",null,null,null,null,null,null,null,{"$f":"IF(L4=\"ENTITY NAME\",\"\",VLOOKUP(L4,Muni!A1:F586,6,FALSE))","v":""}]
["Summary",{"$f":"ROW()","v":41},{"$f":"+J4","v":"Local Unit:"},{"$f":"R7","v":0},"sds","Eqval","avg",{"$f":"T4","v":"COUNTY"},6,"Equalized Valuation Basis - Average of (1), (2) and (3)……………………………………………………………………..",null,null,null,null,null,null,null,null,null,{"$f":"AVERAGE(T38,T39,T40)","v":{"$error":"#DIV/0!"}}]
["Summary",{"$f":"ROW()","v":42},{"$f":"+J4","v":"Local Unit:"},{"$f":"R7","v":0},"sds",null,null,{"$f":"T4","v":"COUNTY"}]
["Summary",{"$f":"ROW()","v":43},{"$f":"+J4","v":"Local Unit:"},{"$f":"R7","v":0},"sds","Eqval","perc",{"$f":"T4","v":"COUNTY"},7,"Net Debt (Line 4 above) expressed as a percentage of such equalized valuation basis (Line 6 above) is:",null,null,null,null,null,null,null,null,null,{"$f":"+T35/T41","v":{"$error":"#DIV/0!"}}]
["Summary",{"$f":"ROW()","v":44},{"$f":"+J4","v":"Local Unit:"},{"$f":"R7","v":0},"sds",null,null,{"$f":"T4","v":"COUNTY"}]
[{"$f":"MID(CELL(\"filename\",A45),FIND(\"]\",CELL(\"filename\",A45))+1,256)","v":"Summary"},{"$f":"ROW()","v":45},{"$f":"+J4","v":"Local Unit:"},{"$f":"R7","v":0},"sds",null,null,{"$f":"T4","v":"COUNTY"},"NOTES"]
[{"$f":"MID(CELL(\"filename\",A46),FIND(\"]\",CELL(\"filename\",A46))+1,256)","v":"Summary"},{"$f":"ROW()","v":46},{"$f":"+J4","v":"Local Unit:"},{"$f":"R7","v":0},"sds",null,null,{"$f":"T4","v":"COUNTY"},null,"A","If authorization of bonds or notes is permitted by an exception to the debt limit, specify the particular paragraph of NJSA 40A:2-7 or other section of law providing such exception."]
[{"$f":"MID(CELL(\"filename\",A47),FIND(\"]\",CELL(\"filename\",A47))+1,256)","v":"Summary"},{"$f":"ROW()","v":47},{"$f":"+J4","v":"Local Unit:"},{"$f":"R7","v":0},"sds",null,null,{"$f":"T4","v":"COUNTY"},null,"B","This form is also to be used in the bonding of separate (not Type I) school districts as required by NJSA 18A:24-16, and filed before the school district election.  In such case pages 4, 5 and 6 should be completed to set forth the computation supporting any deduction in line 3 above."]
[{"$f":"MID(CELL(\"filename\",A48),FIND(\"]\",CELL(\"filename\",A48))+1,256)","v":"Summary"},{"$f":"ROW()","v":48},{"$f":"+J4","v":"Local Unit:"},{"$f":"R7","v":0},"sds",null,null,{"$f":"T4","v":"COUNTY"},null,"C","Only the account of bonds or notes about to be authorized should be entered.  The amount of the \"down payment\" provided in the bond ordinance should not be included nor shown as a deduction."]

{"sheet":"Self Liquidating","index":2,"n_rows":15,"n_cols":16,"rows_kept":15,"cut":false,"hidden":false,"merged":[[0,8,0,15],[1,8,1,15],[13,9,13,10],[5,9,5,10],[6,9,6,10],[7,9,7,10],[8,9,8,10]]}
[{"$f":"MID(CELL(\"filename\",A1),FIND(\"]\",CELL(\"filename\",A1))+1,256)","v":"Self Liquidating"},{"$f":"ROW()","v":1},{"$f":"Summary!J4","v":"Local Unit:"},{"$f":"Summary!R7","v":0},"sds"," "," ",{"$f":"Summary!T4","v":"COUNTY"},"COMPUTATION AS TO INDEBTEDNESS FOR IMPROVEMENT OR EXTENSION OF AN"]
[{"$f":"MID(CELL(\"filename\",A2),FIND(\"]\",CELL(\"filename\",A2))+1,256)","v":"Self Liquidating"},{"$f":"ROW()","v":2},{"$f":"Summary!J4","v":"Local Unit:"},{"$f":"Summary!R7","v":0},"sds"," "," ",{"$f":"Summary!T4","v":"COUNTY"},"EXISTING MUNICIPAL PUBLIC UTILITY, NJSA 40A:2-7(h); NJSA 40A:2-47(a)"]
[]
[{"$f":"MID(CELL(\"filename\",A4),FIND(\"]\",CELL(\"filename\",A4))+1,256)","v":"Self Liquidating"},{"$f":"ROW()","v":4},{"$f":"Summary!J4","v":"Local Unit:"},{"$f":"Summary!R7","v":0},"sds","mpu","util",{"$f":"Summary!T4","v":"COUNTY"},null,null,"Municipal Public Utility:"]
[]
[{"$f":"MID(CELL(\"filename\",A6),FIND(\"]\",CELL(\"filename\",A6))+1,256)","v":"Self Liquidating"},{"$f":"ROW()","v":6},{"$f":"Summary!J4","v":"Local Unit:"},{"$f":"Summary!R7","v":0},"sds","mpu","xru",{"$f":"Summary!T4","v":"COUNTY"},1,"Annual Debt Statement, excess in revenues of utility",null,null,0,0,0,0]
["Self Liquidating",{"$f":"ROW()","v":7},{"$f":"Summary!J4","v":"Local Unit:"},{"$f":"Summary!R7","v":0},"sds","mpu","lidr",{"$f":"Summary!T4","v":"COUNTY"},2,"Less Interest and principal computed as provided in NJSA 40A:2-47(a) for all obligations authorized but not issued to the extent not already charged to income in the annual debt statement.",null,null,0,0,0,0]
["Self Liquidating",{"$f":"ROW()","v":8},{"$f":"Summary!J4","v":"Local Unit:"},{"$f":"Summary!R7","v":0},"sds","mpu","xrrp",{"$f":"Summary!T4","v":"COUNTY"},3,"Excess revenue prior to authorizing proposed obligations = (line 1 minus line 2)",null,{"$f":"+L6-L7","v":0},{"$f":"+M6-M7","v":0},{"$f":"+N6-N7","v":0},{"$f":"+O6-O7","v":0},{"$f":"+P6-P7","v":0}]
["Self Liquidating",{"$f":"ROW()","v":9},{"$f":"Summary!J4","v":"Local Unit:"},{"$f":"Summary!R7","v":0},"sds","mpu","idrc",{"$f":"Summary!T4","v":"COUNTY"},4,"Interest and principal calculated for proposed obligations NJSA 40A:2-47(a)"]
["Self Liquidating",{"$f":"ROW()","v":10},{"$f":"Summary!J4","v":"Local Unit:"},{"$f":"Summary!R7","v":0},"sds","mpu","i1y",{"$f":"Summary!T4","v":"COUNTY"},null,"(a) Interest for one year at 4 1/2% ",null,null,0,0,0,0]
["Self Liquidating",{"$f":"ROW()","v":11},{"$f":"Summary!J4","v":"Local Unit:"},{"$f":"Summary!R7","v":0},"sds","mpu","fisb",{"$f":"Summary!T4","v":"COUNTY"},null,"(b) First installment of serial bonds legally issuable",null,null,0,0,0,0]
["Self Liquidating",{"$f":"ROW()","v":12},{"$f":"Summary!J4","v":"Local Unit:"},{"$f":"Summary!R7","v":0},"sds","mpu","tcab",{"$f":"Summary!T4","v":"COUNTY"},null,"(c) Total charges (Items (a) and (b))",null,{"$f":"L10+L11","v":0},{"$f":"M10+M11","v":0},{"$f":"N10+N11","v":0},{"$f":"O10+O11","v":0},{"$f":"P10+P11","v":0}]
[]
["Self Liquidating",{"$f":"ROW()","v":14},{"$f":"Summary!J4","v":"Local Unit:"},{"$f":"Summary!R7","v":0},"sds",null,null,{"$f":"Summary!T4","v":"COUNTY"},null,"Note: If line 3 equals or exceeds line 4, obligations may be authorized under the provisions of NJSA 40A:2-7(h) as limited by NJSA 40A:2-47(a)."]
[{"$f":"MID(CELL(\"filename\",A15),FIND(\"]\",CELL(\"filename\",A15))+1,256)","v":"Self Liquidating"},{"$f":"ROW()","v":15},{"$f":"+Summary!J4","v":"Local Unit:"},{"$f":"Summary!R7","v":0},"sds",null,null,{"$f":"Summary!T4","v":"COUNTY"}]

{"sheet":"Local School","index":3,"n_rows":29,"n_cols":15,"rows_kept":29,"cut":false,"hidden":false,"merged":[[0,8,0,14],[12,9,12,12],[21,9,21,12]]}
[{"$f":"MID(CELL(\"filename\",A1),FIND(\"]\",CELL(\"filename\",A1))+1,256)","v":"Local School"},{"$f":"ROW()","v":1},{"$f":"Summary!J4","v":"Local Unit:"},{"$f":"Summary!R7","v":0},"sds",null,null,{"$f":"Summary!T4","v":"COUNTY"},"COMPUTATION OF SCHOOL INDEBTEDNESS AND DEDUCTIONS UNDER PROVISIONS OF NJSA 18A: 24-17"]
["Local School",{"$f":"ROW()","v":2},"0103",{"$f":"Summary!R7","v":0},"sds",null,null,{"$f":"Summary!T4","v":"COUNTY"},null,null,"Check if municipality or county has no local school district. "]
["Local School",{"$f":"ROW()","v":3},"0103",{"$f":"Summary!R7","v":0},"sds",null,null,{"$f":"Summary!T4","v":"COUNTY"},null,"NJSA 18A:24-19 (Lines 1 to 7)"]
["Local School",{"$f":"ROW()","v":4},"0103",{"$f":"Summary!R7","v":0},"sds","sid",null,{"$f":"Summary!T4","v":"COUNTY"},1,"Average of equalized valuations (page 1, line 3) ",null,null,null,null,{"$f":"Summary!T41","v":{"$error":"#DIV/0!"}}]
["Local School",{"$f":"ROW()","v":5},"0103",{"$f":"Summary!R7","v":0},"sds","sid",null,{"$f":"Summary!T4","v":"COUNTY"},2,"Gross School District Debt outstanding and authorized but not issued (not including proposed issue)",null,null,null,null,0]
["Local School",{"$f":"ROW()","v":6},"0103",{"$f":"Summary!R7","v":0},"sds","sid",null,{"$f":"Summary!T4","v":"COUNTY"},3,"Less: Sinking funds held for payment of School Debt, by Sinking Fund Commission ",null,null,null,null,0]
["Local School",{"$f":"ROW()","v":7},"0103",{"$f":"Summary!R7","v":0},"sds","sid",null,{"$f":"Summary!T4","v":"COUNTY"},4,"Net debt for school purposes (line 2, minus line 3) ",null,null,null,null,{"$f":"+O5-O6","v":0}]
["Local School",{"$f":"ROW()","v":8},"0103",{"$f":"Summary!R7","v":0},"sds","sid",null,{"$f":"Summary!T4","v":"COUNTY"},5,"Debt deduction for school purposes’ % (as per line_below) ",null,null,null,0,{"$f":"+N8*O4","v":{"$error":"#DIV/0!"}}]
["Local School",{"$f":"ROW()","v":9},"0103",{"$f":"Summary!R7","v":0},"sds","sid",null,{"$f":"Summary!T4","v":"COUNTY"},null,null,"(a) 2½% Kindergarten or Grade 1 through Grade 6 "]
["Local School",{"$f":"ROW()","v":10},"0103",{"$f":"Summary!R7","v":0},"sds","sid",null,{"$f":"Summary!T4","v":"COUNTY"},null,null,"(b) 3 % Kindergarten or Grade 1 through Grade 8"]
["Local School",{"$f":"ROW()","v":11},"0103",{"$f":"Summary!R7","v":0},"sds","sid",null,{"$f":"Summary!T4","v":"COUNTY"},null,null,"(c) 3½% Kindergarten or Grade 1 through Grade 9 "]
["Local School",{"$f":"ROW()","v":12},"0103",{"$f":"Summary!R7","v":0},"sds","sid",null,{"$f":"Summary!T4","v":"COUNTY"},null,null,"(d) 4 % Kindergarten or Grade 1 through Grade 12 "]
["Local School",{"$f":"ROW()","v":13},"0103",{"$f":"Summary!R7","v":0},"sds","sid",null,{"$f":"Summary!T4","v":"COUNTY"},6,"Available debt deduction (excess, if any, of line 5 over line 4) ",null,null,null,null,{"$f":"+O8-O7","v":{"$error":"#DIV/0!"}}]
["Local School",{"$f":"ROW()","v":14},"0103",{"$f":"Summary!R7","v":0},"sds","sid",null,{"$f":"Summary!T4","v":"COUNTY"},7,"School Bonds about to be authorized ",null,null,null,null,0]
["Local School",{"$f":"ROW()","v":15},"0103",{"$f":"Summary!R7","v":0},"sds","sid",null,{"$f":"Summary!T4","v":"COUNTY"},null,"Note: Omit lines 8 to 13, if line 6 equals or exceeds line 7. or if shown on line 17"]
["Local School",{"$f":"ROW()","v":16},"0103",{"$f":"Summary!R7","v":0},"sds","sid",null,{"$f":"Summary!T4","v":"COUNTY"},null,"NJSA 18A:24-22 (Lines 8 to 13)"]
["Local School",{"$f":"ROW()","v":17},"0103",{"$f":"Summary!R7","v":0},"sds","sid",null,{"$f":"Summary!T4","v":"COUNTY"},8,"Excess of line 7 over line 6",null,null,null,null,{"$f":"+O14-O13","v":{"$error":"#DIV/0!"}}]
["Local School",{"$f":"ROW()","v":18},"0103",{"$f":"Summary!R7","v":0},"sds","sid",null,{"$f":"Summary!T4","v":"COUNTY"},9,"Municipal Debt Limit (3½% of line 1 above) ",null,null,null,null,{"$f":"0.035*O4","v":{"$error":"#DIV/0!"}}]
["Local School",{"$f":"ROW()","v":19},"0103",{"$f":"Summary!R7","v":0},"sds","sid",null,{"$f":"Summary!T4","v":"COUNTY"},10,"Net Debt",null,null,null,null,{"$f":"+Summary!T22","v":0}]
["Local School",{"$f":"ROW()","v":20},"0103",{"$f":"Summary!R7","v":0},"sds","sid",null,{"$f":"Summary!T4","v":"COUNTY"},11,"Available Municipal Borrowing Margin (excess, if any, of line 9 over line 10) ",null,null,null,null,{"$f":"+O18-O19","v":{"$error":"#DIV/0!"}}]
["Local School",{"$f":"ROW()","v":21},"0103",{"$f":"Summary!R7","v":0},"sds","sid",null,{"$f":"Summary!T4","v":"COUNTY"},12,"Use of Municipal Borrowing Margin (line 8 not exceeding line 11) ",null,null,null,null,{"$f":"+O17","v":{"$error":"#DIV/0!"}}]
["Local School",{"$f":"ROW()","v":22},"0103",{"$f":"Summary!R7","v":0},"sds","sid",null,{"$f":"Summary!T4","v":"COUNTY"},13,"Remaining Municipal Borrowing Margin after authorization of proposed School Bonds (line 11 minus line 12) ",null,null,null,null,{"$f":"+O20-O21","v":{"$error":"#DIV/0!"}}]
["Local School",{"$f":"ROW()","v":23},"0103",{"$f":"Summary!R7","v":0},"sds","sid",null,{"$f":"Summary!T4","v":"COUNTY"},null,"Note: Omit lines 14 to 16, if line 11 equals or exceeds line 8, or if shown on line 17"]
["Local School",{"$f":"ROW()","v":24},"0103",{"$f":"Summary!R7","v":0},"sds","sid",null,{"$f":"Summary!T4","v":"COUNTY"},null,"NJSA 18A:24-24 (lines 14 to 16)"]
["Local School",{"$f":"ROW()","v":25},"0103",{"$f":"Summary!R7","v":0},"sds","sid",null,{"$f":"Summary!T4","v":"COUNTY"},14,"Amount of line 7 ",null,null,null,null,{"$f":"+O14","v":0}]
["Local School",{"$f":"ROW()","v":26},"0103",{"$f":"Summary!R7","v":0},"sds","sid",null,{"$f":"Summary!T4","v":"COUNTY"},15,"Amount of Deduction:",null,"(a) Amount of line 6",null,{"$f":"+O13","v":{"$error":"#DIV/0!"}}]
["Local School",{"$f":"ROW()","v":27},"0103",{"$f":"Summary!R7","v":0},"sds","sid",null,{"$f":"Summary!T4","v":"COUNTY"},null,null,null,"(b) Amount of line 11 ",null,{"$f":"+O20","v":{"$error":"#DIV/0!"}}]
["Local School",{"$f":"ROW()","v":28},"0103",{"$f":"Summary!R7","v":0},"sds","sid",null,{"$f":"Summary!T4","v":"COUNTY"},null,null,null,"Total ",null,null,{"$f":"+N27+N26","v":{"$error":"#DIV/0!"}}]
["Local School",{"$f":"ROW()","v":29},"0103",{"$f":"Summary!R7","v":0},"sds","sid",null,{"$f":"Summary!T4","v":"COUNTY"},16,"Excess of line 14 over line 15",null,null,null,null,{"$f":"IF((+O25-O28)<1,0,(+O25-O28))","v":{"$error":"#DIV/0!"}}]

{"sheet":"Regional School","index":4,"n_rows":22,"n_cols":14,"rows_kept":22,"cut":false,"hidden":false,"merged":[[3,9,3,10],[3,13,4,13],[3,11,4,11],[3,12,4,12],[0,8,0,13],[3,8,4,8]]}
[{"$f":"MID(CELL(\"filename\",A1),FIND(\"]\",CELL(\"filename\",A1))+1,256)","v":"Regional School"},{"$f":"ROW()","v":1},{"$f":"Summary!J4","v":"Local Unit:"},{"$f":"Summary!R7","v":0},"sds",null,null,{"$f":"Summary!T4","v":"COUNTY"},"Computation of Regional School Indebtedness"]
[null,null,null,null,null,null,null,null,null,"Check if municipality of county has no regional school district. "]
["Regional School",{"$f":"ROW()","v":3},{"$f":"Summary!J4","v":"Local Unit:"},{"$f":"Summary!R7","v":0},"sds",null,null,{"$f":"Summary!T4","v":"COUNTY"},null,1,2,3,4,5]
["Regional School",{"$f":"ROW()","v":4},{"$f":"Summary!J4","v":"Local Unit:"},{"$f":"Summary!R7","v":0},"sds",null,null,{"$f":"Summary!T4","v":"COUNTY"},"Municipality","Average Equalized Valuations           (N.J.S.A. 40A:2-43)",null,"Apportionment of Previous Bonds       Issued or Authorized","Amount Apportionment of Proposed Bond Issue","Total apportionment of previous bonds issued or authorized plus apportionment of proposed bond issue Column 3 plus 4"]
["Regional School",{"$f":"ROW()","v":5},{"$f":"Summary!J4","v":"Local Unit:"},{"$f":"Summary!R7","v":0},"sds",null,null,{"$f":"Summary!T4","v":"COUNTY"},null,"Amount","Percentage"]
["Regional School",{"$f":"ROW()","v":6},{"$f":"Summary!J4","v":"Local Unit:"},{"$f":"Summary!R7","v":0},"sds","regs","debt",{"$f":"Summary!T4","v":"COUNTY"},null,{"$f":"IF(I6=\"\",\"\",VLOOKUP(I6,Muni!A1:G587,7,FALSE))","v":""},{"$f":"IF(J6=\"\",\"\",J6/J$22)","v":""},{"$f":"IF(K6=\"\",\"\",$L$22*K6)","v":""},{"$f":"IF(K6=\"\",\"\",$M$22*K6)","v":""},{"$f":"SUM(L6:M6)","v":0}]
["Regional School",{"$f":"ROW()","v":7},{"$f":"Summary!J4","v":"Local Unit:"},{"$f":"Summary!R7","v":0},"sds","regs","debt",{"$f":"Summary!T4","v":"COUNTY"},null,{"$f":"IF(I7=\"\",\"\",VLOOKUP(I7,Muni!A2:G588,7,FALSE))","v":""},{"$f":"IF(J7=\"\",\"\",J7/J$22)","v":""},{"$f":"IF(K7=\"\",\"\",$L$22*K7)","v":""},{"$f":"IF(K7=\"\",\"\",$M$22*K7)","v":""},{"$f":"SUM(L7:M7)","v":0}]
["Regional School",{"$f":"ROW()","v":8},{"$f":"Summary!J4","v":"Local Unit:"},{"$f":"Summary!R7","v":0},"sds","regs","debt",{"$f":"Summary!T4","v":"COUNTY"},null,{"$f":"IF(I8=\"\",\"\",VLOOKUP(I8,Muni!A3:G589,7,FALSE))","v":""},"",{"$f":"IF(K8=\"\",\"\",$L$22*K8)","v":""},"",0]
["Regional School",{"$f":"ROW()","v":9},{"$f":"Summary!J4","v":"Local Unit:"},{"$f":"Summary!R7","v":0},"sds","regs","debt",{"$f":"Summary!T4","v":"COUNTY"},null,{"$f":"IF(I9=\"\",\"\",VLOOKUP(I9,Muni!A4:G590,7,FALSE))","v":""},"","","",0]
["Regional School",{"$f":"ROW()","v":10},{"$f":"Summary!J4","v":"Local Unit:"},{"$f":"Summary!R7","v":0},"sds","regs","debt",{"$f":"Summary!T4","v":"COUNTY"},null,{"$f":"IF(I10=\"\",\"\",VLOOKUP(I10,Muni!A5:G591,7,FALSE))","v":""},"","","",0]
["Regional School",{"$f":"ROW()","v":11},{"$f":"Summary!J4","v":"Local Unit:"},{"$f":"Summary!R7","v":0},"sds","regs","debt",{"$f":"Summary!T4","v":"COUNTY"},null,{"$f":"IF(I11=\"\",\"\",VLOOKUP(I11,Muni!A6:G592,7,FALSE))","v":""},"","","",0]
["Regional School",{"$f":"ROW()","v":12},{"$f":"Summary!J4","v":"Local Unit:"},{"$f":"Summary!R7","v":0},"sds","regs","debt",{"$f":"Summary!T4","v":"COUNTY"},null,{"$f":"IF(I12=\"\",\"\",VLOOKUP(I12,Muni!A7:G593,7,FALSE))","v":""},"","","",0]
["Regional School",{"$f":"ROW()","v":13},{"$f":"Summary!J4","v":"Local Unit:"},{"$f":"Summary!R7","v":0},"sds","regs","debt",{"$f":"Summary!T4","v":"COUNTY"},null,{"$f":"IF(I13=\"\",\"\",VLOOKUP(I13,Muni!A8:G594,7,FALSE))","v":""},"","","",0]
["Regional School",{"$f":"ROW()","v":14},{"$f":"Summary!J4","v":"Local Unit:"},{"$f":"Summary!R7","v":0},"sds","regs","debt",{"$f":"Summary!T4","v":"COUNTY"},null,{"$f":"IF(I14=\"\",\"\",VLOOKUP(I14,Muni!A9:G595,7,FALSE))","v":""},"","","",0]
["Regional School",{"$f":"ROW()","v":15},{"$f":"Summary!J4","v":"Local Unit:"},{"$f":"Summary!R7","v":0},"sds","regs","debt",{"$f":"Summary!T4","v":"COUNTY"},null,{"$f":"IF(I15=\"\",\"\",VLOOKUP(I15,Muni!A10:G596,7,FALSE))","v":""},"",{"$f":"IF(K15=\"\",\"\",$L$22*K15)","v":""},"",0]
["Regional School",{"$f":"ROW()","v":16},{"$f":"Summary!J4","v":"Local Unit:"},{"$f":"Summary!R7","v":0},"sds","regs","debt",{"$f":"Summary!T4","v":"COUNTY"},null,{"$f":"IF(I16=\"\",\"\",VLOOKUP(I16,Muni!A11:G597,7,FALSE))","v":""},"","","",0]
["Regional School",{"$f":"ROW()","v":17},{"$f":"Summary!J4","v":"Local Unit:"},{"$f":"Summary!R7","v":0},"sds","regs","debt",{"$f":"Summary!T4","v":"COUNTY"},null,{"$f":"IF(I17=\"\",\"\",VLOOKUP(I17,Muni!A12:G598,7,FALSE))","v":""},"","","",0]
["Regional School",{"$f":"ROW()","v":18},{"$f":"Summary!J4","v":"Local Unit:"},{"$f":"Summary!R7","v":0},"sds","regs","debt",{"$f":"Summary!T4","v":"COUNTY"},null,{"$f":"IF(I18=\"\",\"\",VLOOKUP(I18,Muni!A13:G599,7,FALSE))","v":""},"","","",0]
["Regional School",{"$f":"ROW()","v":19},{"$f":"Summary!J4","v":"Local Unit:"},{"$f":"Summary!R7","v":0},"sds","regs","debt",{"$f":"Summary!T4","v":"COUNTY"},null,{"$f":"IF(I19=\"\",\"\",VLOOKUP(I19,Muni!A14:G600,7,FALSE))","v":""},"","","",0]
["Regional School",{"$f":"ROW()","v":20},{"$f":"Summary!J4","v":"Local Unit:"},{"$f":"Summary!R7","v":0},"sds","regs","debt",{"$f":"Summary!T4","v":"COUNTY"},null,{"$f":"IF(I20=\"\",\"\",VLOOKUP(I20,Muni!A15:G601,7,FALSE))","v":""},"","","",0]
["Regional School",{"$f":"ROW()","v":21},{"$f":"Summary!J4","v":"Local Unit:"},{"$f":"Summary!R7","v":0},"sds","regs","debt",{"$f":"Summary!T4","v":"COUNTY"},null,{"$f":"IF(I21=\"\",\"\",VLOOKUP(I21,Muni!A16:G602,7,FALSE))","v":""},"","","",0]
["Regional School",{"$f":"ROW()","v":22},{"$f":"Summary!J4","v":"Local Unit:"},{"$f":"Summary!R7","v":0},"sds","cspd","tot",{"$f":"Summary!T4","v":"COUNTY"},"Totals",{"$f":"SUM(J6:J21)","v":0},{"$f":"SUM(K6:K21)","v":0},null,0,{"$f":"SUM(N6:N21)","v":0}]

{"sheet":"Spec Borrowing Power","index":5,"n_rows":25,"n_cols":12,"rows_kept":25,"cut":false,"hidden":false,"merged":[[24,9,24,11],[10,9,10,10],[11,9,11,11],[13,9,13,10],[14,9,14,10],[15,9,15,10],[16,9,16,10],[0,9,0,11],[1,9,1,11],[3,9,3,10],[4,9,4,10],[17,9,17,10]]}
[{"$f":"MID(CELL(\"filename\",#REF!),FIND(\"]\",CELL(\"filename\",#REF!))+1,256)","v":{"$error":"#REF!"}},{"$f":"ROW()","v":1},{"$f":"+Summary!J4","v":"Local Unit:"},{"$f":"Summary!R7","v":0},"sds",null,null,{"$f":"Summary!T4","v":"COUNTY"},null,"SPECIAL DEBT STATEMENT"]
[{"$f":"MID(CELL(\"filename\",#REF!),FIND(\"]\",CELL(\"filename\",#REF!))+1,256)","v":{"$error":"#REF!"}},{"$f":"ROW()","v":2},{"$f":"+Summary!J4","v":"Local Unit:"},{"$f":"Summary!R7","v":0},"sds",null,null,{"$f":"Summary!T4","v":"COUNTY"},null,"BORROWING POWER AVAILABLE UNDER N.J.S.A. 40A:2-7(f)"]
[{"$f":"MID(CELL(\"filename\",#REF!),FIND(\"]\",CELL(\"filename\",#REF!))+1,256)","v":{"$error":"#REF!"}},{"$f":"ROW()","v":3},{"$f":"+Summary!J4","v":"Local Unit:"},{"$f":"Summary!R7","v":0},"sds",null,null,{"$f":"Summary!T4","v":"COUNTY"}]
[{"$f":"MID(CELL(\"filename\",#REF!),FIND(\"]\",CELL(\"filename\",#REF!))+1,256)","v":{"$error":"#REF!"}},{"$f":"ROW()","v":4},{"$f":"+Summary!J4","v":"Local Unit:"},{"$f":"Summary!R7","v":0},"sds","bpa","acdc",{"$f":"Summary!T4","v":"COUNTY"},1,"Amount of accumulated debt incurring capacity under RS 40:1-16(d) as shown on the latest Annual Debt Statement. ",null,0]
[{"$f":"MID(CELL(\"filename\",#REF!),FIND(\"]\",CELL(\"filename\",#REF!))+1,256)","v":{"$error":"#REF!"}},{"$f":"ROW()","v":5},{"$f":"+Summary!J4","v":"Local Unit:"},{"$f":"Summary!R7","v":0},"sds","bpa",null,{"$f":"Summary!T4","v":"COUNTY"},2,"Obligations heretofore authorized in excess of debt limitation and pursuant to:"]
[{"$f":"MID(CELL(\"filename\",#REF!),FIND(\"]\",CELL(\"filename\",#REF!))+1,256)","v":{"$error":"#REF!"}},{"$f":"ROW()","v":6},{"$f":"+Summary!J4","v":"Local Unit:"},{"$f":"Summary!R7","v":0},"sds","bpa","27d",{"$f":"Summary!T4","v":"COUNTY"},null,"(a) NJSA 40A:2-7(d)",0]
[{"$f":"MID(CELL(\"filename\",#REF!),FIND(\"]\",CELL(\"filename\",#REF!))+1,256)","v":{"$error":"#REF!"}},{"$f":"ROW()","v":7},{"$f":"+Summary!J4","v":"Local Unit:"},{"$f":"Summary!R7","v":0},"sds","bpa","27f",{"$f":"Summary!T4","v":"COUNTY"},null,"(b) NJSA 40A:2-7(f) ",0]
[{"$f":"MID(CELL(\"filename\",#REF!),FIND(\"]\",CELL(\"filename\",#REF!))+1,256)","v":{"$error":"#REF!"}},{"$f":"ROW()","v":8},{"$f":"+Summary!J4","v":"Local Unit:"},{"$f":"Summary!R7","v":0},"sds","bpa","27g",{"$f":"Summary!T4","v":"COUNTY"},null,"(c) NJSA 40A:2-7(g)",0]
[{"$f":"MID(CELL(\"filename\",#REF!),FIND(\"]\",CELL(\"filename\",#REF!))+1,256)","v":{"$error":"#REF!"}},{"$f":"ROW()","v":9},{"$f":"+Summary!J4","v":"Local Unit:"},{"$f":"Summary!R7","v":0},"sds","bpa","27t",{"$f":"Summary!T4","v":"COUNTY"},null,"Total ",null,{"$f":"SUM(K6:K8)","v":0}]
[{"$f":"MID(CELL(\"filename\",#REF!),FIND(\"]\",CELL(\"filename\",#REF!))+1,256)","v":{"$error":"#REF!"}},{"$f":"ROW()","v":10},{"$f":"+Summary!J4","v":"Local Unit:"},{"$f":"Summary!R7","v":0},"sds","bpa","adic",{"$f":"Summary!T4","v":"COUNTY"},3,"Available debt incurring capacity (N.J.S.A. 40A:2-7(f)) ",null,0]
[{"$f":"MID(CELL(\"filename\",#REF!),FIND(\"]\",CELL(\"filename\",#REF!))+1,256)","v":{"$error":"#REF!"}},{"$f":"ROW()","v":11},{"$f":"+Summary!J4","v":"Local Unit:"},{"$f":"Summary!R7","v":0},"sds","bpa",null,{"$f":"Summary!T4","v":"COUNTY"},4,"Obligations about to be authorized pursuant toNJSA 40A :2-7(f) (If item 3 equals or exceeds item 4, obligations may be authorized)",null,0]
[{"$f":"MID(CELL(\"filename\",A12),FIND(\"]\",CELL(\"filename\",A12))+1,256)","v":"Spec Borrowing Power"},{"$f":"ROW()","v":12},{"$f":"+Summary!J4","v":"Local Unit:"},{"$f":"Summary!R7","v":0},"sds",null,null,{"$f":"Summary!T4","v":"COUNTY"},null,"BORROWING POWER AVAILABLE UNDER NJSA 40A:2-7(g)"]
["Spec Borrowing Power",{"$f":"ROW()","v":13},{"$f":"+Summary!J4","v":"Local Unit:"},{"$f":"Summary!R7","v":0},"sds",null,null,{"$f":"Summary!T4","v":"COUNTY"}]
["Spec Borrowing Power",{"$f":"ROW()","v":14},{"$f":"+Summary!J4","v":"Local Unit:"},{"$f":"Summary!R7","v":0},"sds","bs","tapo",{"$f":"Summary!T4","v":"COUNTY"},1,"Total appropriations made in local unit budget for current fiscal year for payment of obligations of local unit included in Annual Debt Statement or revision thereof last filed as of the end of the preceding fiscal year.",null,0]
["Spec Borrowing Power",{"$f":"ROW()","v":15},{"$f":"+Summary!J4","v":"Local Unit:"},{"$f":"Summary!R7","v":0},"sds","bs","locu",{"$f":"Summary!T4","v":"COUNTY"},2,"Less the amount of such obligations which constitute utility and assessment obligations: ",null,0]
["Spec Borrowing Power",{"$f":"ROW()","v":16},{"$f":"+Summary!J4","v":"Local Unit:"},{"$f":"Summary!R7","v":0},"sds","bs","xtapo",{"$f":"Summary!T4","v":"COUNTY"},3,"Excess of item 1 over item 2: ",null,{"$f":"L14-L15","v":0}]
["Spec Borrowing Power",{"$f":"ROW()","v":17},{"$f":"+Summary!J4","v":"Local Unit:"},{"$f":"Summary!R7","v":0},"sds","bs","tlps",{"$f":"Summary!T4","v":"COUNTY"},4,"Amount raised in the tax levy of the current fiscal year by the local unit for the payment of bonds or notes of any school district ",null,0]
["Spec Borrowing Power",{"$f":"ROW()","v":18},{"$f":"+Summary!J4","v":"Local Unit:"},{"$f":"Summary!R7","v":0},"sds","bs","tot66",{"$f":"Summary!T4","v":"COUNTY"},5,"Amount equal to 2/3 of the sum of item 3 and item 4 ",null,{"$f":"L16+L17*0.66667","v":0}]
["Spec Borrowing Power",{"$f":"ROW()","v":19},{"$f":"+Summary!J4","v":"Local Unit:"},{"$f":"Summary!R7","v":0},"sds","bs","aoau",{"$f":"Summary!T4","v":"COUNTY"},6,"(a) Amount of obligations heretofore authorized under NJSA 40A:2-7(g) in current fiscal year",0]
["Spec Borrowing Power",{"$f":"ROW()","v":20},{"$f":"+Summary!J4","v":"Local Unit:"},{"$f":"Summary!R7","v":0},"sds","bs","aarep",{"$f":"Summary!T4","v":"COUNTY"},null,"(b) Amount of authorizations included in 6(a) which were heretofore repealed ",0]
["Spec Borrowing Power",{"$f":"ROW()","v":21},{"$f":"+Summary!J4","v":"Local Unit:"},{"$f":"Summary!R7","v":0},"sds","bs",null,{"$f":"Summary!T4","v":"COUNTY"},null,"(c) Excess of item 6(a) over item 6(b) ",null,{"$f":"K19-K20","v":0}]
["Spec Borrowing Power",{"$f":"ROW()","v":22},{"$f":"+Summary!J4","v":"Local Unit:"},{"$f":"Summary!R7","v":0},"sds","bs","xor",{"$f":"Summary!T4","v":"COUNTY"},7,"Excess of item 5 over item 6(c) ",null,{"$f":"L18-L21","v":0}]
["Spec Borrowing Power",{"$f":"ROW()","v":23},{"$f":"+Summary!J4","v":"Local Unit:"},{"$f":"Summary!R7","v":0},"sds","bs","otba",{"$f":"Summary!T4","v":"COUNTY"},8,"Obligations about to be authorized ",null,0]
["Spec Borrowing Power",{"$f":"ROW()","v":24},{"$f":"+Summary!J4","v":"Local Unit:"},{"$f":"Summary!R7","v":0},"sds","bs","bcr",{"$f":"Summary!T4","v":"COUNTY"},9,"Borrowing capacity still remaining after proposed authorization",null,{"$f":"L22-L23","v":0}]
["Spec Borrowing Power",{"$f":"ROW()","v":25},{"$f":"+Summary!J4","v":"Local Unit:"},{"$f":"Summary!R7","v":0},"sds",null,null,{"$f":"Summary!T4","v":"COUNTY"},null,"(item 7 less item 8) (If item 7 equals or exceeds item 8, obligations may be authorized)"]